BEGIN:VCALENDAR
VERSION:2.0
PRODID:-//Women Against Military Madness - ECPv6.15.20//NONSGML v1.0//EN
CALSCALE:GREGORIAN
METHOD:PUBLISH
X-ORIGINAL-URL:https://womenagainstmilitarymadness.org
X-WR-CALDESC:Events for Women Against Military Madness
REFRESH-INTERVAL;VALUE=DURATION:PT1H
X-Robots-Tag:noindex
X-PUBLISHED-TTL:PT1H
BEGIN:VTIMEZONE
TZID:America/Chicago
BEGIN:DAYLIGHT
TZOFFSETFROM:-0600
TZOFFSETTO:-0500
TZNAME:CDT
DTSTART:20250309T080000
END:DAYLIGHT
BEGIN:STANDARD
TZOFFSETFROM:-0500
TZOFFSETTO:-0600
TZNAME:CST
DTSTART:20251102T070000
END:STANDARD
BEGIN:DAYLIGHT
TZOFFSETFROM:-0600
TZOFFSETTO:-0500
TZNAME:CDT
DTSTART:20260308T080000
END:DAYLIGHT
BEGIN:STANDARD
TZOFFSETFROM:-0500
TZOFFSETTO:-0600
TZNAME:CST
DTSTART:20261101T070000
END:STANDARD
BEGIN:DAYLIGHT
TZOFFSETFROM:-0600
TZOFFSETTO:-0500
TZNAME:CDT
DTSTART:20270314T080000
END:DAYLIGHT
BEGIN:STANDARD
TZOFFSETFROM:-0500
TZOFFSETTO:-0600
TZNAME:CST
DTSTART:20271107T070000
END:STANDARD
END:VTIMEZONE
BEGIN:VEVENT
DTSTART;VALUE=DATE:20260501
DTEND;VALUE=DATE:20260502
DTSTAMP:20260423T144943
CREATED:20260309T221524Z
LAST-MODIFIED:20260309T221524Z
UID:10006358-1777593600-1777679999@womenagainstmilitarymadness.org
SUMMARY:20TH ANNUAL MAY DAY PROTEST!
DESCRIPTION:SAVE THE DATE: IMMIGRANTS AND WORKERS UNITE! May 1st\, 2026  \nCelebrate MIRAC’s 20th anniversary\, commemorating May Day\, International Workers’ Day\, to continue the fight for legalization for all & end deportations. \n 
URL:https://womenagainstmilitarymadness.org/events/20th-annual-may-day-protest/
CATEGORIES:Featured Events,Upcoming Events
ATTACH;FMTTYPE=image/webp:https://womenagainstmilitarymadness.org/wp-content/uploads/2026/03/MAYDAY.webp
END:VEVENT
BEGIN:VEVENT
DTSTART;TZID=America/Chicago:20260501T163000
DTEND;TZID=America/Chicago:20260501T183000
DTSTAMP:20260423T144943
CREATED:20260410T232902Z
LAST-MODIFIED:20260410T232902Z
UID:10006368-1777653000-1777660200@womenagainstmilitarymadness.org
SUMMARY:20TH ANNUAL INTERNATIONAL WORKERS DAY MARCH
DESCRIPTION:Friday\, May 1st @ 4:30 PM | Lake & Chicago\, Minneapolis\, MN \nImmigrants rise! \nWorkers unite!
URL:https://womenagainstmilitarymadness.org/events/20th-annual-international-workers-day-march/
LOCATION:Chicago Ave and E Lake St\, Chicago Ave and E Lake St\, Minneapolis\, MN\, 55407\, United States
CATEGORIES:Featured Events,Upcoming Events
ATTACH;FMTTYPE=image/webp:https://womenagainstmilitarymadness.org/wp-content/uploads/2026/04/2026Mayday.webp
END:VEVENT
END:VCALENDAR