BEGIN:VCALENDAR
VERSION:2.0
PRODID:-//Women Against Military Madness - ECPv6.15.20//NONSGML v1.0//EN
CALSCALE:GREGORIAN
METHOD:PUBLISH
X-ORIGINAL-URL:https://womenagainstmilitarymadness.org
X-WR-CALDESC:Events for Women Against Military Madness
REFRESH-INTERVAL;VALUE=DURATION:PT1H
X-Robots-Tag:noindex
X-PUBLISHED-TTL:PT1H
BEGIN:VTIMEZONE
TZID:America/Chicago
BEGIN:DAYLIGHT
TZOFFSETFROM:-0600
TZOFFSETTO:-0500
TZNAME:CDT
DTSTART:20210314T080000
END:DAYLIGHT
BEGIN:STANDARD
TZOFFSETFROM:-0500
TZOFFSETTO:-0600
TZNAME:CST
DTSTART:20211107T070000
END:STANDARD
BEGIN:DAYLIGHT
TZOFFSETFROM:-0600
TZOFFSETTO:-0500
TZNAME:CDT
DTSTART:20220313T080000
END:DAYLIGHT
BEGIN:STANDARD
TZOFFSETFROM:-0500
TZOFFSETTO:-0600
TZNAME:CST
DTSTART:20221106T070000
END:STANDARD
BEGIN:DAYLIGHT
TZOFFSETFROM:-0600
TZOFFSETTO:-0500
TZNAME:CDT
DTSTART:20230312T080000
END:DAYLIGHT
BEGIN:STANDARD
TZOFFSETFROM:-0500
TZOFFSETTO:-0600
TZNAME:CST
DTSTART:20231105T070000
END:STANDARD
BEGIN:DAYLIGHT
TZOFFSETFROM:-0600
TZOFFSETTO:-0500
TZNAME:CDT
DTSTART:20240310T080000
END:DAYLIGHT
BEGIN:STANDARD
TZOFFSETFROM:-0500
TZOFFSETTO:-0600
TZNAME:CST
DTSTART:20241103T070000
END:STANDARD
END:VTIMEZONE
BEGIN:VEVENT
DTSTART;TZID=America/Chicago:20230627T073000
DTEND;TZID=America/Chicago:20230627T083000
DTSTAMP:20260423T144741
CREATED:20220106T213915Z
LAST-MODIFIED:20220616T191922Z
UID:10001978-1687851000-1687854600@womenagainstmilitarymadness.org
SUMMARY:ICE Weekly Vigil
DESCRIPTION:The ICE Weekly Vigil occurs every Tuesday morning from 7:30-8:30 am at the Bishop Henry Whipple Federal Building. \nVigil Day and Time: Tuesday Morning  7:30 – 8:30 am. \nLocation: Outside the I.C.E. entrance on Minnehaha Ave next to the Fort Snelling Light Rail Station. \nInformation: 612-827-5364 \nKeep families together. Welcome immigrants. Demilitarize the Border. \nSigns are available or bring your own. Maintain social distancing. See our Facebook page for more information. \nHuman Rights activists hold vigil outside the I.C.E. entrance on Minnehaha Ave next to the Fort Snelling Light Rail Station. The regional headquarters for ICE is located in the Bishop Henry Whipple Federal Building where immigration court is also held. Detainees are transported from around the state and sometimes deported right after the hearing. Signs provided in support of immigration reform: Citizenship for DACA\, Asylum is a Human Right\, Demilitarize the Border\, No Human Being is Illegal\, No More ICE\, etc.
URL:https://womenagainstmilitarymadness.org/events/ice-vigil/2023-06-27/
LOCATION:Bishop Henry Whipple Federal Building\, 1 Federal Drive\, Saint Paul\, Minneapolis\, MN\, 55407\, United States
CATEGORIES:Recurring Events
ATTACH;FMTTYPE=image/jpeg:https://womenagainstmilitarymadness.org/wp-content/uploads/2022/01/ICEVigilImage.jpg
ORGANIZER;CN="Women Against Military Madness":MAILTO:general@wamm.me
END:VEVENT
BEGIN:VEVENT
DTSTART;TZID=America/Chicago:20230317T100000
DTEND;TZID=America/Chicago:20230317T120000
DTSTAMP:20260423T144741
CREATED:20220106T220559Z
LAST-MODIFIED:20220602T172624Z
UID:10002040-1679047200-1679054400@womenagainstmilitarymadness.org
SUMMARY:Solidarity Committee on the Americas
DESCRIPTION:Meetings: 10 am to 12 pm every Friday\nLocation: Online event \nSCOTA educates about the role of U.S. foreign policy in the military and economic oppression and intervention throughout Latin America and the Caribbean. SCOTA is action-oriented\, focusing on challenging U.S. hegemonic policies in the region and supporting the right of self-determination for all. \nMeeting ID: 852 2304 3558 \n+1 646 558 8656 US (New York)\n+1 301 715 8592 US (Washington DC)\n+1 312 626 6799 US (Chicago)\n+1 669 900 9128 US (San Jose)\n+1 253 215 8782 US (Tacoma)\n+1 346 248 7799 US (Houston) \nContact: 612-827-5364 or solidaritycommitteeofamericas@gmail.com \nCheck out our Facebook page here. \nLearn more about our work on the Women Against Military Madness website here.
URL:https://womenagainstmilitarymadness.org/events/solidarity-committee-on-the-americas/2023-03-17/
LOCATION:Online Event
CATEGORIES:Recurring Events
ATTACH;FMTTYPE=image/jpeg:https://womenagainstmilitarymadness.org/wp-content/uploads/2022/01/Solidarity-Committee-for-the-Americas-Event-Banner.jpg
ORGANIZER;CN="Women Against Military Madness":MAILTO:general@wamm.me
END:VEVENT
BEGIN:VEVENT
DTSTART;TZID=America/Chicago:20230308T160000
DTEND;TZID=America/Chicago:20230308T170000
DTSTAMP:20260423T144741
CREATED:20220106T190514Z
LAST-MODIFIED:20221028T192147Z
UID:10001924-1678291200-1678294800@womenagainstmilitarymadness.org
SUMMARY:Wednesday Vigil to End War
DESCRIPTION:The Vigil to End War is sponsored by the WAMM End War Committee (EWC). \nThe EWC is dedicated to ending U.S. involvement in war\, the threats of war\, and the production\, sale and use of the weapons of war. \nPlease wear a mask and maintain social distance! \nEvery Wednesday at the the Lake Street/Marshall Avenue Bridge \n4:00 pm – 5:00 pm between November 1st and March 31st\n5:00 pm – 6:00 pm between April 1st and October 31st \nSigns provided or bring your own. Check the WAMM calendar and Facebook events pages for special themes for the day! \nSponsored by the End War Committee \nIn 1999\, WAMM’s End War Committee partnered with other local activist groups to initiate a weekly vigil on the Lake Street and Marshal Avenue bridge in St.Paul. Originally in response to the U.S. and NATO bombings in Yugoslavia\, the vigil has continued weekly with different U.S. sanctions\, interventions\, and wars to protest. Every Wednesday for over 20 years—rain\, shine or below zero temps—activists in the Twin Cities have gathered to stand in solidarity with all those affected by U.S. militarism and to call for peace.
URL:https://womenagainstmilitarymadness.org/events/vigil-to-end-war/2023-03-08/
LOCATION:Lake Street/Marshall Avenue Bridge over the Mississippi River\, 4998-4800 E Lake Street\, Minneapolis\, MN\, 55407\, United States
CATEGORIES:Featured Events,Recurring Events
ATTACH;FMTTYPE=image/jpeg:https://womenagainstmilitarymadness.org/wp-content/uploads/2022/01/image-asset.jpeg
END:VEVENT
BEGIN:VEVENT
DTSTART;TZID=America/Chicago:20230227T093000
DTEND;TZID=America/Chicago:20230227T103000
DTSTAMP:20260423T144741
CREATED:20240618T201624Z
LAST-MODIFIED:20240618T201624Z
UID:10002069-1677490200-1677493800@womenagainstmilitarymadness.org
SUMMARY:Middle East Committee
DESCRIPTION:The Middle East Committee (MEC) is action oriented\, focused especially on challenging the unconditional political\, economic and military support the U.S. provides to Israel’s decades long illegal and unjust occupation of Palestine. MEC supports and works towards an equitable solution in accordance with International law. \nMeetings: 9:30 am on the second and fourth Monday of every month\nLocation: Online Event \nDial by your location\n+1 646 558 8656 US (New York)\n+1 301 715 8592 US (Washington DC)\n+1 312 626 6799 US (Chicago)\n+1 669 900 9128 US (San Jose)\n+1 253 215 8782 US (Tacoma)\n+1 346 248 7799 US (Houston)\nMeeting ID: 822 9322 6729 \nContact: 612-827-5364 or general@wamm.me \nCheck out our Facebook page here. \nCheck out our community page here.
URL:https://womenagainstmilitarymadness.org/events/middle-east/2023-02-27/
LOCATION:Online Event
CATEGORIES:Recurring Events
ATTACH;FMTTYPE=image/jpeg:https://womenagainstmilitarymadness.org/wp-content/uploads/2022/01/WAMM-Middle-East-Committee-Meeting-Banner-1.jpg
END:VEVENT
BEGIN:VEVENT
DTSTART;TZID=America/Chicago:20230113T100000
DTEND;TZID=America/Chicago:20230113T120000
DTSTAMP:20260423T144741
CREATED:20220106T220559Z
LAST-MODIFIED:20230105T235602Z
UID:10002043-1673604000-1673611200@womenagainstmilitarymadness.org
SUMMARY:SCOTA Meeting Cancelled
DESCRIPTION:Todays meeting replaced by Tuesday\, January 10 evening meeting \nContact: 612-827-5364 or solidaritycommitteeofamericas@gmail.com \nCheck out our Facebook page here. \nLearn more about our work on the Women Against Military Madness website here.
URL:https://womenagainstmilitarymadness.org/events/solidarity-committee-on-the-americas-2023-01-13-2/
LOCATION:Online Event
CATEGORIES:Recurring Events
ATTACH;FMTTYPE=image/jpeg:https://womenagainstmilitarymadness.org/wp-content/uploads/2022/01/Solidarity-Committee-for-the-Americas-Event-Banner.jpg
ORGANIZER;CN="Women Against Military Madness":MAILTO:general@wamm.me
END:VEVENT
BEGIN:VEVENT
DTSTART;TZID=America/Chicago:20230110T073000
DTEND;TZID=America/Chicago:20230110T090000
DTSTAMP:20260423T144741
CREATED:20220107T143210Z
LAST-MODIFIED:20220708T164814Z
UID:10002195-1673335800-1673341200@womenagainstmilitarymadness.org
SUMMARY:ICOM Monthly Vigil
DESCRIPTION:The ICOM Monthly Vigil takes place once a month at the Bishop Henry Whipple Federal Building. \n\nMeetings: Second Tuesday of the month from 7:30-9 am\nLocation: Bishop Henry Whipple Federal Building \n\nPlease wear masks and maintain social distancing. \nOn the second Tuesday of the month from 7:30-9am\, the WAMM ICE vigil joins with the Interfaith Community on Immigration (ICOM). \n* Masks are required. BYO signs.\n* Meet us at the South “ICE Only” gates \nSponsored by the Interfaith Coalition on Immigrant Rights (ICOM) \nSee their Facebook page
URL:https://womenagainstmilitarymadness.org/events/icom-vigil/2023-01-10/
LOCATION:Bishop Henry Whipple Federal Building\, 1 Federal Drive\, Saint Paul\, Minneapolis\, MN\, 55407\, United States
CATEGORIES:Recurring Events
ATTACH;FMTTYPE=image/jpeg:https://womenagainstmilitarymadness.org/wp-content/uploads/2022/01/ICOM-Vigil.jpeg
END:VEVENT
BEGIN:VEVENT
DTSTART;TZID=America/Chicago:20220425T093000
DTEND;TZID=America/Chicago:20220425T103000
DTSTAMP:20260423T144741
CREATED:20220107T135334Z
LAST-MODIFIED:20220420T131150Z
UID:10002071-1650879000-1650882600@womenagainstmilitarymadness.org
SUMMARY:Middle East
DESCRIPTION:Meetings: 9:30 am on the second and fourth Monday of every month\nLocation: Join Zoom Meeting \nDial by your location\n+1 646 558 8656 US (New York)\n+1 301 715 8592 US (Washington DC)\n+1 312 626 6799 US (Chicago)\n+1 669 900 9128 US (San Jose)\n+1 253 215 8782 US (Tacoma)\n+1 346 248 7799 US (Houston)\nMeeting ID: 822 9322 6729 \nContact: 612-827-5364 or general@wamm.me \nCheck out our Facebook page here. \nCheck out our community page here. \nMEC is action oriented\, focused especially on challenging the unconditional political\, economic and military support the U.S. provides to Israel’s decades long illegal and unjust occupation of Palestine. MEC supports and works towards an equitable solution in accordance with International law.
URL:https://womenagainstmilitarymadness.org/events/middle-east-2022-04-25/
LOCATION:Middle East Committee Zoom Meeting
CATEGORIES:Featured Events,Recurring Events
END:VEVENT
BEGIN:VEVENT
DTSTART;TZID=America/Chicago:20220422T100000
DTEND;TZID=America/Chicago:20220422T120000
DTSTAMP:20260423T144741
CREATED:20220106T220559Z
LAST-MODIFIED:20220420T130524Z
UID:10002042-1650621600-1650628800@womenagainstmilitarymadness.org
SUMMARY:Solidarity Committee on the Americas
DESCRIPTION:Meetings: 10 am to 12 pm every Friday\nLocation: Join Zoom Meeting \nMeeting ID: 852 2304 3558 \n+1 646 558 8656 US (New York)\n+1 301 715 8592 US (Washington DC)\n+1 312 626 6799 US (Chicago)\n+1 669 900 9128 US (San Jose)\n+1 253 215 8782 US (Tacoma)\n+1 346 248 7799 US (Houston) \nContact: 612-827-5364 or solidaritycommitteeofamericas@gmail.com \nCheck out our Facebook page here. \nLearn more about our work on the Women Against Military Madness website here.
URL:https://womenagainstmilitarymadness.org/events/solidarity-committee-on-the-americas-2022-04-22/
LOCATION:Middle East Committee Zoom Meeting
CATEGORIES:Featured Events,Recurring Events
ATTACH;FMTTYPE=image/png:https://womenagainstmilitarymadness.org/wp-content/uploads/2022/01/ScreenShot2018-08-09at9.58.23AM.png
ORGANIZER;CN="Women Against Military Madness":MAILTO:general@wamm.me
END:VEVENT
BEGIN:VEVENT
DTSTART;TZID=America/Chicago:20220421T073000
DTEND;TZID=America/Chicago:20220421T083000
DTSTAMP:20260423T144741
CREATED:20220106T213915Z
LAST-MODIFIED:20220420T130430Z
UID:10001980-1650526200-1650529800@womenagainstmilitarymadness.org
SUMMARY:ICE Vigil
DESCRIPTION:Changing to Thursday. \nWe noticed there hasn’t been any vans in a while and we have been told that immigration court is usually on Thursday mornings. So we are changing the weekly vigil to Thursdays. \nPlease wear masks and maintain social distancing. \nVigil Day and Time: Thursday Morning  7:30 – 8:30 am. \nLocation: ICE entrance Bishop Henry Whipple Federal Building\, Meet at the Fort Snelling Light Rail station on Minnehaha Ave. (GPS 6000 Minnehaha Ave.) \nInformation: 612-827-53645 \nKeep families together. Welcome immigrants. Demilitarize the Border. Signs are available or bring your own. See our Facebook page for more information. \nWAMM gathers at the I.C.E. driveway entrance where we stand in solidarity with refugees and immigrants who are facing persecution and detention throughout the United States. Inside is where immigrants’ lives are determined in court. Come to the Fort Snelling light rail station and you’ll be able to see where we are. \nOn the Second Tuesdays of the month\, the vigil is at a nearby location in front of the Bishop Whipple Building. This event is sponsored by the organization ICOM (Interfaith Coalition on Immigration). These two groups are NOT connected except some of the people attend both vigils.
URL:https://womenagainstmilitarymadness.org/events/ice-vigil-2022-04-21/
LOCATION:Bishop Henry Whipple Federal Building\, 1 Federal Drive\, Saint Paul\, Minneapolis\, MN\, 55407\, United States
CATEGORIES:Featured Events,Recurring Events
ATTACH;FMTTYPE=image/jpeg:https://womenagainstmilitarymadness.org/wp-content/uploads/2022/01/97515228_3409973112346062_2564234078601609216_o.jpeg
ORGANIZER;CN="Women Against Military Madness":MAILTO:general@wamm.me
END:VEVENT
BEGIN:VEVENT
DTSTART;TZID=America/Chicago:20220411T093000
DTEND;TZID=America/Chicago:20220411T103000
DTSTAMP:20260423T144741
CREATED:20220107T135334Z
LAST-MODIFIED:20220406T125321Z
UID:10002070-1649669400-1649673000@womenagainstmilitarymadness.org
SUMMARY:Middle East
DESCRIPTION:Meetings: 9:30 am on the second and fourth Monday of every month\nLocation: Join Zoom Meeting \nDial by your location\n+1 646 558 8656 US (New York)\n+1 301 715 8592 US (Washington DC)\n+1 312 626 6799 US (Chicago)\n+1 669 900 9128 US (San Jose)\n+1 253 215 8782 US (Tacoma)\n+1 346 248 7799 US (Houston)\nMeeting ID: 822 9322 6729 \nContact: 612-827-5364 or general@wamm.me \nCheck out our Facebook page here. \nCheck out our community page here. \nMEC is action oriented\, focused especially on challenging the unconditional political\, economic and military support the U.S. provides to Israel’s decades long illegal and unjust occupation of Palestine. MEC supports and works towards an equitable solution in accordance with International law.
URL:https://womenagainstmilitarymadness.org/events/middle-east-2022-04-11/
LOCATION:Middle East Committee Zoom Meeting
CATEGORIES:Featured Events,Recurring Events
END:VEVENT
BEGIN:VEVENT
DTSTART;TZID=America/Chicago:20220408T100000
DTEND;TZID=America/Chicago:20220408T120000
DTSTAMP:20260423T144741
CREATED:20220106T220559Z
LAST-MODIFIED:20220406T124558Z
UID:10002041-1649412000-1649419200@womenagainstmilitarymadness.org
SUMMARY:Solidarity Committee on the Americas
DESCRIPTION:Meetings: 10 am to 12 pm every Friday\nLocation: Join Zoom Meeting \nMeeting ID: 852 2304 3558 \n+1 646 558 8656 US (New York)\n+1 301 715 8592 US (Washington DC)\n+1 312 626 6799 US (Chicago)\n+1 669 900 9128 US (San Jose)\n+1 253 215 8782 US (Tacoma)\n+1 346 248 7799 US (Houston) \nContact: 612-827-5364 or solidaritycommitteeofamericas@gmail.com \nCheck out our Facebook page here. \nLearn more about our work on the Women Against Military Madness website here.
URL:https://womenagainstmilitarymadness.org/events/solidarity-committee-on-the-americas-2022-04-08/
LOCATION:Middle East Committee Zoom Meeting
CATEGORIES:Featured Events,Recurring Events
ATTACH;FMTTYPE=image/png:https://womenagainstmilitarymadness.org/wp-content/uploads/2022/01/ScreenShot2018-08-09at9.58.23AM.png
ORGANIZER;CN="Women Against Military Madness":MAILTO:general@wamm.me
END:VEVENT
BEGIN:VEVENT
DTSTART;TZID=America/Chicago:20220407T073000
DTEND;TZID=America/Chicago:20220407T083000
DTSTAMP:20260423T144741
CREATED:20220106T213915Z
LAST-MODIFIED:20220406T123315Z
UID:10001979-1649316600-1649320200@womenagainstmilitarymadness.org
SUMMARY:ICE Vigil
DESCRIPTION:Changing to Thursday. \nWe noticed there hasn’t been any vans in a while and we have been told that immigration court is usually on Thursday mornings. So we are changing the weekly vigil to Thursdays. \nPlease wear masks and maintain social distancing. \nVigil Day and Time: Thursday Morning  7:30 – 8:30 am. \nLocation: ICE entrance Bishop Henry Whipple Federal Building\, Meet at the Fort Snelling Light Rail station on Minnehaha Ave. (GPS 6000 Minnehaha Ave.) \nInformation: 612-827-53645 \nKeep families together. Welcome immigrants. Demilitarize the Border. Signs are available or bring your own. See our Facebook page for more information. \nWAMM gathers at the I.C.E. driveway entrance where we stand in solidarity with refugees and immigrants who are facing persecution and detention throughout the United States. Inside is where immigrants’ lives are determined in court. Come to the Fort Snelling light rail station and you’ll be able to see where we are. \nOn the Second Tuesdays of the month\, the vigil is at a nearby location in front of the Bishop Whipple Building. This event is sponsored by the organization ICOM (Interfaith Coalition on Immigration). These two groups are NOT connected except some of the people attend both vigils.
URL:https://womenagainstmilitarymadness.org/events/ice-vigil-2022-04-07/
LOCATION:Bishop Henry Whipple Federal Building\, 1 Federal Drive\, Saint Paul\, Minneapolis\, MN\, 55407\, United States
CATEGORIES:Featured Events,Recurring Events
ATTACH;FMTTYPE=image/jpeg:https://womenagainstmilitarymadness.org/wp-content/uploads/2022/01/97515228_3409973112346062_2564234078601609216_o.jpeg
ORGANIZER;CN="Women Against Military Madness":MAILTO:general@wamm.me
END:VEVENT
END:VCALENDAR