BEGIN:VCALENDAR
VERSION:2.0
PRODID:-//Women Against Military Madness - ECPv6.15.20//NONSGML v1.0//EN
CALSCALE:GREGORIAN
METHOD:PUBLISH
X-ORIGINAL-URL:https://womenagainstmilitarymadness.org
X-WR-CALDESC:Events for Women Against Military Madness
REFRESH-INTERVAL;VALUE=DURATION:PT1H
X-Robots-Tag:noindex
X-PUBLISHED-TTL:PT1H
BEGIN:VTIMEZONE
TZID:America/Chicago
BEGIN:DAYLIGHT
TZOFFSETFROM:-0600
TZOFFSETTO:-0500
TZNAME:CDT
DTSTART:20240310T080000
END:DAYLIGHT
BEGIN:STANDARD
TZOFFSETFROM:-0500
TZOFFSETTO:-0600
TZNAME:CST
DTSTART:20241103T070000
END:STANDARD
BEGIN:DAYLIGHT
TZOFFSETFROM:-0600
TZOFFSETTO:-0500
TZNAME:CDT
DTSTART:20250309T080000
END:DAYLIGHT
BEGIN:STANDARD
TZOFFSETFROM:-0500
TZOFFSETTO:-0600
TZNAME:CST
DTSTART:20251102T070000
END:STANDARD
BEGIN:DAYLIGHT
TZOFFSETFROM:-0600
TZOFFSETTO:-0500
TZNAME:CDT
DTSTART:20260308T080000
END:DAYLIGHT
BEGIN:STANDARD
TZOFFSETFROM:-0500
TZOFFSETTO:-0600
TZNAME:CST
DTSTART:20261101T070000
END:STANDARD
END:VTIMEZONE
BEGIN:VEVENT
DTSTART;TZID=America/Chicago:20251101T130000
DTEND;TZID=America/Chicago:20251101T150000
DTSTAMP:20260424T193641
CREATED:20251028T235306Z
LAST-MODIFIED:20251029T000841Z
UID:10006120-1762002000-1762009200@womenagainstmilitarymadness.org
SUMMARY:Nourish to Resist: Fall Festival
DESCRIPTION:Saturday\, November 1\, 2025\, 1 PM\, 3808 Nicollet Ave\, Minneapolis\, MN \nFAMM is excited to set up a Kid Zone at this fun\, family-friendly\, community-building FALL FESTIVAL orchestrated by our friends at @psltwincities and @alivenessmn ! \nAs of November 1st\, 440\,000 Minnesotans will lose access to sufficient food support. It’s up to our communities to support one another in a socio-political climate where food is treated as a commodity instead of a human right. \nIn addition to offering free food and tangible mutual aid resources\, PSL and the Aliveness Project will be facilitating conversations around how we can all better understand and address food justice and health inequities. \n7 Saturday\, Nov 1| 1:00 PM\nAliveness Project | 3808 Nicollet Ave\,\nMinneapolis MN \nOrganized by PSL Twin Cities and Aliveness Project\, endorsed by WAMM
URL:https://womenagainstmilitarymadness.org/events/nourish-to-resist-fall-festival/
LOCATION:Aliveness Project\, 3808 Nicollet Ave\, Minneapolis\, MN\, 55409\, United States
CATEGORIES:Featured Events,Upcoming Events
ATTACH;FMTTYPE=image/webp:https://womenagainstmilitarymadness.org/wp-content/uploads/2025/10/Nourish.webp
ORGANIZER;CN="Party for Socialism and Liberation - Minneapolis":MAILTO:pslmplsstp@gmail.com
END:VEVENT
BEGIN:VEVENT
DTSTART;TZID=America/Chicago:20251106T160000
DTEND;TZID=America/Chicago:20251106T173000
DTSTAMP:20260424T193641
CREATED:20251106T040906Z
LAST-MODIFIED:20251106T040906Z
UID:10006124-1762444800-1762450200@womenagainstmilitarymadness.org
SUMMARY:Hands Off! Venezuela Bannering Action
DESCRIPTION:Thursday\, November 6\, 2025\, 4 – 5:30 PM\, Loring Park Bridge (next to Walker Art Center) \n As Trump increases his attacks on Venezuela we need to show our opposition. Join the Anti-War Committee in our bannering to stand in solidarity with the people of Venezuela! Stop the attacks on Venezuela! No war for oil! Sovereignty and self-determination for the people of Venezuela!  \nOrganized by MN Anti War Committee and the Anti War Action Network
URL:https://womenagainstmilitarymadness.org/events/hands-off-venezuela-bannering-action/
LOCATION:Loring Park Bridge\, Loring Greenway\, Minneapolis\, MN\, 55403\, United States
CATEGORIES:Featured Events,Upcoming Events
ATTACH;FMTTYPE=image/webp:https://womenagainstmilitarymadness.org/wp-content/uploads/2025/11/HOV.webp
ORGANIZER;CN="Anti-War Committee":MAILTO:info@antiwarcommittee.org
END:VEVENT
BEGIN:VEVENT
DTSTART;TZID=America/Chicago:20251108T103000
DTEND;TZID=America/Chicago:20251108T113000
DTSTAMP:20260424T193641
CREATED:20251028T235707Z
LAST-MODIFIED:20251028T235707Z
UID:10006121-1762597800-1762601400@womenagainstmilitarymadness.org
SUMMARY:Kid-Led Protest to Divest!
DESCRIPTION:Saturday\, November 8\, 2025\, 10:30 AM\, MN Governor’s Residence\, 1006 Summit Ave\, St Paul\, MN \nCalling all kids and former kids! Our call for Minnesota to divest from genocide continues! \nJoin us for our monthly kid-friendly\, kid-led “Protest to Divest!” on Saturday\, November 8th at 10:30 AM outside the Minnesota Governor’s Residence. \nKids will learn how to participate in a protest using their own unique voice through chanting\, dancing\, drumming\, sign-making and more. We will have a bullhorn for kids to take turns leading and/or practicing calls and chants! \nWe’ll talk about olive harvest season\, read the book “Hilwa’s Gifts” and help kids and families make the connection between the attacks on Palestinians and their beloved olive trees during the harvest and the ongoing genocide and demand for divestment. \nSQUEAKY CLEAN CHANTS! SQUEAKY CLEAN MOUTHS!\nWe invite the community to help us collect items for our toothbrush and toothpaste drive supporting the vital mutual aid work our friends at Community Aid Network MN continue to do for our community. Bring new\, unopened toothbrushes (individually packaged\, or in small packaged quantities) and toothpaste! Don’t forget the kids! NO SPICY toothpaste for little mouths! Reach out to your neighbors and friends to expand your collection efforts. Bring the fruits of your labor to the protest and we’ll take it from there! \nAbout the discussion(s):\nWe believe that it’s never too early to talk to kids about oppression or have difficult conversations about uncomfortable but necessary topics. Our goal is to educate families using age-appropriate language and provide the community with a space to come together to learn\, grow and advocate for the collective liberation of everyone. \nAbout the location:\nThis action will be held on the public sidewalk in front of the publicly-owned Governor’s residence. It is accessible by bus via Route 63 (stop on Grand Ave/Chatsworth) and a .2 mile walk (approximately 4 minutes on foot). There are no public restrooms available. Organized by FAMM (a committee of WAMM)
URL:https://womenagainstmilitarymadness.org/events/kid-led-protest-to-divest/
LOCATION:Minnesota Governor’s Residence\, 1006 Summit Ave\, St Paul\, Minneapolis\, MN\, United States
CATEGORIES:Featured Events,Upcoming Events
ATTACH;FMTTYPE=image/webp:https://womenagainstmilitarymadness.org/wp-content/uploads/2025/10/PTD-e1766091704441.webp
END:VEVENT
BEGIN:VEVENT
DTSTART;TZID=America/Chicago:20251108T130000
DTEND;TZID=America/Chicago:20251108T160000
DTSTAMP:20260424T193641
CREATED:20251010T035402Z
LAST-MODIFIED:20251015T022444Z
UID:10006110-1762606800-1762617600@womenagainstmilitarymadness.org
SUMMARY:Activist Holiday Craft @ Bake Sale
DESCRIPTION:Saturday\, November 8th\, 1-4pm\, New City Center\, 3104 16th Ave S\, Minneapolis\, MN  \nThe annual Holiday Craft & Bake Sale is back!  \nShop for holiday gifts and baked goods\, all while supporting local progressive organizations! \n Saturday\, Nov 8th\n 1-4pm\nNew City Center (3104 16th Ave S\, Mpls)
URL:https://womenagainstmilitarymadness.org/events/activist-holiday-craft-bake-sale/
LOCATION:New City Center\, 3104 16th Ave So\, Minneapolis\, Minnesota
CATEGORIES:Featured Events,Upcoming Events
ATTACH;FMTTYPE=image/webp:https://womenagainstmilitarymadness.org/wp-content/uploads/2025/10/unnamed8.webp
END:VEVENT
BEGIN:VEVENT
DTSTART;TZID=America/Chicago:20251109T140000
DTEND;TZID=America/Chicago:20251109T160000
DTSTAMP:20260424T193641
CREATED:20251024T025806Z
LAST-MODIFIED:20251024T025806Z
UID:10006116-1762696800-1762704000@womenagainstmilitarymadness.org
SUMMARY:ART FOR THE PEOPLE: Graphic Design Training
DESCRIPTION:Sunday\, November 9\, 2025\, 2-4 PM\, Lucy Parsons Center\, 4100 S 28th Ave\, Minneapolis\, MN \nIN COLLAB WITH @mn_aac  2025 UPDATED Graphic Design and Social Media Training! \nOPEN TO ALL! \nWAMM\, MNAAC (MN Abortion Action Committee)\, and many more organizations within the progressive peoples’ movements have had to adapt and change with our world. We have been building our skills in community and online outreach\, graphic design\, creating videos\, and much more. We aim to share our skills with you! \nWANT TO GET INVOLVED IN ORGANIZING for Palestine\, reproductive healthcare access to all\, and to fight Trump’s Agenda? JOIN US! \n Sunday\, November 9\n 2 – 4 PM\n Lucy Parsons Center\, 4100 28th Ave S\, Minneapolis\, MN @lucyparsons.center \nStay tuned for virtual options for attendance. Organized by WAMM\, sponsored by MNAAC
URL:https://womenagainstmilitarymadness.org/events/art-for-the-people-graphic-design-training/
LOCATION:Lucy Parsons Center\, 4100 28th Ave S\, Minneapolis\, MN\, 55407\, United States
CATEGORIES:Featured Events,Upcoming Events
ATTACH;FMTTYPE=image/webp:https://womenagainstmilitarymadness.org/wp-content/uploads/2025/10/unnamed1.webp
ORGANIZER;CN="Women Against Military Madness":MAILTO:general@wamm.me
END:VEVENT
BEGIN:VEVENT
DTSTART;TZID=America/Chicago:20251109T150000
DTEND;TZID=America/Chicago:20251109T163000
DTSTAMP:20260424T193641
CREATED:20251106T041644Z
LAST-MODIFIED:20251106T041644Z
UID:10006125-1762700400-1762705800@womenagainstmilitarymadness.org
SUMMARY:Resisting ICE: A Talk with AZ Courts Project
DESCRIPTION:Sunday\, November 9\, 2025\, 3 PM CST\, Online event\, register here \nYoung WILPF US is hosting a powerful conversation you won’t want to miss\n— Resisting ICE: A Talk with the Arizona Courts Project\, happening\nSunday\, November 9th at 1PM PT / 4PM ET on Zoom. \nWe’ll be joined by two incredible movement leaders from the Arizona\nCourts Project\, Jovana Renteria (Justice Director) and Yakeleen Almazán\n(Community Engagement Director) \nTogether\, we’ll dig into how grassroots organizing and court action are\nbeing used to protect undocumented families and push back against ICE’s\nabuses of power. Sign up below and bring a friend. \nhttps://zoom.us/meeting/register/ghheXc5uRSCQETegqv_zMg \nOrganized by Women’s International League for Peace and Freedom – US Section\, endorsed by WAMM
URL:https://womenagainstmilitarymadness.org/events/resisting-ice-a-talk-with-az-courts-project/
LOCATION:Online Event
CATEGORIES:Featured Events,Upcoming Events
ATTACH;FMTTYPE=image/webp:https://womenagainstmilitarymadness.org/wp-content/uploads/2025/11/AZCourts.webp
END:VEVENT
BEGIN:VEVENT
DTSTART;TZID=America/Chicago:20251110T190000
DTEND;TZID=America/Chicago:20251110T203000
DTSTAMP:20260424T193642
CREATED:20251015T022820Z
LAST-MODIFIED:20251015T022820Z
UID:10006114-1762801200-1762806600@womenagainstmilitarymadness.org
SUMMARY:Boycott Film Screening
DESCRIPTION:Monday\, November 10\, 2025\, 7 PM\, 4200 Cedar Ave S\, Minneapolis \nBOYCOTT is a 2021 documentary film that looks at the cases of a publisher\, an attorney and a teacher whose careers were threatened by the harsh measures of anti-boycott laws…. Boycotts have long been a tool used by Americans rallying for political change\, from civil rights leaders to anti-apartheid activists. In recent years\, over 30 states have introduced anti-apartheid legislation designed to penalize individuals undertaking boycotts against Israel….The film looks at shifting politics and threats to freedom of speech. NYCDOC Thom Powers \nDirector: Julie Bacha I 2021 I US I 70 minutes \nPost screening discussion to be led by members of the Minnesota BDS Community regarding the effort to repeal the anti-boycott statutes in MN \nOrganized by WAMM Movie Committee
URL:https://womenagainstmilitarymadness.org/events/boycott-film-screening/
LOCATION:4200 Cedar Ave S\, Minneapolis MN 55407\, 4200 Cedar Ave S\, Minneapolis\, MN\, 55407\, United States
CATEGORIES:Featured Events,Upcoming Events
ATTACH;FMTTYPE=image/webp:https://womenagainstmilitarymadness.org/wp-content/uploads/2025/10/unnamed10.webp
ORGANIZER;CN="Second Sunday Movie Committee":MAILTO:director@wamm.me
END:VEVENT
BEGIN:VEVENT
DTSTART;TZID=America/Chicago:20251110T190000
DTEND;TZID=America/Chicago:20251110T203000
DTSTAMP:20260424T193642
CREATED:20251106T042008Z
LAST-MODIFIED:20251106T042008Z
UID:10006126-1762801200-1762806600@womenagainstmilitarymadness.org
SUMMARY:Preparing for the Federal Domestic Terrorism Apparatus
DESCRIPTION:Monday\, November 10\, 2025 ; 7:00 p.m. CST\, Online\, register HERE \nAs the administration moves to expand its domestic terrorism framework\, new policies and rhetoric are raising alarm among social justice advocates. A recently issued presidential directive\, National Security Presidential Memorandum (NSPM-7)\, reportedly identifies a range of progressive\, “anti-American\,” and “anti-Christian” beliefs as potential indicators of “terrorism.” Paired with inflammatory claims about so-called “transgender extremism” and Donald Trump’s executive order targeting “Antifa\,” these developments signal a disturbing effort to criminalize dissent and stigmatize marginalized communities. \n  \nThe National Lawyers Guild Review (NLGR) will bring together activists\, legal experts\, and organizers to unpack what these shifts mean in practice. This urgent conversation comes amid growing political attacks\, including Representative Lance Gooden’s (R–TX) formal request that the Department of Justice investigate the National Lawyers Guild (NLG) over its alleged association with “Antifa” or “antifascism.” Together\, we’ll explore: What’s new and concerning about the federal domestic terrorism apparatus How these policies may target activists\, trans people\, and other vulnerable communities Practical steps for staying informed\, secure\, and organized. \nRegister At: https://www.nlg.org/civicrm/event/register/?reset=1&id=90&fbclid=IwY2xjawN199hleHRuA2FlbQIxMABicmlkETFXVTcyeHFLbUJ3ZmViTHRsAR7avUPlIlAbdpAFctE-xpEQdBy2U8VSogw_sn0xrecbFbYZgkvtlrGeXn1fug_aem_b0WUYZDhov9Q63UMUZmqHA \nOrganized by National Lawyers Guild 
URL:https://womenagainstmilitarymadness.org/events/preparing-for-the-federal-domestic-terrorism-apparatus/
LOCATION:Online Event
CATEGORIES:Featured Events,Upcoming Events
ATTACH;FMTTYPE=image/webp:https://womenagainstmilitarymadness.org/wp-content/uploads/2025/11/NLG.webp
END:VEVENT
BEGIN:VEVENT
DTSTART;TZID=America/Chicago:20251111T103000
DTEND;TZID=America/Chicago:20251111T120000
DTSTAMP:20260424T193642
CREATED:20251106T042821Z
LAST-MODIFIED:20251106T042821Z
UID:10006127-1762857000-1762862400@womenagainstmilitarymadness.org
SUMMARY:Veterans For Peace Armistice Day Remembrance
DESCRIPTION:Tuesday\, November 11\, 2025\, 10:30 AM\, The Victory Memorial (victory mem. drive & 45th Ave No.)\, Minneapolis\, MN  \nSome will march from Dowling Ave and Victory memorial drive starting at 9:30 AM. near North Memorial Hospital \nThe ceremony begins at 10:30 AM and ends with the ringing of the bells at 11 AM.\nPoetry from Strong Buffalo and brief talk about “Why Armistice Day”\, and of course a bell ringing at 11 AM! Dress warmly!\nOrganized by VFP Chapter 27\, endorsed by WAMM\n 
URL:https://womenagainstmilitarymadness.org/events/veterans-for-peace-armistice-day-remembrance/
LOCATION:The Victory Memorial\, 4499 Victory Memorial Dr\, Minneapolis\, MN\, 55412\, United States
CATEGORIES:Featured Events,Upcoming Events
ATTACH;FMTTYPE=image/webp:https://womenagainstmilitarymadness.org/wp-content/uploads/2025/11/RAD.webp
ORGANIZER;CN="Veterans For Peace Chapter 27":MAILTO:vfpchapter27@gmail.com
END:VEVENT
BEGIN:VEVENT
DTSTART;TZID=America/Chicago:20251115T100000
DTEND;TZID=America/Chicago:20251115T113000
DTSTAMP:20260424T193642
CREATED:20251106T043539Z
LAST-MODIFIED:20251106T043539Z
UID:10006128-1763200800-1763206200@womenagainstmilitarymadness.org
SUMMARY:November MEPN Forum: Omer Bartov: "The Obliteration of Gaza and Israel's Futures"
DESCRIPTION:Saturday\, November 15\, 2025\, 10am-11:30am CST\, Zoom\, register here \nThis talk will analyze the origins and implementation of Israel’s campaign of demolition\, ethnic cleansing\, and genocide in Gaza\, and attempt to sketch out future scenarios in the wake of President Trump’s imposed ceasefire and 20-point plan. Will Israel become a full-blown apartheid state and an international pariah or is there still an opportunity for a new political paradigm and Palestinian statehood?\n\n\n\n\nAbout the speaker: Omer Bartov is an Israeli-American scholar and Dean’s Professor of Holocaust and Genocide Studies at Brown University. He has written widely on war crimes\, interethnic relations\, and genocide. Recent books\, published in multiple languages\, include Anatomy of a Genocide: The Life and Death of a Town Called Buczacz (2018)\, which won the National Jewish Book Award\, and Genocide\, the Holocaust and Israel-Palestine: First-Person History in Times of Crisis (2023)\, named Choice 2024 Outstanding Academic Title. Bartov’s essays and commentaries have been widely featured in national and international magazines and media outlets. His new book\, Israel: What Went Wrong? will be published in spring 2026 by FSG in the US and Penguin/Random Books in the UK\, as well as in several European languages and in Chinese. Bartov’s novel\, The Butterfly and the Axe\, was published in 2023 in the United States and Israel. \nThis Zoom webinar is free\, but registration is required. \nOrganized by Middle East Peace Now\, endorsed by WAMM Middle East Committee
URL:https://womenagainstmilitarymadness.org/events/november-mepn-forum-omer-bartov-the-obliteration-of-gaza-and-israels-futures/
LOCATION:Online Event
CATEGORIES:Featured Events,Upcoming Events
ATTACH;FMTTYPE=image/webp:https://womenagainstmilitarymadness.org/wp-content/uploads/2025/11/OB.webp
ORGANIZER;CN="Middle East Peace Now":MAILTO:mepn@mepn.org
END:VEVENT
BEGIN:VEVENT
DTSTART;TZID=America/Chicago:20251115T130000
DTEND;TZID=America/Chicago:20251115T160000
DTSTAMP:20260424T193642
CREATED:20251029T000254Z
LAST-MODIFIED:20251029T000254Z
UID:10006122-1763211600-1763222400@womenagainstmilitarymadness.org
SUMMARY:This is Not a Drill Movie Screening and Q+A with Roger Waters
DESCRIPTION:Saturday\, November 15\, 2025\, 1:00 – 3:45 PM\, Holy Trinity Church\, 2730 E 31st Street\, Minneapolis \nEnter on the East side of the building. \nThe parking lot entrance off Lake Street is between 28th and 29th Avenues – next to the “Trinity on Lake” building. \n4:00 PM: ROGER WATERS LIVE WITH Q&A ON ZOOM \nThis is Not A Drill\, with a message of love\, hope and unity\, is “dedicated to brothers and sisters all over the world who are engaged in the existential battle for the soul of humanity.” \nRoger is known worldwide for not only his music\, but his work for justice and peace. In 2025 he won the Artistic War Abolisher of 2025 Award from World Beyond War for his “incredibly powerful combination of songwriting\, singing\, speaking and performing against the horrors of war\,” in the words of David Swanson\, World Beyond War executive director. \nDirectors: Roger Waters\, Sean Evans / Distributed by Trafalgar\, Released 2025 / 2 h 24m \nThis is Not a Drill: Live From Prague is a 2023 concert film by Roger Waters\, featuring a live performance by Roger and the band. Roger is the cofounder of Pink Floyd. The film combines songs from his 60-year career with Pink Floyd and his solo work\, and is described as a stunning “cinematic extravaganza” with political commentary that includes elaborate staging and visual effects. \nThe show is an indictment of the militarism\, perpetual war\, imperialism\, settler colonialism\, and the “corporate dystopia” we all struggle to survive\, and a call to action to love\, protect\, and share our precious and precarious planet home. \nFilm cosponsors are Women Against Military Madness and Veterans For Peace Chapter 27\, with thanks to Holy Trinity Church for their support.
URL:https://womenagainstmilitarymadness.org/events/this-is-not-a-drill-movie-screening-and-qa-with-roger-waters/
LOCATION:Holy Trinity Lutheran Church\, 2730 East 31st Street\, Minneapolis\, MN\, 55406\, United States
CATEGORIES:Featured Events,Upcoming Events
ATTACH;FMTTYPE=image/webp:https://womenagainstmilitarymadness.org/wp-content/uploads/2025/10/TINAD.webp
ORGANIZER;CN="Women Against Military Madness":MAILTO:general@wamm.me
END:VEVENT
BEGIN:VEVENT
DTSTART;TZID=America/Chicago:20251118T163000
DTEND;TZID=America/Chicago:20251118T180000
DTSTAMP:20260424T193642
CREATED:20251113T221901Z
LAST-MODIFIED:20251113T221901Z
UID:10006130-1763483400-1763488800@womenagainstmilitarymadness.org
SUMMARY:U.S. Hands Off Venezuela! Rally + Protest
DESCRIPTION:Tuesday\, November 18\, 2025\, 4:30 PM chants start\, 5 PM Program\, 701 4th Ave S\, Minneapolis (Senator Klobuchar’s Office) \n\nJoin the Minnesota Peace Action Coalition on Tuesday\, November 18th at 4:30 p.m. outside Senator Klobuchar’s office to recognize the national week of protest against war on Venezuela!  \nAs the U.S. has killed 65 Venezuelan fisherpeople on boats and is now rushing military equipment to the coast of Venezuela\, we stand opposed to any U.S. military intervention in Venezuela just as we resist the military on our streets at home. Trump said on Oct 23 that there “will be land action in Venezuela soon.” And the U.S. is now sending the world’s largest aircraft carrier to the Caribbean\, signaling intent to start a new war. We know the U.S. seeks to control the resources as well as the government of Venezuela\, and we must stand against this domination! \n 701 4th Ave. S\, Minneapolis. (Outside Senator Klobuchar’s Office)\n Tuesday\, November 18\, 4:30 p.m. Chants\, 5:00 p.m. Program! \nOrganized by MN Peace Action Coalition
URL:https://womenagainstmilitarymadness.org/events/u-s-hands-off-venezuela-rally-protest/
LOCATION:Senator Amy Klobuchar’s Minneapolis Office\, 1200 S Washington Ave\, Minneapolis\, 55415-1227\, United States
CATEGORIES:Featured Events,Upcoming Events
ATTACH;FMTTYPE=image/webp:https://womenagainstmilitarymadness.org/wp-content/uploads/2025/11/unnamed.webp
END:VEVENT
BEGIN:VEVENT
DTSTART;TZID=America/Chicago:20251119T180000
DTEND;TZID=America/Chicago:20251119T193000
DTSTAMP:20260424T193642
CREATED:20251024T230412Z
LAST-MODIFIED:20251024T230412Z
UID:10006118-1763575200-1763580600@womenagainstmilitarymadness.org
SUMMARY:PACK THE BUDGET MEETING - CUT THE CONTRACT\, NO ZINCITY
DESCRIPTION:Wednesday\, November 19th\, 6:05 pm\, Minneapolis Public Service Center\, Room 350\, 250 S 4th St\, Minneapolis \n 
URL:https://womenagainstmilitarymadness.org/events/pack-the-budget-meeting-cut-the-contract-no-zincity/
LOCATION:Minneapolis Public Service Center\, 250 S 4th St\, Minneapolis\, MN\, 55415\, United States
CATEGORIES:Featured Events,Upcoming Events
ATTACH;FMTTYPE=image/webp:https://womenagainstmilitarymadness.org/wp-content/uploads/2025/10/PackTheMeeting.webp
END:VEVENT
BEGIN:VEVENT
DTSTART;VALUE=DATE:20251120
DTEND;VALUE=DATE:20251121
DTSTAMP:20260424T193642
CREATED:20251110T205620Z
LAST-MODIFIED:20251110T205629Z
UID:10006129-1763596800-1763683199@womenagainstmilitarymadness.org
SUMMARY:Give to the Max Day 2025
DESCRIPTION:Thursday\, November 20\, 2025\, All day\, Online at givemn.org \nGive to the Max started in 2009 as a one-time campaign to mark the launch of GiveMN.org\, Minnesota’s digital home for generosity. The results of that day—$14 million raised in just 24 hours—blew everyone’s expectations out of the water\, and a new Minnesota tradition was born. In fact\, Give to the Max was one of the nation’s first online giving days and now serves as a national model for giving days across the country. In the years since\, nearly one million donors have given more than $355 million to 14\,000 nonprofits and schools as part of Minnesota’s giving holiday. \nMark your calendars—Give to the Max Day returns for a 17th year on Thursday\, November 20\, 2025\, with Early Giving beginning on November 1. Visit GiveMN.org during that time to follow along with totals\, see prize winners\, and have your generosity counted as part of this year’s campaign. \nVisit WAMM’s page to donate and learn more about our mission at https://www.givemn.org/organization/Wamm
URL:https://womenagainstmilitarymadness.org/events/give-to-the-max-day-2025/
LOCATION:Online Event
CATEGORIES:Featured Events,Upcoming Events
ATTACH;FMTTYPE=image/webp:https://womenagainstmilitarymadness.org/wp-content/uploads/2025/11/gtmd25_ig.webp
END:VEVENT
BEGIN:VEVENT
DTSTART;TZID=America/Chicago:20251120T180000
DTEND;TZID=America/Chicago:20251120T193000
DTSTAMP:20260424T193642
CREATED:20251029T000658Z
LAST-MODIFIED:20251029T000658Z
UID:10006123-1763661600-1763667000@womenagainstmilitarymadness.org
SUMMARY:Transgender Day of Rememberance Vigil and Rally
DESCRIPTION:Thursday\, November 20\, 2025\, 6:00 – 7:30 PM\, Loring Park\, Minneapolis \nThis Trans Day of Remembrance\, join us in honoring and fighting for our murdered trans siblings with a rally and vigil in Loring Park. Now is the time to show up for trans lives. More details to come. Organized by MNAAC\, endorsed by WAMM
URL:https://womenagainstmilitarymadness.org/events/transgender-day-of-rememberance-vigil-and-rally/
LOCATION:Loring Park\, Minneapolis\, MN\, United States
CATEGORIES:Featured Events,Upcoming Events
ATTACH;FMTTYPE=image/webp:https://womenagainstmilitarymadness.org/wp-content/uploads/2025/10/TDOR.webp
ORGANIZER;CN="Minnesota Abortion Action Committee":MAILTO:info@mnaac.org
END:VEVENT
BEGIN:VEVENT
DTSTART;TZID=America/Chicago:20251122T130000
DTEND;TZID=America/Chicago:20251122T143000
DTSTAMP:20260424T193642
CREATED:20251113T222412Z
LAST-MODIFIED:20251113T222412Z
UID:10006131-1763816400-1763821800@womenagainstmilitarymadness.org
SUMMARY:Hands Off Sudan Protest
DESCRIPTION:Saturday\, November 22\, 2025\, 1 PM\, Loring Park Bridge\, Minneapolis \nJoin us Saturday\, November 22 at 1 PM at the Loring Park bridge right next to the Walker art museum for a protest and big banner drop for Sudan. We demand an arms embargo on the UAE and RSF and an end to all US military assistance to the UAE! Free Sudan ! \nOrganized by Anti War Committee
URL:https://womenagainstmilitarymadness.org/events/hands-off-sudan-protest/
LOCATION:Loring Park Bridge\, Loring Greenway\, Minneapolis\, MN\, 55403\, United States
CATEGORIES:Featured Events,Upcoming Events
ATTACH;FMTTYPE=image/webp:https://womenagainstmilitarymadness.org/wp-content/uploads/2025/11/HOS.webp
ORGANIZER;CN="Anti-War Committee":MAILTO:info@antiwarcommittee.org
END:VEVENT
END:VCALENDAR