BEGIN:VCALENDAR
VERSION:2.0
PRODID:-//Women Against Military Madness - ECPv6.15.20//NONSGML v1.0//EN
CALSCALE:GREGORIAN
METHOD:PUBLISH
X-WR-CALNAME:Women Against Military Madness
X-ORIGINAL-URL:https://womenagainstmilitarymadness.org
X-WR-CALDESC:Events for Women Against Military Madness
REFRESH-INTERVAL;VALUE=DURATION:PT1H
X-Robots-Tag:noindex
X-PUBLISHED-TTL:PT1H
BEGIN:VTIMEZONE
TZID:America/Chicago
BEGIN:DAYLIGHT
TZOFFSETFROM:-0600
TZOFFSETTO:-0500
TZNAME:CDT
DTSTART:20250309T080000
END:DAYLIGHT
BEGIN:STANDARD
TZOFFSETFROM:-0500
TZOFFSETTO:-0600
TZNAME:CST
DTSTART:20251102T070000
END:STANDARD
BEGIN:DAYLIGHT
TZOFFSETFROM:-0600
TZOFFSETTO:-0500
TZNAME:CDT
DTSTART:20260308T080000
END:DAYLIGHT
BEGIN:STANDARD
TZOFFSETFROM:-0500
TZOFFSETTO:-0600
TZNAME:CST
DTSTART:20261101T070000
END:STANDARD
BEGIN:DAYLIGHT
TZOFFSETFROM:-0600
TZOFFSETTO:-0500
TZNAME:CDT
DTSTART:20270314T080000
END:DAYLIGHT
BEGIN:STANDARD
TZOFFSETFROM:-0500
TZOFFSETTO:-0600
TZNAME:CST
DTSTART:20271107T070000
END:STANDARD
END:VTIMEZONE
BEGIN:VEVENT
DTSTART;TZID=America/Chicago:20260201T130000
DTEND;TZID=America/Chicago:20260201T160000
DTSTAMP:20260423T175955
CREATED:20260122T231732Z
LAST-MODIFIED:20260122T231732Z
UID:10006289-1769950800-1769961600@womenagainstmilitarymadness.org
SUMMARY:World Wetlands Day
DESCRIPTION:Sunday\, February 1\, 1 – 4 PM\, River Hub at Graco Park\, 810 Sibley St NE\, Minneapolis\nJoin Families Against Military Madness and the Climate Justice Committee on Sunday\, 2/1 for family-friendly environmental activism! \nWe will be honoring World Wetlands Day with environmental speakers\, story-tellers\, and chanters\, as well as having arts and crafts activities\, an environmental science education booth\, and more! \nBring your family and let’s get together and help future generations learn about protecting our local environment and fighting for a better future!
URL:https://womenagainstmilitarymadness.org/events/world-wetlands-day/
LOCATION:River Hub at Graco Park\, 810 Sibley St NE.\, Minneapolis\, MN\, 55413\, United States
CATEGORIES:Featured Events,Upcoming Events
ATTACH;FMTTYPE=image/webp:https://womenagainstmilitarymadness.org/wp-content/uploads/2026/01/Wetlands3.webp
END:VEVENT
BEGIN:VEVENT
DTSTART;TZID=America/Chicago:20260206T170000
DTEND;TZID=America/Chicago:20260206T190000
DTSTAMP:20260423T175955
CREATED:20260206T220943Z
LAST-MODIFIED:20260206T220943Z
UID:10006296-1770397200-1770404400@womenagainstmilitarymadness.org
SUMMARY:Protest— Tell Walz: MN won't sell out for ICE!
DESCRIPTION:Friday\, February 6\, 5 pm\, Governor’s Mansion\, 1006 Summit Ave\, St Paul \n\nPROTEST!!! \nWalz wants to cave to Trump’s demands and give ICE the blessing to terrorize immigrants in Minnesota. We say – hell no! Minnesota has shown again and again that we will fight back until ICE is out of our state and out of every state! \nOrganized by MIRAC\, CAIR\, TCC4J\, WIAOFC\, AWC. Endorsed by WAMM
URL:https://womenagainstmilitarymadness.org/events/protest-tell-walz-mn-wont-sell-out-for-ice/
LOCATION:Minnesota Governor’s Residence\, 1006 Summit Ave\, St Paul\, Minneapolis\, MN\, United States
CATEGORIES:Featured Events,Upcoming Events
ATTACH;FMTTYPE=image/png:https://womenagainstmilitarymadness.org/wp-content/uploads/2026/02/TellWalz.png
END:VEVENT
BEGIN:VEVENT
DTSTART;TZID=America/Chicago:20260207T113000
DTEND;TZID=America/Chicago:20260207T133000
DTSTAMP:20260423T175955
CREATED:20260206T221813Z
LAST-MODIFIED:20260206T221813Z
UID:10006297-1770463800-1770471000@womenagainstmilitarymadness.org
SUMMARY:No Racist Hate in Our State Car Caravan
DESCRIPTION:Saturday\, February 7\, 11:30 am\, Sears lot across from the MN State Capitol\, Fuller & Rice St\, St Paul \n NO RACIST HATE IN OUR STATE! \n CAR CARAVAN!  \nOnce again\, Jake Lang\, right wing influencer\, January 6er\, and notorious white supremacist\, has decided to come to MN. Join the People’s Action Coalition Against Trump to tell him once again his hateful rhetoric is not welcome in MN! \n Saturdays\, February 7\, 11:30 am\nSears lot across from the Capitol\, Fuller & Rice St\, St. Paul \nOrganized by PACAT
URL:https://womenagainstmilitarymadness.org/events/no-racist-hate-in-our-state-car-caravan/
LOCATION:Old Sears Lot\, 425 Rice St\, St Paul\, min\, 55103
CATEGORIES:Featured Events,Upcoming Events
ATTACH;FMTTYPE=image/webp:https://womenagainstmilitarymadness.org/wp-content/uploads/2026/02/NoRacistHate.webp
END:VEVENT
BEGIN:VEVENT
DTSTART;TZID=America/Chicago:20260207T160000
DTEND;TZID=America/Chicago:20260207T180000
DTSTAMP:20260423T175955
CREATED:20260206T223713Z
LAST-MODIFIED:20260206T223713Z
UID:10006298-1770480000-1770487200@womenagainstmilitarymadness.org
SUMMARY:📢 PROTEST: SHUT DOWN THE U.S. WAR MACHINE! 📢
DESCRIPTION:Saturday\, February 7\, 4 PM\, Lake St and Minnehaha Ave\, Mpls\n PROTEST: SHUT DOWN THE U.S. WAR MACHINE! Join the Minnesota Peace Action Coalition Saturday\, February 7 to say HANDS OFF IRAN\, VENEZUELA\, AND CUBA!\nAs Trump’s threats of war escalate\, we will be joining the National Day of Action to demand:\nAn end to the blockade on Cuba!\nEnd all U.S. sanctions!\nFree President Maduro!\nNo U.S. attacks on Iran!\nEnd U.S. aid to Israel! \n Saturday\, February 7 at 4pm\n E Lake St & Minnehaha Ave\, Mpls\nOrganized by MPAC
URL:https://womenagainstmilitarymadness.org/events/%f0%9f%93%a2-protest-shut-down-the-u-s-war-machine-%f0%9f%93%a2/
LOCATION:East Lake Street/Minnehaha Avenue in Minneapolis\, Minneapolis\, 55406\, United States
CATEGORIES:Featured Events,Upcoming Events
ATTACH;FMTTYPE=image/jpeg:https://womenagainstmilitarymadness.org/wp-content/uploads/2026/02/ShutDowntheWarMachine.jpg
END:VEVENT
BEGIN:VEVENT
DTSTART;TZID=America/Chicago:20260208T143000
DTEND;TZID=America/Chicago:20260208T163000
DTSTAMP:20260423T175955
CREATED:20260122T231353Z
LAST-MODIFIED:20260122T231353Z
UID:10006290-1770561000-1770568200@womenagainstmilitarymadness.org
SUMMARY:2nd Annual Day of Empathy
DESCRIPTION:Sunday\, February 8\, 2:30 PM\, New City Center\, 3104 16th Ave S\, Minneapolis\nCOMMUNITY INVITE \n\n2nd Annual Day of Empathy\nYou’re invited to stand with us for our 2nd Annual Day of Empathy. A powerful day rooted in love\, healing\, truth\, and community\nThis year\, we’re coming together to uplift impacted families\, honor those harmed by the system\, and connect our community with vital resources\, support\, and each other \nWhat to expect:\n\nCommunity caravan\nPowerful speakers & voices from the community\nResource tables & vendors\nFood\, music & connection\nSpace for healing\, solidarity & action\n\nThis event is for the people! Families\, elders\, youth\, organizers\, allies\, and anyone who believes in empathy over punishment and people over systems. Come learn. Come connect. Come stand in solidarity. Because empathy is an action\, and together\, we are powerful. All are welcome. Bring your people. Bring your heart.\n\n\n\n\n\n  \nOrganized by Wrongfully Incarcerated and Over-sentenced Families Council\, endorsed by WAMM
URL:https://womenagainstmilitarymadness.org/events/2nd-annual-day-of-empathy/
LOCATION:New City Center\, 3104 16th Ave So\, Minneapolis\, Minnesota
CATEGORIES:Featured Events,Upcoming Events
ATTACH;FMTTYPE=image/webp:https://womenagainstmilitarymadness.org/wp-content/uploads/2026/01/DayofEmpathy.webp
END:VEVENT
BEGIN:VEVENT
DTSTART;TZID=America/Chicago:20260209T190000
DTEND;TZID=America/Chicago:20260209T213000
DTSTAMP:20260423T175955
CREATED:20260206T224208Z
LAST-MODIFIED:20260206T224208Z
UID:10006299-1770663600-1770672600@womenagainstmilitarymadness.org
SUMMARY:American Coup: Wilmington 1898 Film Screening
DESCRIPTION:Monday\, February 9\, 7 pm\, 4200 Cedar Ave S\, Minneapolis \n  \nAmerican Coup: Wilmington 1898 tells the little – known story of a deadly race massacre and carefully orchestrated insurrection in North Carolina’s largest city in 1898 – the only coup d’etat in the history of the US. Stoking fears of “Negro Rule”\, self – described white supremacists used intimidation and violence to destroy Black political and economic power and overthrow Wilmington’s democratically elected\, multi-racial government….The story of what hap-pened in Wilmington was suppressed for decades until descendants and scholars began to investigate. Today\, many of these descendants – black and white\, seek the truth about this intentionally buried history.\nAmerican Experience – PBS 2024 \nNO PARKING ON 42ND STREET \nConnecting the dots…discussion\nAlways FREE and open to the public\nALL ARE WELCOME! Free refreshments!\nSponsored by the WAMM Movie Committee
URL:https://womenagainstmilitarymadness.org/events/american-coup-wilmington-1898-film-screening/
LOCATION:4200 Cedar Ave S\, Minneapolis MN 55407\, 4200 Cedar Ave S\, Minneapolis\, MN\, 55407\, United States
CATEGORIES:Featured Events,Upcoming Events
ATTACH;FMTTYPE=image/webp:https://womenagainstmilitarymadness.org/wp-content/uploads/2026/02/AmericanCoupFilm.webp
END:VEVENT
BEGIN:VEVENT
DTSTART;TZID=America/Chicago:20260211T190000
DTEND;TZID=America/Chicago:20260211T210000
DTSTAMP:20260423T175955
CREATED:20260206T224424Z
LAST-MODIFIED:20260206T224424Z
UID:10006300-1770836400-1770843600@womenagainstmilitarymadness.org
SUMMARY:Women Fight Fascism! ICE OUT of our Communities! U.S. OUT of our Motherlands!
DESCRIPTION:Wednesday\, February 11\, 7pm CT\, Register: https://tinyurl.com/FightFascism211 \nUnder the banner of the Women Fight Fascism Campaign\, IWA-US will host an educational webinar to amplify the struggles and bring attention to specific cases of migrant women and activists resisting escalating fascist attacks across the U.S. from MN to TN\, to our Motherlands! \nWe will share the organizing efforts responding to the intensifying repression in defense of migrants and people’s movements. Women play a key role in the mass movement against escalating fascism – join our webinar to learn more about how to support and join the fight! \n\nTransform Fear Into Fight\, Working Women Unite!\n️¡Que El Miedo Se Vuelva Fuerza! ¡Unamos\, Mujeres Obreras!\n️Gawing Lakas Ang Takot! Sama-Samang Pagkilos ang Sagot!Organized by IWA and Defend Migrants Alliance
URL:https://womenagainstmilitarymadness.org/events/women-fight-fascism-ice-out-of-our-communities-u-s-out-of-our-motherlands/
LOCATION:Online Event
CATEGORIES:Featured Events,Upcoming Events
ATTACH;FMTTYPE=image/webp:https://womenagainstmilitarymadness.org/wp-content/uploads/2026/02/WomenFightFascism.webp
END:VEVENT
BEGIN:VEVENT
DTSTART;TZID=America/Chicago:20260212T190000
DTEND;TZID=America/Chicago:20260212T210000
DTSTAMP:20260423T175955
CREATED:20260206T224839Z
LAST-MODIFIED:20260206T224839Z
UID:10006301-1770922800-1770930000@womenagainstmilitarymadness.org
SUMMARY:Howmet Kills\, Stop Genocide Webinar
DESCRIPTION:Thursday\, February 12\, 7 PM CST\, Link to register here howmetkills.com/register \nNATIONAL WEBINAR:  Howmet Aerospace makes parts for Lockheed Martin’s F-35 fighter jet.Their factories are targeted by activists in the UK and across the USA. \nCome learn how factories in your back yard are contributing to the genocide in Gaza\, and how you can help spread the word— and take action. Join us on February 12\, 2026 for a national webinar with speakers from across the country that explains Howmet’s role in the war machine\, and suggests a path forward. \nANDREW JOSEFCHAK FROM THE MN ANTI-WAR COMMITTEE WILL SPEAK ON THIS WEBINAR \nQ&A to follow. \nRegister via the QR code in the graphic or HOWMETKILLS.COM/REGISTER \nOrganized by National Howmet Accountability Project
URL:https://womenagainstmilitarymadness.org/events/howmet-kills-stop-genocide-webinar/
LOCATION:Online Event
CATEGORIES:Featured Events,Upcoming Events
ATTACH;FMTTYPE=image/webp:https://womenagainstmilitarymadness.org/wp-content/uploads/2026/02/HowmetKills.webp
END:VEVENT
BEGIN:VEVENT
DTSTART;TZID=America/Chicago:20260214T190000
DTEND;TZID=America/Chicago:20260214T220000
DTSTAMP:20260423T175955
CREATED:20260206T225303Z
LAST-MODIFIED:20260206T225303Z
UID:10006302-1771095600-1771106400@womenagainstmilitarymadness.org
SUMMARY:Valentines for Palestine Fundraiser
DESCRIPTION:Saturday\, February 14\, 7 – 10 PM\, Lucy Parsons Center\, 4100 28th Ave S\, Minneapolis\, MN \nShow some love for Palestine  with us at our Valentine’s Day fundraiser! \nFeb 14  7 PM  Lucy Parsons Center \nCome for food\, drinks\, crafting valentines\, and a silent auction\, all benefiting the Middle East Children’s Alliance (MECA). MECA is an organization that is on the ground in Gaza providing emergency assistance to children and families\, including food and medical supplies. Our struggles are connected! We  ! \nOrganized by AWC
URL:https://womenagainstmilitarymadness.org/events/valentines-for-palestine-fundraiser/
LOCATION:Lucy Parsons Center\, 4100 28th Ave S\, Minneapolis\, MN\, 55407\, United States
CATEGORIES:Featured Events,Upcoming Events
ATTACH;FMTTYPE=image/webp:https://womenagainstmilitarymadness.org/wp-content/uploads/2026/02/ValentinesforPalestine.webp
ORGANIZER;CN="Anti-War Committee":MAILTO:info@antiwarcommittee.org
END:VEVENT
BEGIN:VEVENT
DTSTART;TZID=America/Chicago:20260221T150000
DTEND;TZID=America/Chicago:20260221T163000
DTSTAMP:20260423T175955
CREATED:20260113T235656Z
LAST-MODIFIED:20260122T224638Z
UID:10006274-1771686000-1771691400@womenagainstmilitarymadness.org
SUMMARY:U.S. Out of the Philippines! Exposure Trip Reportback
DESCRIPTION:Sunday\, February 21st\, 3-4:30 pm\, Lucy Parsons Center\, 4100 28th Ave S\, Minneapolis\nHear from WAMM Director Robyn Harbison on the details of his exposure trip to the Philippines as a WAMM rep and member of the International Women’s Alliance.\nEndorsed by AWC\, MPAC\, WAMM and MIRAC
URL:https://womenagainstmilitarymadness.org/events/u-s-out-of-the-philippines-exposure-trip-reportback/
LOCATION:Lucy Parsons Center\, 4100 28th Ave S\, Minneapolis\, MN\, 55407\, United States
CATEGORIES:Featured Events,Upcoming Events
ATTACH;FMTTYPE=image/webp:https://womenagainstmilitarymadness.org/wp-content/uploads/2026/01/Philippines2.webp
ORGANIZER;CN="Women Against Military Madness":MAILTO:general@wamm.me
END:VEVENT
BEGIN:VEVENT
DTSTART;TZID=America/Chicago:20260222T130000
DTEND;TZID=America/Chicago:20260222T150000
DTSTAMP:20260423T175955
CREATED:20260206T232645Z
LAST-MODIFIED:20260219T201754Z
UID:10006303-1771765200-1771772400@womenagainstmilitarymadness.org
SUMMARY:Black Against Empire Panel
DESCRIPTION:Sunday\, February 22\, 1- 3 pm\, Lucy Parsons Center\, 4100 28th Ave S\, Minneapolis\nThe Anti-War Committee is excited to present our 2nd annual Black Against Empire Panel for Black History Month on Sunday\, February 22nd from 3:00pm to 5:00pm at the Lucy Parsons Center! \nThis panel highlights the perspectives of black anti-imperialists in the struggle for African liberation through discussing different manifestations of US imperialism and neocolonialism in Africa and how African people are fighting back. \nJoin us in person at the Lucy Parsons Center (4100 S 28th Ave) or online at bit.ly/AWCBHMPANEL.\nThe event is free and light refreshments and beverages will be available for in-person attendees. \nOrganized by AWC
URL:https://womenagainstmilitarymadness.org/events/black-against-empire-panel/
LOCATION:Lucy Parsons Center\, 4100 28th Ave S\, Minneapolis\, MN\, 55407\, United States
CATEGORIES:Featured Events,Sponsored Events,Upcoming Events
ATTACH;FMTTYPE=image/webp:https://womenagainstmilitarymadness.org/wp-content/uploads/2026/02/397f4611-7d64-2dca-074e-6d575b976d78.webp
ORGANIZER;CN="Anti-War Committee":MAILTO:info@antiwarcommittee.org
END:VEVENT
BEGIN:VEVENT
DTSTART;TZID=America/Chicago:20260227T173000
DTEND;TZID=America/Chicago:20260227T193000
DTSTAMP:20260423T175955
CREATED:20260206T233754Z
LAST-MODIFIED:20260206T233754Z
UID:10006304-1772213400-1772220600@womenagainstmilitarymadness.org
SUMMARY:Palestine Solidarity Committee - NEW MEMBERS MEETING
DESCRIPTION:Friday\, February 27th | 5:30 pm | Friends Meeting House | 1725 Grand Ave\, St Paul\, MN 
URL:https://womenagainstmilitarymadness.org/events/palestine-solidarity-committee-new-members-meeting-2/
LOCATION:Twin Cities Friends Meeting House\, 1725 Grand Ave\, St. Paul\, MN\, 55105\, United States
CATEGORIES:Featured Events,Upcoming Events
ATTACH;FMTTYPE=image/png:https://womenagainstmilitarymadness.org/wp-content/uploads/2026/02/PSCNewMembers.png
END:VEVENT
BEGIN:VEVENT
DTSTART;TZID=America/Chicago:20260228T100000
DTEND;TZID=America/Chicago:20260228T113000
DTSTAMP:20260423T175955
CREATED:20260221T173028Z
LAST-MODIFIED:20260221T173028Z
UID:10006310-1772272800-1772278200@womenagainstmilitarymadness.org
SUMMARY:MEPN February Forum
DESCRIPTION:Saturday\, February 28 on Zoom  10:00am – 11:30am CT\nProfessor Amahl Bishara:\n“Against Fragmentation: Palestinian Practices\nof Connection to Confront Erasure—\nand How They Inspire Solidarity in the US Today” \nDespite closure\, economic deprivation\, and political threat\, Palestinians in a refugee camp in the West Bank have insisted on staying connected with friends\, colleagues and kin in Gaza\, and on supporting each other. Witnessing and understanding these brave practices of connectedness can inspire practices of solidarity and support in the United States today. \nAbout the Presenter:\nDr. Amahl Bishara is Professor\, Anthropology and Professor\, Studies in Race\, Colonialism\, and Diaspora at Tufts University. Her interests are media\, journalism\, the Middle East\, expressivity\, human rights\, knowledge production\, democracy\, and ethnography of place. Dr. Bishara’s research revolves around expression\, space\, media\, and settler colonialism. She is presently working on a project that examines Palestinian popular politics in a West Bank refugee camp. It examines how Palestinians in this refugee camp strive to resist three authorities: the Israeli occupation\, the Palestinian Authority administration\, and the United Nations Relief Works Agency\, through struggles over land\, water\, bodies\, and expression. \nThis Zoom webinar is free and open to the public\, but registration is required. \nWhile many of our monthly webinars are recorded\, this one will not be recorded.
URL:https://womenagainstmilitarymadness.org/events/mepn-february-forum/
LOCATION:Online Event
CATEGORIES:Featured Events,Upcoming Events
ATTACH;FMTTYPE=image/webp:https://womenagainstmilitarymadness.org/wp-content/uploads/2026/02/MEPN-Forum.webp
ORGANIZER;CN="Middle East Peace Now":MAILTO:mepn@mepn.org
END:VEVENT
END:VCALENDAR