BEGIN:VCALENDAR
VERSION:2.0
PRODID:-//Women Against Military Madness - ECPv6.15.20//NONSGML v1.0//EN
CALSCALE:GREGORIAN
METHOD:PUBLISH
X-WR-CALNAME:Women Against Military Madness
X-ORIGINAL-URL:https://womenagainstmilitarymadness.org
X-WR-CALDESC:Events for Women Against Military Madness
REFRESH-INTERVAL;VALUE=DURATION:PT1H
X-Robots-Tag:noindex
X-PUBLISHED-TTL:PT1H
BEGIN:VTIMEZONE
TZID:America/Chicago
BEGIN:DAYLIGHT
TZOFFSETFROM:-0600
TZOFFSETTO:-0500
TZNAME:CDT
DTSTART:20250309T080000
END:DAYLIGHT
BEGIN:STANDARD
TZOFFSETFROM:-0500
TZOFFSETTO:-0600
TZNAME:CST
DTSTART:20251102T070000
END:STANDARD
BEGIN:DAYLIGHT
TZOFFSETFROM:-0600
TZOFFSETTO:-0500
TZNAME:CDT
DTSTART:20260308T080000
END:DAYLIGHT
BEGIN:STANDARD
TZOFFSETFROM:-0500
TZOFFSETTO:-0600
TZNAME:CST
DTSTART:20261101T070000
END:STANDARD
BEGIN:DAYLIGHT
TZOFFSETFROM:-0600
TZOFFSETTO:-0500
TZNAME:CDT
DTSTART:20270314T080000
END:DAYLIGHT
BEGIN:STANDARD
TZOFFSETFROM:-0500
TZOFFSETTO:-0600
TZNAME:CST
DTSTART:20271107T070000
END:STANDARD
END:VTIMEZONE
BEGIN:VEVENT
DTSTART;TZID=America/Chicago:20260107T160000
DTEND;TZID=America/Chicago:20260107T170000
DTSTAMP:20260423T175914
CREATED:20260105T184559Z
LAST-MODIFIED:20260105T184600Z
UID:33329-1767801600-1767805200@womenagainstmilitarymadness.org
SUMMARY:🇻🇪 HANDS OFF VENEZUELA! 🇻🇪 Weekly Bridge Vigil
DESCRIPTION:Wednesday\, January 7\, 2026\, 4-5pm\, Lake St/Marshall Ave Bridge\, St. Paul side\n\n🇻🇪 HANDS OFF VENEZUELA! 🇻🇪\n\nJoin the Solidarity Committee on the Americas at WAMM’s weekly bridge vigil. \n\nWe will continue to protest the illegal invasion of Venezuela.\n\nTrump bombed Venezuela’s capital city and illegally kidnapped their President\, Nicolás Maduro\, in a decades-old tactic of U.S. intervention for regime change and resource extraction. We will not accept another war for oil! \nU.S. out of Venezuela!\nFree President Maduro! \n⏰ Wednesday\, January 7\, 4-5pm\n📍 Lake St/Marshall Ave Bridge\, St. Paul side\nOrganized by SCOTA\n\n\n\n	Related
URL:https://womenagainstmilitarymadness.org/events/%f0%9f%87%bb%f0%9f%87%aa-hands-off-venezuela-%f0%9f%87%bb%f0%9f%87%aa-weekly-bridge-vigil/
LOCATION:Lake Street/Marshall Avenue Bridge over the Mississippi River\, 4998-4800 E Lake Street\, Minneapolis\, MN\, 55407\, United States
CATEGORIES:Featured Events,Upcoming Events
ATTACH;FMTTYPE=image/webp:https://womenagainstmilitarymadness.org/wp-content/uploads/2026/01/unnamed-2-1.webp
ORGANIZER;CN="SCOTA":MAILTO:solidaritycommitteeofamericas@gmail.com
END:VEVENT
END:VCALENDAR