BEGIN:VCALENDAR
VERSION:2.0
PRODID:-//Women Against Military Madness - ECPv6.15.20//NONSGML v1.0//EN
CALSCALE:GREGORIAN
METHOD:PUBLISH
X-WR-CALNAME:Women Against Military Madness
X-ORIGINAL-URL:https://womenagainstmilitarymadness.org
X-WR-CALDESC:Events for Women Against Military Madness
REFRESH-INTERVAL;VALUE=DURATION:PT1H
X-Robots-Tag:noindex
X-PUBLISHED-TTL:PT1H
BEGIN:VTIMEZONE
TZID:America/Chicago
BEGIN:DAYLIGHT
TZOFFSETFROM:-0600
TZOFFSETTO:-0500
TZNAME:CDT
DTSTART:20240310T080000
END:DAYLIGHT
BEGIN:STANDARD
TZOFFSETFROM:-0500
TZOFFSETTO:-0600
TZNAME:CST
DTSTART:20241103T070000
END:STANDARD
BEGIN:DAYLIGHT
TZOFFSETFROM:-0600
TZOFFSETTO:-0500
TZNAME:CDT
DTSTART:20250309T080000
END:DAYLIGHT
BEGIN:STANDARD
TZOFFSETFROM:-0500
TZOFFSETTO:-0600
TZNAME:CST
DTSTART:20251102T070000
END:STANDARD
BEGIN:DAYLIGHT
TZOFFSETFROM:-0600
TZOFFSETTO:-0500
TZNAME:CDT
DTSTART:20260308T080000
END:DAYLIGHT
BEGIN:STANDARD
TZOFFSETFROM:-0500
TZOFFSETTO:-0600
TZNAME:CST
DTSTART:20261101T070000
END:STANDARD
END:VTIMEZONE
BEGIN:VEVENT
DTSTART;TZID=America/Chicago:20250604T190000
DTEND;TZID=America/Chicago:20250604T210000
DTSTAMP:20260423T162406
CREATED:20250418T155747Z
LAST-MODIFIED:20250418T155747Z
UID:10005146-1749063600-1749070800@womenagainstmilitarymadness.org
SUMMARY:16th MN Cuban Film Festival
DESCRIPTION:16th MN Cuban Film Festival \nWednesdays @ 7pm from April 30th-June 4th  \nMore info and full list of films: https://mspfilm.org/series/minnesota-cuban-film-festival/ \nSponsored by WAMM \n\n\n	Related
URL:https://womenagainstmilitarymadness.org/events/16th-mn-cuban-film-festival/2025-06-04/
LOCATION:The Main Cinema\, 115 SE Main St\, Minneapolis\, MN\, 55414\, United States
CATEGORIES:Featured Events,Sponsored Events,Upcoming Events
ATTACH;FMTTYPE=image/webp:https://womenagainstmilitarymadness.org/wp-content/uploads/2025/04/thumbnail_16th-MCFF-Brochure-outside-Final-04.11.2025_Page_1.webp
ORGANIZER;CN="Solidarity Committee on the Americas":MAILTO:solidaritycommitteeofamericas@gmail.com
END:VEVENT
END:VCALENDAR