BEGIN:VCALENDAR
VERSION:2.0
PRODID:-//Women Against Military Madness - ECPv6.15.20//NONSGML v1.0//EN
CALSCALE:GREGORIAN
METHOD:PUBLISH
X-WR-CALNAME:Women Against Military Madness
X-ORIGINAL-URL:https://womenagainstmilitarymadness.org
X-WR-CALDESC:Events for Women Against Military Madness
REFRESH-INTERVAL;VALUE=DURATION:PT1H
X-Robots-Tag:noindex
X-PUBLISHED-TTL:PT1H
BEGIN:VTIMEZONE
TZID:America/Chicago
BEGIN:DAYLIGHT
TZOFFSETFROM:-0600
TZOFFSETTO:-0500
TZNAME:CDT
DTSTART:20240310T080000
END:DAYLIGHT
BEGIN:STANDARD
TZOFFSETFROM:-0500
TZOFFSETTO:-0600
TZNAME:CST
DTSTART:20241103T070000
END:STANDARD
BEGIN:DAYLIGHT
TZOFFSETFROM:-0600
TZOFFSETTO:-0500
TZNAME:CDT
DTSTART:20250309T080000
END:DAYLIGHT
BEGIN:STANDARD
TZOFFSETFROM:-0500
TZOFFSETTO:-0600
TZNAME:CST
DTSTART:20251102T070000
END:STANDARD
BEGIN:DAYLIGHT
TZOFFSETFROM:-0600
TZOFFSETTO:-0500
TZNAME:CDT
DTSTART:20260308T080000
END:DAYLIGHT
BEGIN:STANDARD
TZOFFSETFROM:-0500
TZOFFSETTO:-0600
TZNAME:CST
DTSTART:20261101T070000
END:STANDARD
END:VTIMEZONE
BEGIN:VEVENT
DTSTART;TZID=America/Chicago:20250601T103000
DTEND;TZID=America/Chicago:20250601T120000
DTSTAMP:20260424T002326
CREATED:20240322T195845Z
LAST-MODIFIED:20240509T193951Z
UID:27261-1748773800-1748779200@womenagainstmilitarymadness.org
SUMMARY:17th Annual Walk Against Weapons of War
DESCRIPTION:Saturday\, June 1\, 2024\, 10:30 am\, Langford Park\, St Paul\, MN \nRain or shine! Walking for Peace and Justice! \nThis is the 17th year of the Walk Against Weapons of War. This walk was initially started in 2008 to protest weapons producer Alliant Techsystems\, Inc. (ATK). This year our walk takes us past another weapons maker\, ForwardEdge ASIC (application specific integrated circuits)\, a subsidiary of Lockheed Martin Corporation. With record profits (net sales of $67.6 Billion in 2023)\, Lockheed Martin is a glowing example of the health of our nation’s war machine. Their F-35 fighter jets\, sent to Israel\, are being used to indiscriminately bomb Palestinian citizens\, killing tens of thousands and displacing 90% of the population of Gaza\, in violation of international law. Lockheed Martin’s nuclear weapons production and maintenance adds to the clear and present danger of nuclear holocaust. The world-wide use of all weapons increases greenhouse gasses\, distributes long-lasting toxins and destroys environmental ecosystems. \nWAMM has repeatedly called for the U.S. to STOP sending aid and weapons to Israel. Walk with us to alert the public and let the weapons makers see that their war profiteering is deadly to the citizens of the world and unwelcome in our neighborhood! \nNEW LOCATION: \nLangford Park\, St. Paul\, MN \n10:30 AM: Volunteer/Walker Check-In \n11:00 AM: Walk begins to Lockheed Martin (less than 1 mile) \nShort rally and return to Langford Park for a short closing ceremony. \nLangford Park is located South of Como Ave\, North of Energy Park Drive\, West of Raymond Ave. \nLook for the WAMM Flags and banners! \nClosest Bus Route: 3 or 87 \n\n\n	Related
URL:https://womenagainstmilitarymadness.org/events/17th-annual-walk-against-weapons-of-war/
LOCATION:Langford Park\, 30 Langford Park\, St Paul\, MN\, 55108\, United States
CATEGORIES:Featured Events,Upcoming Events
ATTACH;FMTTYPE=image/png:https://womenagainstmilitarymadness.org/wp-content/uploads/2024/03/Walk-Against-Weapons-2024.png
END:VEVENT
END:VCALENDAR