BEGIN:VCALENDAR
VERSION:2.0
PRODID:-//Women Against Military Madness - ECPv6.15.20//NONSGML v1.0//EN
CALSCALE:GREGORIAN
METHOD:PUBLISH
X-WR-CALNAME:Women Against Military Madness
X-ORIGINAL-URL:https://womenagainstmilitarymadness.org
X-WR-CALDESC:Events for Women Against Military Madness
REFRESH-INTERVAL;VALUE=DURATION:PT1H
X-Robots-Tag:noindex
X-PUBLISHED-TTL:PT1H
BEGIN:VTIMEZONE
TZID:America/Chicago
BEGIN:DAYLIGHT
TZOFFSETFROM:-0600
TZOFFSETTO:-0500
TZNAME:CDT
DTSTART:20240310T080000
END:DAYLIGHT
BEGIN:STANDARD
TZOFFSETFROM:-0500
TZOFFSETTO:-0600
TZNAME:CST
DTSTART:20241103T070000
END:STANDARD
BEGIN:DAYLIGHT
TZOFFSETFROM:-0600
TZOFFSETTO:-0500
TZNAME:CDT
DTSTART:20250309T080000
END:DAYLIGHT
BEGIN:STANDARD
TZOFFSETFROM:-0500
TZOFFSETTO:-0600
TZNAME:CST
DTSTART:20251102T070000
END:STANDARD
BEGIN:DAYLIGHT
TZOFFSETFROM:-0600
TZOFFSETTO:-0500
TZNAME:CDT
DTSTART:20260308T080000
END:DAYLIGHT
BEGIN:STANDARD
TZOFFSETFROM:-0500
TZOFFSETTO:-0600
TZNAME:CST
DTSTART:20261101T070000
END:STANDARD
END:VTIMEZONE
BEGIN:VEVENT
DTSTART;TZID=America/Chicago:20250914T100000
DTEND;TZID=America/Chicago:20250914T113000
DTSTAMP:20260423T220615
CREATED:20240826T171730Z
LAST-MODIFIED:20240829T174532Z
UID:28250-1757844000-1757849400@womenagainstmilitarymadness.org
SUMMARY:Rami G. Khouri Webinar
DESCRIPTION:“What Hamas represents politically\, why most Arabs support it\, and how Israel-US should deal with it” with Rami G. Khouri\nSaturday\, September 14 webinar on Zoom 10:00am – 11:30am CT \nAbout the Speaker: Rami G. Khouri is a Palestinian-American academic and journalist whose family resides in Beirut\, Amman\, and Nazareth. During his 50 years as a journalist in the Middle East\, he was editor of the Jordan Times and the Daily Star (Beirut) newspapers\, and contributed reporting and opinion pieces from the region to the Financial Times\, NPR\, BBC radio\, The Washington Post\, The Boston Globe\, and other outlets. \nRami founded and managed the Issam Fares Institute for Public Policy and International Affairs (IFI)\, at the American University of Beirut\, where he also taught journalism for a decade. He has been a Harvard Nieman Journalism Fellow and a senior fellow at the Harvard Kennedy School\, and a Fellow of the Palestinian Academic Society for the Study of International Affairs in Arab East Jerusalem. He was a visiting scholar at Villanova\, Oklahoma\, Mt Holyoke\, Syracuse\, Northeastern\, and Tufts universities. Rami is currently a distinguished fellow at IFI\, a senior fellow at the Arab Center Washington\, DC\, and a regular contributor to Aljazeera online. His texts and interviews are available on X @ramikhouri. \nRami Khoury’s latest book\, written with Helena Cobban\, is entitled Understanding Hamas and Why That Matters. For more information see: bit.ly/HamasMatters \nPlease contact mepn@mepn.org with any questions. \nOrganized by Middle East Peace Now \n\n\n	Related
URL:https://womenagainstmilitarymadness.org/events/28250/
LOCATION:Middle East Peace Now Zoom webinar
ATTACH;FMTTYPE=image/png:https://womenagainstmilitarymadness.org/wp-content/uploads/2024/08/Webinar.png
ORGANIZER;CN="Middle East Peace Now":MAILTO:mepn@mepn.org
END:VEVENT
END:VCALENDAR