BEGIN:VCALENDAR
VERSION:2.0
PRODID:-//Women Against Military Madness - ECPv6.15.20//NONSGML v1.0//EN
CALSCALE:GREGORIAN
METHOD:PUBLISH
X-WR-CALNAME:Women Against Military Madness
X-ORIGINAL-URL:https://womenagainstmilitarymadness.org
X-WR-CALDESC:Events for Women Against Military Madness
REFRESH-INTERVAL;VALUE=DURATION:PT1H
X-Robots-Tag:noindex
X-PUBLISHED-TTL:PT1H
BEGIN:VTIMEZONE
TZID:America/Chicago
BEGIN:DAYLIGHT
TZOFFSETFROM:-0600
TZOFFSETTO:-0500
TZNAME:CDT
DTSTART:20250309T080000
END:DAYLIGHT
BEGIN:STANDARD
TZOFFSETFROM:-0500
TZOFFSETTO:-0600
TZNAME:CST
DTSTART:20251102T070000
END:STANDARD
BEGIN:DAYLIGHT
TZOFFSETFROM:-0600
TZOFFSETTO:-0500
TZNAME:CDT
DTSTART:20260308T080000
END:DAYLIGHT
BEGIN:STANDARD
TZOFFSETFROM:-0500
TZOFFSETTO:-0600
TZNAME:CST
DTSTART:20261101T070000
END:STANDARD
BEGIN:DAYLIGHT
TZOFFSETFROM:-0600
TZOFFSETTO:-0500
TZNAME:CDT
DTSTART:20270314T080000
END:DAYLIGHT
BEGIN:STANDARD
TZOFFSETFROM:-0500
TZOFFSETTO:-0600
TZNAME:CST
DTSTART:20271107T070000
END:STANDARD
END:VTIMEZONE
BEGIN:VEVENT
DTSTART;VALUE=DATE:20260215
DTEND;VALUE=DATE:20260217
DTSTAMP:20260425T134552
CREATED:20241220T212911Z
LAST-MODIFIED:20241220T212911Z
UID:29149-1771113600-1771286399@womenagainstmilitarymadness.org
SUMMARY:Anti War Action Network Founding Conference
DESCRIPTION:Saturday\, February 15\, 2025 – Sunday\, February 16\, 2025\, St Paul\, MN (more details to come) \nStart spreading the word – we are having our first national conference! 🇵🇸🇵🇸🇵🇸 We are taking our network to the next level. Join us so that we can share our organizing experiences and deepen our grassroots organizing on Palestine\, divestment and weapons manufacturers. \nInterested in coming? Go to: https://tinyurl.com/25AWAN\nFFI email: antiwaractionnetwork@gmail.com \nMore about the Anti War Action Network: Formed after the 2024 UNAC Conference\, The Anti War Action Network (AWAN) is a network made up of anti-war\, student\, and Palestine solidarity activists who have been participating in the national days of action called by US Palestinian Communities Network\, Students for a Democratic Society and the National Alliance Against Political and Racist Repression during this upsurge in Palestine organizing to stop Israel’s genocidal campaign in Gaza. Some of us are new to activism whereas others of us have been doing anti-war and Palestine solidarity organizing for decades. We are coming together to call for national days of action because we want to work together to end US aid to Israel and to increase national coordination so we can amplify our protests. We hope new activists and other groups will join us. #freepalestine \n\n\n	Related
URL:https://womenagainstmilitarymadness.org/events/anti-war-action-network-founding-conference/
CATEGORIES:Featured Events,Sponsored Events,Upcoming Events
ATTACH;FMTTYPE=image/jpeg:https://womenagainstmilitarymadness.org/wp-content/uploads/2024/12/thumbnail_Image-1-1.jpg
END:VEVENT
END:VCALENDAR