BEGIN:VCALENDAR
VERSION:2.0
PRODID:-//Women Against Military Madness - ECPv6.15.20//NONSGML v1.0//EN
CALSCALE:GREGORIAN
METHOD:PUBLISH
X-WR-CALNAME:Women Against Military Madness
X-ORIGINAL-URL:https://womenagainstmilitarymadness.org
X-WR-CALDESC:Events for Women Against Military Madness
REFRESH-INTERVAL;VALUE=DURATION:PT1H
X-Robots-Tag:noindex
X-PUBLISHED-TTL:PT1H
BEGIN:VTIMEZONE
TZID:America/Chicago
BEGIN:DAYLIGHT
TZOFFSETFROM:-0600
TZOFFSETTO:-0500
TZNAME:CDT
DTSTART:20240310T080000
END:DAYLIGHT
BEGIN:STANDARD
TZOFFSETFROM:-0500
TZOFFSETTO:-0600
TZNAME:CST
DTSTART:20241103T070000
END:STANDARD
BEGIN:DAYLIGHT
TZOFFSETFROM:-0600
TZOFFSETTO:-0500
TZNAME:CDT
DTSTART:20250309T080000
END:DAYLIGHT
BEGIN:STANDARD
TZOFFSETFROM:-0500
TZOFFSETTO:-0600
TZNAME:CST
DTSTART:20251102T070000
END:STANDARD
BEGIN:DAYLIGHT
TZOFFSETFROM:-0600
TZOFFSETTO:-0500
TZNAME:CDT
DTSTART:20260308T080000
END:DAYLIGHT
BEGIN:STANDARD
TZOFFSETFROM:-0500
TZOFFSETTO:-0600
TZNAME:CST
DTSTART:20261101T070000
END:STANDARD
END:VTIMEZONE
BEGIN:VEVENT
DTSTART;TZID=America/Chicago:20251109T140000
DTEND;TZID=America/Chicago:20251109T160000
DTSTAMP:20260423T144434
CREATED:20251024T025806Z
LAST-MODIFIED:20251024T025806Z
UID:32663-1762696800-1762704000@womenagainstmilitarymadness.org
SUMMARY:ART FOR THE PEOPLE: Graphic Design Training
DESCRIPTION:Sunday\, November 9\, 2025\, 2-4 PM\, Lucy Parsons Center\, 4100 S 28th Ave\, Minneapolis\, MN \nIN COLLAB WITH @mn_aac  2025 UPDATED Graphic Design and Social Media Training! \nOPEN TO ALL! \nWAMM\, MNAAC (MN Abortion Action Committee)\, and many more organizations within the progressive peoples’ movements have had to adapt and change with our world. We have been building our skills in community and online outreach\, graphic design\, creating videos\, and much more. We aim to share our skills with you! \nWANT TO GET INVOLVED IN ORGANIZING for Palestine\, reproductive healthcare access to all\, and to fight Trump’s Agenda? JOIN US! \n Sunday\, November 9\n 2 – 4 PM\n Lucy Parsons Center\, 4100 28th Ave S\, Minneapolis\, MN @lucyparsons.center \nStay tuned for virtual options for attendance. Organized by WAMM\, sponsored by MNAAC \n\n\n	Related
URL:https://womenagainstmilitarymadness.org/events/art-for-the-people-graphic-design-training/
LOCATION:Lucy Parsons Center\, 4100 28th Ave S\, Minneapolis\, MN\, 55407\, United States
CATEGORIES:Featured Events,Upcoming Events
ATTACH;FMTTYPE=image/webp:https://womenagainstmilitarymadness.org/wp-content/uploads/2025/10/unnamed1.webp
ORGANIZER;CN="Women Against Military Madness":MAILTO:general@wamm.me
END:VEVENT
END:VCALENDAR