BEGIN:VCALENDAR
VERSION:2.0
PRODID:-//Women Against Military Madness - ECPv6.15.20//NONSGML v1.0//EN
CALSCALE:GREGORIAN
METHOD:PUBLISH
X-WR-CALNAME:Women Against Military Madness
X-ORIGINAL-URL:https://womenagainstmilitarymadness.org
X-WR-CALDESC:Events for Women Against Military Madness
REFRESH-INTERVAL;VALUE=DURATION:PT1H
X-Robots-Tag:noindex
X-PUBLISHED-TTL:PT1H
BEGIN:VTIMEZONE
TZID:America/Chicago
BEGIN:DAYLIGHT
TZOFFSETFROM:-0600
TZOFFSETTO:-0500
TZNAME:CDT
DTSTART:20240310T080000
END:DAYLIGHT
BEGIN:STANDARD
TZOFFSETFROM:-0500
TZOFFSETTO:-0600
TZNAME:CST
DTSTART:20241103T070000
END:STANDARD
BEGIN:DAYLIGHT
TZOFFSETFROM:-0600
TZOFFSETTO:-0500
TZNAME:CDT
DTSTART:20250309T080000
END:DAYLIGHT
BEGIN:STANDARD
TZOFFSETFROM:-0500
TZOFFSETTO:-0600
TZNAME:CST
DTSTART:20251102T070000
END:STANDARD
BEGIN:DAYLIGHT
TZOFFSETFROM:-0600
TZOFFSETTO:-0500
TZNAME:CDT
DTSTART:20260308T080000
END:DAYLIGHT
BEGIN:STANDARD
TZOFFSETFROM:-0500
TZOFFSETTO:-0600
TZNAME:CST
DTSTART:20261101T070000
END:STANDARD
END:VTIMEZONE
BEGIN:VEVENT
DTSTART;TZID=America/Chicago:20250827T130000
DTEND;TZID=America/Chicago:20250827T150000
DTSTAMP:20260423T180113
CREATED:20220823T175412Z
LAST-MODIFIED:20220823T175412Z
UID:23378-1756299600-1756306800@womenagainstmilitarymadness.org
SUMMARY:August Cuba Car Caravan Against the U.S. Blockade of Cuba
DESCRIPTION:August Cuba Car Caravan Against the U.S. Blockade of Cuba/Caravana Contra el Bloqueo\n\nSunday\, August 8th 2022 at 1:00-3:00pm\nSouth High School Parking Lot: 3131 19th Ave S.\, Minneapolis\n\nJoin us at the South High parking lot or watch the live stream on this page.\nSolidarity Committee on the Americas (SCOTA)\, the Minnesota Cuba Committee and other sponsors are convening monthly car caravans to protest the U.S. blockade of Cuba.\n\n12:30: Volunteer car marshal training\n1:00: Line up and add signs and flags to cars at South High School parking lot\, 3131 19th Ave So\, Minneapolis. Signs and car flags will be available or bring your own. Caravan sponsors will make brief remarks.\n1:30: Caravan begins – left out of parking lot on 21st Street\, left on Lake Street\, right on First Ave. South\, left through Post Office parking lot\, left on Blaisdell and left on Lake back to South High.\n2:30: Brief closing rally at South High parking lot.\n\nThe lead car will be in contact with participating cars – details will be provided at the rally site. Contact 612-437-0222 for more information or if you’re joining late.\n\nWhy a Caravan?\n\nFor 60 years (the anniversary was February 3)\, Cuba has endured the economic\, financial and commercial blockade imposed by the U.S. government. Every year this blockade is rejected by a near unanimous vote in the United Nations.\nDuring Trump’s term\, he imposed more than 220 measures to further harm the island’s economy and the Cuban people. President Biden has continued these repressive policies against Cuba and added even more sanctions. The blockade has caused great economic hardship in Cuba\, blocks food imports to Cuba and damages Cuba’s health care.\n\nDemand the U.S. government lift all its economic and political sanctions and end the blockade against Cuba.\n\nTell Biden and Congress:\n-No Delay\, Lift the U.S. blockade NOW!\n-U.S. stop sanctioning Cuban families!\n-End all travel bans on Cuba!\n#UnblockCuba2022\n#LetCubaLive\n\n\n	Related
URL:https://womenagainstmilitarymadness.org/events/august-cuba-car-caravan-against-the-u-s-blockade-of-cuba/
LOCATION:South High School Parking Lot\, 3131 S 19th Ave\, Minneapolis\, MN\, 55407\, United States
CATEGORIES:Featured Events,Sponsored Events,Upcoming Events
ATTACH;FMTTYPE=image/jpeg:https://womenagainstmilitarymadness.org/wp-content/uploads/2022/08/298872881_644345197035724_7351169592591881966_n.jpg
ORGANIZER;CN="SCOTA":MAILTO:solidaritycommitteeofamericas@gmail.com
END:VEVENT
END:VCALENDAR