BEGIN:VCALENDAR
VERSION:2.0
PRODID:-//Women Against Military Madness - ECPv6.15.20//NONSGML v1.0//EN
CALSCALE:GREGORIAN
METHOD:PUBLISH
X-WR-CALNAME:Women Against Military Madness
X-ORIGINAL-URL:https://womenagainstmilitarymadness.org
X-WR-CALDESC:Events for Women Against Military Madness
REFRESH-INTERVAL;VALUE=DURATION:PT1H
X-Robots-Tag:noindex
X-PUBLISHED-TTL:PT1H
BEGIN:VTIMEZONE
TZID:America/Chicago
BEGIN:DAYLIGHT
TZOFFSETFROM:-0600
TZOFFSETTO:-0500
TZNAME:CDT
DTSTART:20240310T080000
END:DAYLIGHT
BEGIN:STANDARD
TZOFFSETFROM:-0500
TZOFFSETTO:-0600
TZNAME:CST
DTSTART:20241103T070000
END:STANDARD
BEGIN:DAYLIGHT
TZOFFSETFROM:-0600
TZOFFSETTO:-0500
TZNAME:CDT
DTSTART:20250309T080000
END:DAYLIGHT
BEGIN:STANDARD
TZOFFSETFROM:-0500
TZOFFSETTO:-0600
TZNAME:CST
DTSTART:20251102T070000
END:STANDARD
BEGIN:DAYLIGHT
TZOFFSETFROM:-0600
TZOFFSETTO:-0500
TZNAME:CDT
DTSTART:20260308T080000
END:DAYLIGHT
BEGIN:STANDARD
TZOFFSETFROM:-0500
TZOFFSETTO:-0600
TZNAME:CST
DTSTART:20261101T070000
END:STANDARD
END:VTIMEZONE
BEGIN:VEVENT
DTSTART;TZID=America/Chicago:20250421T130000
DTEND;TZID=America/Chicago:20250421T153000
DTSTAMP:20260423T215326
CREATED:20240403T161227Z
LAST-MODIFIED:20240409T194350Z
UID:27274-1745240400-1745249400@womenagainstmilitarymadness.org
SUMMARY:Autism Under Occupation
DESCRIPTION:Sunday\, April 21\, 2024\, 1:00 – 3:15 pm\, Ramsey County Library Shoreview\, 4560 Victoria Street North\, Shoreview\, MN 55126 \nUPCOMING EVENT 🇵🇸✊🏻 \nWe invite you to join us on Sunday\, April 21st\, to learn about the impact of the Israeli occupation on Autistic Palestinians and their families. \nFrom the martyrdom of Eyad Al Hallaq to the assaults against Muhammad Al-Ajlouni\, Israel has deprived disabled Palestinians of their right to essential services\, dignity\, and life\, taking advantage of their conditions to abuse them further. This event will focus specifically on Autistic Palestinians and their experiences. We will be joined by Nemeh Al-Sarraj\, an experienced disability activist and Palestinian advocate. 🙏🏻🇵🇸 \nLimited seats\, RSVP using this link: bit.ly/AutismPalestine \nNemeh Al-Sarraj will be presenting on the struggles\, that autistic Palestinians and their families experience\, living under the illegal Israeli occupation. Click here to register on Eventbrite! \nEndorsed by WAMM\, the Free Palestine Coalition\, and Sukoon: Healing of the Minds \n\n\n	Related
URL:https://womenagainstmilitarymadness.org/events/autism-under-occupation/
LOCATION:4560 Victoria Street North\, 4560 Victoria Street N\, Shoreview\, MN\, 55126\, United States
CATEGORIES:Featured Events,Sponsored Events,Upcoming Events
ATTACH;FMTTYPE=image/png:https://womenagainstmilitarymadness.org/wp-content/uploads/2024/04/Screenshot-2024-04-09-at-2.29.54 PM.png
END:VEVENT
END:VCALENDAR