BEGIN:VCALENDAR
VERSION:2.0
PRODID:-//Women Against Military Madness - ECPv6.15.20//NONSGML v1.0//EN
CALSCALE:GREGORIAN
METHOD:PUBLISH
X-WR-CALNAME:Women Against Military Madness
X-ORIGINAL-URL:https://womenagainstmilitarymadness.org
X-WR-CALDESC:Events for Women Against Military Madness
REFRESH-INTERVAL;VALUE=DURATION:PT1H
X-Robots-Tag:noindex
X-PUBLISHED-TTL:PT1H
BEGIN:VTIMEZONE
TZID:America/Chicago
BEGIN:DAYLIGHT
TZOFFSETFROM:-0600
TZOFFSETTO:-0500
TZNAME:CDT
DTSTART:20240310T080000
END:DAYLIGHT
BEGIN:STANDARD
TZOFFSETFROM:-0500
TZOFFSETTO:-0600
TZNAME:CST
DTSTART:20241103T070000
END:STANDARD
BEGIN:DAYLIGHT
TZOFFSETFROM:-0600
TZOFFSETTO:-0500
TZNAME:CDT
DTSTART:20250309T080000
END:DAYLIGHT
BEGIN:STANDARD
TZOFFSETFROM:-0500
TZOFFSETTO:-0600
TZNAME:CST
DTSTART:20251102T070000
END:STANDARD
BEGIN:DAYLIGHT
TZOFFSETFROM:-0600
TZOFFSETTO:-0500
TZNAME:CDT
DTSTART:20260308T080000
END:DAYLIGHT
BEGIN:STANDARD
TZOFFSETFROM:-0500
TZOFFSETTO:-0600
TZNAME:CST
DTSTART:20261101T070000
END:STANDARD
END:VTIMEZONE
BEGIN:VEVENT
DTSTART;TZID=America/Chicago:20250610T190000
DTEND;TZID=America/Chicago:20250610T210000
DTSTAMP:20260423T191740
CREATED:20240521T202529Z
LAST-MODIFIED:20240528T183152Z
UID:27433-1749582000-1749589200@womenagainstmilitarymadness.org
SUMMARY:Bombies Film Screening
DESCRIPTION:Monday\, June 10\, 2024\, 7:00 pm\, 4200 Cedar Ave S \nWAMM SECOND MONDAY MOVIE PRESENTS…BOMBIES \nBetween 1964 and 1973 the United States conducted a secret air war\, dropping over 2 million tons of bombs and making tiny Laos the most heavily bombed country in history. Millions of these “cluster bombs” did not explode when dropped\, leaving the country massively contaminated… Bombies examines the problem of unexploded cluster bombs through the personal experiences of Laotians and foreigners and argues for their elimination as weapons of war. Unfortunately\, they are still a part of the US arsenal. \nCarol Masters\, author of You Can’t Do That: Marv Davidov\, Non-violent Revolutionary\, will start off the event with an excerpt from her book. Davidov (also featured in the film) was a well-respected anti-war activist who helped lead the struggle against Honeywell Corp. in the Twin Cities\, which manufactured cluster bombs locally for many years. \n2001 I Canada I 57 minutes \nProducer/Director Jack Silberman \n\n\n	Related
URL:https://womenagainstmilitarymadness.org/events/bombies-film-screening/
LOCATION:4200 Cedar Ave S\, Minneapolis MN 55407\, 4200 Cedar Ave S\, Minneapolis\, MN\, 55407\, United States
CATEGORIES:Featured Events,Upcoming Events
ATTACH;FMTTYPE=image/jpeg:https://womenagainstmilitarymadness.org/wp-content/uploads/2024/05/bombies-01.jpg
END:VEVENT
END:VCALENDAR