BEGIN:VCALENDAR
VERSION:2.0
PRODID:-//Women Against Military Madness - ECPv6.15.20//NONSGML v1.0//EN
CALSCALE:GREGORIAN
METHOD:PUBLISH
X-WR-CALNAME:Women Against Military Madness
X-ORIGINAL-URL:https://womenagainstmilitarymadness.org
X-WR-CALDESC:Events for Women Against Military Madness
REFRESH-INTERVAL;VALUE=DURATION:PT1H
X-Robots-Tag:noindex
X-PUBLISHED-TTL:PT1H
BEGIN:VTIMEZONE
TZID:America/Chicago
BEGIN:DAYLIGHT
TZOFFSETFROM:-0600
TZOFFSETTO:-0500
TZNAME:CDT
DTSTART:20240310T080000
END:DAYLIGHT
BEGIN:STANDARD
TZOFFSETFROM:-0500
TZOFFSETTO:-0600
TZNAME:CST
DTSTART:20241103T070000
END:STANDARD
BEGIN:DAYLIGHT
TZOFFSETFROM:-0600
TZOFFSETTO:-0500
TZNAME:CDT
DTSTART:20250309T080000
END:DAYLIGHT
BEGIN:STANDARD
TZOFFSETFROM:-0500
TZOFFSETTO:-0600
TZNAME:CST
DTSTART:20251102T070000
END:STANDARD
BEGIN:DAYLIGHT
TZOFFSETFROM:-0600
TZOFFSETTO:-0500
TZNAME:CDT
DTSTART:20260308T080000
END:DAYLIGHT
BEGIN:STANDARD
TZOFFSETFROM:-0500
TZOFFSETTO:-0600
TZNAME:CST
DTSTART:20261101T070000
END:STANDARD
END:VTIMEZONE
BEGIN:VEVENT
DTSTART;TZID=America/Chicago:20251111T130000
DTEND;TZID=America/Chicago:20251111T140000
DTSTAMP:20260423T191912
CREATED:20231026T171956Z
LAST-MODIFIED:20231031T193854Z
UID:26451-1762866000-1762869600@womenagainstmilitarymadness.org
SUMMARY:Born in Gaza Special Screening
DESCRIPTION:Sunday\, November 12\, 2023 at 1:00 pm\, 4200 Cedar Ave S\, Mpls MN \nBorn In Gaza: This documentary film focuses on the violence of the Israel-Palestine conflict and its effects on the children of Gaza. The documentary follows the story of ten children who tell what their daily life is like after the horror of the war in Gaza in the summer of 2014. \nThe film had a limited 2014 release in Spain\, with 2019 internet releases in Singapore\, UK\, Canada and UAE \nDirector Hernán Zin | Spain | 2014 | 1 hr 9 minutes \nMasks and social distancing by choice. \nConnecting the dots…discussion\nAlways FREE and open to the public\nALL ARE WELCOME! Free refreshments!\nSponsored by the WAMM Movie Committee\, Vets for Peace Chapter 27\, WAMM Middle East Committee \n\n\n	Related
URL:https://womenagainstmilitarymadness.org/events/born-in-gaza-special-screening/
LOCATION:4200 Cedar Ave S\, Minneapolis MN 55407\, 4200 Cedar Ave S\, Minneapolis\, MN\, 55407\, United States
CATEGORIES:Featured Events,Upcoming Events
ATTACH;FMTTYPE=image/jpeg:https://womenagainstmilitarymadness.org/wp-content/uploads/2023/10/MV5BYzdiYzk5ZTItODQ2NS00ZTU3LWI1YzctNmMzYjEwYTg4YTc2XkEyXkFqcGdeQXVyMTMxODk2OTU@._V1_FMjpg_UX1000_.jpg
END:VEVENT
END:VCALENDAR