BEGIN:VCALENDAR
VERSION:2.0
PRODID:-//Women Against Military Madness - ECPv6.15.20//NONSGML v1.0//EN
CALSCALE:GREGORIAN
METHOD:PUBLISH
X-WR-CALNAME:Women Against Military Madness
X-ORIGINAL-URL:https://womenagainstmilitarymadness.org
X-WR-CALDESC:Events for Women Against Military Madness
REFRESH-INTERVAL;VALUE=DURATION:PT1H
X-Robots-Tag:noindex
X-PUBLISHED-TTL:PT1H
BEGIN:VTIMEZONE
TZID:America/Chicago
BEGIN:DAYLIGHT
TZOFFSETFROM:-0600
TZOFFSETTO:-0500
TZNAME:CDT
DTSTART:20240310T080000
END:DAYLIGHT
BEGIN:STANDARD
TZOFFSETFROM:-0500
TZOFFSETTO:-0600
TZNAME:CST
DTSTART:20241103T070000
END:STANDARD
BEGIN:DAYLIGHT
TZOFFSETFROM:-0600
TZOFFSETTO:-0500
TZNAME:CDT
DTSTART:20250309T080000
END:DAYLIGHT
BEGIN:STANDARD
TZOFFSETFROM:-0500
TZOFFSETTO:-0600
TZNAME:CST
DTSTART:20251102T070000
END:STANDARD
BEGIN:DAYLIGHT
TZOFFSETFROM:-0600
TZOFFSETTO:-0500
TZNAME:CDT
DTSTART:20260308T080000
END:DAYLIGHT
BEGIN:STANDARD
TZOFFSETFROM:-0500
TZOFFSETTO:-0600
TZNAME:CST
DTSTART:20261101T070000
END:STANDARD
END:VTIMEZONE
BEGIN:VEVENT
DTSTART;TZID=America/Chicago:20251031T170000
DTEND;TZID=America/Chicago:20251031T180000
DTSTAMP:20260423T144745
CREATED:20231012T160104Z
LAST-MODIFIED:20231012T160104Z
UID:26366-1761930000-1761933600@womenagainstmilitarymadness.org
SUMMARY:Build the Future — Break the U.S. Blockade on Cuba!
DESCRIPTION:Wednesday\, November 1\, 2023 at 5:00 pm \nLake Street-Marshall Ave Bridge \nJoin SCOTA on the bridge during the WAMM vigil in support of the United Nations’ vote to End the U.S. Blockade on Cuba!\n\nCuba will bring a resolution to the United Nations to end the cruel (60-year+) U.S. blockade on their country during the United Nations annual vote.\nSCOTA will be participating in a 24-hour global picket in support of the resolution.\nCuba’s resolution calls for: “Necessity of ending economic\, commercial and financial embargo imposed by the United States of America against Cuba.”\nIn 2022\, this resolution was passed overwhelmingly by 185 countries for the 30th consecutive vote at the UN General Assembly\, while the U.S. and one other country voted to continue the blockade\, and a couple of countries abstained.\nWhile the U.S. government continually votes “No” to ending the cruel blockade\, the people of the United States enter the family of nations from around the world to demand “End the Blockade on Cuba” and “Let Cuba Live.”\nThe people of the U.S. shows their support by passing many resolutions (at least 102). These resolutions represent 55 million people.\nWant to join the 24-hr virtual picket?\nSign up here: https://tinyurl.com/24hr4Cuba\nInitiated by the Solidarity Committee on the Americas (FYI: solidaritycommitteeofamericas@gmail.com)\n\n#UNVote4Cuba\n#OffTheListt\n#MejorSinBloqueo\n\n\n	Related
URL:https://womenagainstmilitarymadness.org/events/build-the-future-break-the-u-s-blockade-on-cuba/
LOCATION:Lake Street/Marshall Avenue Bridge over the Mississippi River\, 4998-4800 E Lake Street\, Minneapolis\, MN\, 55407\, United States
CATEGORIES:Featured Events,Upcoming Events
ATTACH;FMTTYPE=image/jpeg:https://womenagainstmilitarymadness.org/wp-content/uploads/2023/10/386509976_622814280064352_3062276101611210079_n.jpg
ORGANIZER;CN="SCOTA":MAILTO:solidaritycommitteeofamericas@gmail.com
END:VEVENT
END:VCALENDAR