BEGIN:VCALENDAR
VERSION:2.0
PRODID:-//Women Against Military Madness - ECPv6.15.20//NONSGML v1.0//EN
CALSCALE:GREGORIAN
METHOD:PUBLISH
X-WR-CALNAME:Women Against Military Madness
X-ORIGINAL-URL:https://womenagainstmilitarymadness.org
X-WR-CALDESC:Events for Women Against Military Madness
REFRESH-INTERVAL;VALUE=DURATION:PT1H
X-Robots-Tag:noindex
X-PUBLISHED-TTL:PT1H
BEGIN:VTIMEZONE
TZID:America/Chicago
BEGIN:DAYLIGHT
TZOFFSETFROM:-0600
TZOFFSETTO:-0500
TZNAME:CDT
DTSTART:20240310T080000
END:DAYLIGHT
BEGIN:STANDARD
TZOFFSETFROM:-0500
TZOFFSETTO:-0600
TZNAME:CST
DTSTART:20241103T070000
END:STANDARD
BEGIN:DAYLIGHT
TZOFFSETFROM:-0600
TZOFFSETTO:-0500
TZNAME:CDT
DTSTART:20250309T080000
END:DAYLIGHT
BEGIN:STANDARD
TZOFFSETFROM:-0500
TZOFFSETTO:-0600
TZNAME:CST
DTSTART:20251102T070000
END:STANDARD
BEGIN:DAYLIGHT
TZOFFSETFROM:-0600
TZOFFSETTO:-0500
TZNAME:CDT
DTSTART:20260308T080000
END:DAYLIGHT
BEGIN:STANDARD
TZOFFSETFROM:-0500
TZOFFSETTO:-0600
TZNAME:CST
DTSTART:20261101T070000
END:STANDARD
END:VTIMEZONE
BEGIN:VEVENT
DTSTART;TZID=America/Chicago:20250913T180000
DTEND;TZID=America/Chicago:20250913T203000
DTSTAMP:20260423T212202
CREATED:20250819T214023Z
LAST-MODIFIED:20250905T190806Z
UID:30767-1757786400-1757795400@womenagainstmilitarymadness.org
SUMMARY:Building A United Front Against Fascism: 2025 Social Justice Dinner
DESCRIPTION:Saturday\, September 13th\, 2025\, 6:00 PM\, Walker Community Church\, 2104 16th Ave S\, Minneapolis\, MN \n  \nDoors at 5:30 pm | Dinner at 6:00 pm \nRegistration Required: Buy Sliding Scale Tickets at bit.ly/NLGDINNER2025 \nKeynote Speaker: Dhoruba Bin Wahad\, Black Panther Party Leader\, Former Political Prisoner\, and Co-Founder of the Black Liberation Army \n  \nOrganized by National Lawyers Guild – Minnesota. Endorsed by WAMM. \n\n\n	Related
URL:https://womenagainstmilitarymadness.org/events/building-a-united-front-against-fascism-2025-social-justice-dinner/
LOCATION:New City Center\, 3104 16th Ave So\, Minneapolis\, Minnesota
CATEGORIES:Featured Events,Sponsored Events,Upcoming Events
ATTACH;FMTTYPE=image/webp:https://womenagainstmilitarymadness.org/wp-content/uploads/2025/08/signal-2025-08-19-142800.webp
END:VEVENT
END:VCALENDAR