BEGIN:VCALENDAR
VERSION:2.0
PRODID:-//Women Against Military Madness - ECPv6.15.20//NONSGML v1.0//EN
CALSCALE:GREGORIAN
METHOD:PUBLISH
X-WR-CALNAME:Women Against Military Madness
X-ORIGINAL-URL:https://womenagainstmilitarymadness.org
X-WR-CALDESC:Events for Women Against Military Madness
REFRESH-INTERVAL;VALUE=DURATION:PT1H
X-Robots-Tag:noindex
X-PUBLISHED-TTL:PT1H
BEGIN:VTIMEZONE
TZID:America/Chicago
BEGIN:DAYLIGHT
TZOFFSETFROM:-0600
TZOFFSETTO:-0500
TZNAME:CDT
DTSTART:20240310T080000
END:DAYLIGHT
BEGIN:STANDARD
TZOFFSETFROM:-0500
TZOFFSETTO:-0600
TZNAME:CST
DTSTART:20241103T070000
END:STANDARD
BEGIN:DAYLIGHT
TZOFFSETFROM:-0600
TZOFFSETTO:-0500
TZNAME:CDT
DTSTART:20250309T080000
END:DAYLIGHT
BEGIN:STANDARD
TZOFFSETFROM:-0500
TZOFFSETTO:-0600
TZNAME:CST
DTSTART:20251102T070000
END:STANDARD
BEGIN:DAYLIGHT
TZOFFSETFROM:-0600
TZOFFSETTO:-0500
TZNAME:CDT
DTSTART:20260308T080000
END:DAYLIGHT
BEGIN:STANDARD
TZOFFSETFROM:-0500
TZOFFSETTO:-0600
TZNAME:CST
DTSTART:20261101T070000
END:STANDARD
END:VTIMEZONE
BEGIN:VEVENT
DTSTART;TZID=America/Chicago:20250819T080000
DTEND;TZID=America/Chicago:20250819T170000
DTSTAMP:20260425T062730
CREATED:20250819T212259Z
LAST-MODIFIED:20250819T212259Z
UID:30764-1755590400-1755622800@womenagainstmilitarymadness.org
SUMMARY:Camp Ripley Peace Vigil
DESCRIPTION:Sunday\, September 14\, 2025\, 10 a.m. – 2 p.m.\, Camp Ripley main gate\, 15000 Hwy 115\, Little Falls\, MN \n  \nProtest outside Minnesota’s largest military base on its biannual Open House Day. Join us to say:NO to imperialism\, war & genocide NO to the trillion dollar war machine NO to ICE raids & police militarization \n  \nOrganized by Brainerd Area Coalition for Peace-Brainerd Lakes United Environmentalists (BACP-BLUE) \n\n\n\n\n\n	Related
URL:https://womenagainstmilitarymadness.org/events/camp-ripley-peace-vigil-2/
CATEGORIES:Sponsored Events,Upcoming Events
END:VEVENT
END:VCALENDAR