BEGIN:VCALENDAR
VERSION:2.0
PRODID:-//Women Against Military Madness - ECPv6.15.20//NONSGML v1.0//EN
CALSCALE:GREGORIAN
METHOD:PUBLISH
X-WR-CALNAME:Women Against Military Madness
X-ORIGINAL-URL:https://womenagainstmilitarymadness.org
X-WR-CALDESC:Events for Women Against Military Madness
REFRESH-INTERVAL;VALUE=DURATION:PT1H
X-Robots-Tag:noindex
X-PUBLISHED-TTL:PT1H
BEGIN:VTIMEZONE
TZID:America/Chicago
BEGIN:DAYLIGHT
TZOFFSETFROM:-0600
TZOFFSETTO:-0500
TZNAME:CDT
DTSTART:20240310T080000
END:DAYLIGHT
BEGIN:STANDARD
TZOFFSETFROM:-0500
TZOFFSETTO:-0600
TZNAME:CST
DTSTART:20241103T070000
END:STANDARD
BEGIN:DAYLIGHT
TZOFFSETFROM:-0600
TZOFFSETTO:-0500
TZNAME:CDT
DTSTART:20250309T080000
END:DAYLIGHT
BEGIN:STANDARD
TZOFFSETFROM:-0500
TZOFFSETTO:-0600
TZNAME:CST
DTSTART:20251102T070000
END:STANDARD
BEGIN:DAYLIGHT
TZOFFSETFROM:-0600
TZOFFSETTO:-0500
TZNAME:CDT
DTSTART:20260308T080000
END:DAYLIGHT
BEGIN:STANDARD
TZOFFSETFROM:-0500
TZOFFSETTO:-0600
TZNAME:CST
DTSTART:20261101T070000
END:STANDARD
END:VTIMEZONE
BEGIN:VEVENT
DTSTART;TZID=America/Chicago:20251027T100000
DTEND;TZID=America/Chicago:20251027T120000
DTSTAMP:20260423T161118
CREATED:20231004T160509Z
LAST-MODIFIED:20231004T160619Z
UID:26270-1761559200-1761566400@womenagainstmilitarymadness.org
SUMMARY:Coffee Hour: Paul Peulevé Baker Hernández on Nicaragua
DESCRIPTION:10:00 am\, Saturday\, October 28\, 2023.  \nJoin us in person at 4200 Cedar Ave\, Minneapolis\, MN. If you’re able to come to the coffee hour in person\, coffee\, bagels and donuts will be served. If you can’t make it in person\, join us on the Facebook page or on Zoom (Register early!) \n1960s: Paul is a hermit monk. His sister smuggles in Bob Dylan’s\, ‘Blowin’ in the Wind.’ Haunted by\, ‘How many times can a man turn his head\, pretending he just doesn’t see?’ Paul makes guitar from scrap wood; gets booted out (silent monastery)! Seeking answers\, invades Queen Elizabeth’s private castle; leads 300\,000 people + Pope in\, “We Shall Overcome!”; helps fend off Salvadoran death squads in LA!; lives in revolutionary Nicaragua\, home since Reagan’s war.\n\nPaul weaves songs\, news\, analysis and firsthand experience into presentations for house (& stadium!) concerts\, radio/tv\, lectures\, homilies\, classes\, discussions\, picket lines. In English and/or Spanish.\n\n\nSolidarity Committee of the Americas (SCOTA) \n4200 Cedar Avenue\, Minneapolis\, MN 55407\n(612) 827-5364. Facebook\n\n\n\n	Related
URL:https://womenagainstmilitarymadness.org/events/coffee-hour-paul-peuleve-baker-hernandez-on-nicaragua/
LOCATION:4200 Cedar Ave S\, Minneapolis MN 55407\, 4200 Cedar Ave S\, Minneapolis\, MN\, 55407\, United States
CATEGORIES:Featured Events,Upcoming Events
ATTACH;FMTTYPE=image/png:https://womenagainstmilitarymadness.org/wp-content/uploads/2023/10/download-2.png
ORGANIZER;CN="SCOTA":MAILTO:solidaritycommitteeofamericas@gmail.com
END:VEVENT
END:VCALENDAR