BEGIN:VCALENDAR
VERSION:2.0
PRODID:-//Women Against Military Madness - ECPv6.15.20//NONSGML v1.0//EN
CALSCALE:GREGORIAN
METHOD:PUBLISH
X-WR-CALNAME:Women Against Military Madness
X-ORIGINAL-URL:https://womenagainstmilitarymadness.org
X-WR-CALDESC:Events for Women Against Military Madness
REFRESH-INTERVAL;VALUE=DURATION:PT1H
X-Robots-Tag:noindex
X-PUBLISHED-TTL:PT1H
BEGIN:VTIMEZONE
TZID:America/Chicago
BEGIN:DAYLIGHT
TZOFFSETFROM:-0600
TZOFFSETTO:-0500
TZNAME:CDT
DTSTART:20250309T080000
END:DAYLIGHT
BEGIN:STANDARD
TZOFFSETFROM:-0500
TZOFFSETTO:-0600
TZNAME:CST
DTSTART:20251102T070000
END:STANDARD
BEGIN:DAYLIGHT
TZOFFSETFROM:-0600
TZOFFSETTO:-0500
TZNAME:CDT
DTSTART:20260308T080000
END:DAYLIGHT
BEGIN:STANDARD
TZOFFSETFROM:-0500
TZOFFSETTO:-0600
TZNAME:CST
DTSTART:20261101T070000
END:STANDARD
BEGIN:DAYLIGHT
TZOFFSETFROM:-0600
TZOFFSETTO:-0500
TZNAME:CDT
DTSTART:20270314T080000
END:DAYLIGHT
BEGIN:STANDARD
TZOFFSETFROM:-0500
TZOFFSETTO:-0600
TZNAME:CST
DTSTART:20271107T070000
END:STANDARD
END:VTIMEZONE
BEGIN:VEVENT
DTSTART;TZID=America/Chicago:20260206T180000
DTEND;TZID=America/Chicago:20260206T190000
DTSTAMP:20260423T233143
CREATED:20240205T182006Z
LAST-MODIFIED:20240205T182006Z
UID:26947-1770400800-1770404400@womenagainstmilitarymadness.org
SUMMARY:Community Press Conference to Shut Down Smith Foundry
DESCRIPTION:Wednesday\, February 7\, 2024\, 6:00 pm\, East Philips Community Center\, 2307 17th Ave S \nThe MN Pollution Control Agency (MPCA) is splitting their long-overdue “community meeting” about Smith Foundry into two separate sessions\, with several isolated booths\, and no space for public comment. \nThis format is designed to prevent the community from expressing opposition collectively. Join Little Earth Protectors\, the Climate Justice\, and more to give the community a voice and speak out against pollution in our communities. \nEndorsed by EMMAE Committee. \n  \n\n\n	Related
URL:https://womenagainstmilitarymadness.org/events/community-press-conference-to-shut-down-smith-foundry/
LOCATION:East Philips Community Center\, 2307 17th Ave S\, Minneapolis\, MN\, 55404\, United States
CATEGORIES:Featured Events,Sponsored Events,Upcoming Events
ATTACH;FMTTYPE=image/jpeg:https://womenagainstmilitarymadness.org/wp-content/uploads/2024/02/424748281_18018686549043130_7819676816018928616_n.jpg
END:VEVENT
END:VCALENDAR