BEGIN:VCALENDAR
VERSION:2.0
PRODID:-//Women Against Military Madness - ECPv6.15.20//NONSGML v1.0//EN
CALSCALE:GREGORIAN
METHOD:PUBLISH
X-WR-CALNAME:Women Against Military Madness
X-ORIGINAL-URL:https://womenagainstmilitarymadness.org
X-WR-CALDESC:Events for Women Against Military Madness
REFRESH-INTERVAL;VALUE=DURATION:PT1H
X-Robots-Tag:noindex
X-PUBLISHED-TTL:PT1H
BEGIN:VTIMEZONE
TZID:America/Chicago
BEGIN:DAYLIGHT
TZOFFSETFROM:-0600
TZOFFSETTO:-0500
TZNAME:CDT
DTSTART:20240310T080000
END:DAYLIGHT
BEGIN:STANDARD
TZOFFSETFROM:-0500
TZOFFSETTO:-0600
TZNAME:CST
DTSTART:20241103T070000
END:STANDARD
BEGIN:DAYLIGHT
TZOFFSETFROM:-0600
TZOFFSETTO:-0500
TZNAME:CDT
DTSTART:20250309T080000
END:DAYLIGHT
BEGIN:STANDARD
TZOFFSETFROM:-0500
TZOFFSETTO:-0600
TZNAME:CST
DTSTART:20251102T070000
END:STANDARD
BEGIN:DAYLIGHT
TZOFFSETFROM:-0600
TZOFFSETTO:-0500
TZNAME:CDT
DTSTART:20260308T080000
END:DAYLIGHT
BEGIN:STANDARD
TZOFFSETFROM:-0500
TZOFFSETTO:-0600
TZNAME:CST
DTSTART:20261101T070000
END:STANDARD
END:VTIMEZONE
BEGIN:VEVENT
DTSTART;TZID=America/Chicago:20251214T100000
DTEND;TZID=America/Chicago:20251214T113000
DTSTAMP:20260423T204937
CREATED:20241203T213006Z
LAST-MODIFIED:20241203T213006Z
UID:29084-1765706400-1765711800@womenagainstmilitarymadness.org
SUMMARY:December MEPN Forum
DESCRIPTION:Saturday\, December 14\, 2024\, 10:00 – 11:30 AM\, Online\, click here to register \n\n“The Gaza Catastrophe: What Next for Palestine & Israel?” with Khaled Elgindy \nForum topic: More than a year after the October 7 Hamas attack on Israel\, Israel’s ongoing assault on Gaza shows no sign of letting up\, even as the conflict has now spread to Lebanon and beyond. The war on Gaza has killed at least 43\,000 people\, forcibly displaced nearly all of Gaza’s 2.3 million inhabitants\, and reduced most of the coastal enclave to rubble\, while starvation and disease continue to spread at an alarming rate. The conflict is already the deadliest moment in Palestinian history and the most destructive episode in the century-old conflict in Israel-Palestine. Why have U.S.-backed ceasefire efforts continued to fail? What future is there for Gaza and its devastated population? What are the long-term repercussions of the current Gaza catastrophe for Israeli security\, Palestinian self-determination\, and a peaceful settlement between Palestinians and Israelis? \nAbout the speaker: Khaled Elgindy is director of the Middle East Institute’s Program on Palestine and Palestinian-Israeli Affairs and adjunct instructor in Arab Studies at Georgetown University. He is the author of the 2019 book\, Blind Spot: America and the Palestinians\, from Balfour to Trump (Brookings Institution Press). Elgindy previously served as a resident scholar in the Foreign Policy program at the Brookings Institution from 2010 through 2018. Prior to arriving at Brookings\, he served as an adviser to the Palestinian leadership in Ramallah on permanent status negotiations with Israel from 2004 to 2009\, and was a key participant in the Annapolis negotiations of 2007-08. \nPlease contact mepn@mepn.org with any questions. Organized by Middle East Peace Now\, sponsored by WAMM Middle East Committee \n\n\n\n	Related
URL:https://womenagainstmilitarymadness.org/events/december-mepn-forum/
LOCATION:Online Event
CATEGORIES:Featured Events,Sponsored Events,Upcoming Events
ATTACH;FMTTYPE=image/jpeg:https://womenagainstmilitarymadness.org/wp-content/uploads/2024/12/1d302e76-87c6-e02d-8adf-61e8f0fd67ee.jpg
ORGANIZER;CN="Middle East Peace Now":MAILTO:mepn@mepn.org
END:VEVENT
END:VCALENDAR