BEGIN:VCALENDAR
VERSION:2.0
PRODID:-//Women Against Military Madness - ECPv6.15.20//NONSGML v1.0//EN
CALSCALE:GREGORIAN
METHOD:PUBLISH
X-WR-CALNAME:Women Against Military Madness
X-ORIGINAL-URL:https://womenagainstmilitarymadness.org
X-WR-CALDESC:Events for Women Against Military Madness
REFRESH-INTERVAL;VALUE=DURATION:PT1H
X-Robots-Tag:noindex
X-PUBLISHED-TTL:PT1H
BEGIN:VTIMEZONE
TZID:America/Chicago
BEGIN:DAYLIGHT
TZOFFSETFROM:-0600
TZOFFSETTO:-0500
TZNAME:CDT
DTSTART:20240310T080000
END:DAYLIGHT
BEGIN:STANDARD
TZOFFSETFROM:-0500
TZOFFSETTO:-0600
TZNAME:CST
DTSTART:20241103T070000
END:STANDARD
BEGIN:DAYLIGHT
TZOFFSETFROM:-0600
TZOFFSETTO:-0500
TZNAME:CDT
DTSTART:20250309T080000
END:DAYLIGHT
BEGIN:STANDARD
TZOFFSETFROM:-0500
TZOFFSETTO:-0600
TZNAME:CST
DTSTART:20251102T070000
END:STANDARD
BEGIN:DAYLIGHT
TZOFFSETFROM:-0600
TZOFFSETTO:-0500
TZNAME:CDT
DTSTART:20260308T080000
END:DAYLIGHT
BEGIN:STANDARD
TZOFFSETFROM:-0500
TZOFFSETTO:-0600
TZNAME:CST
DTSTART:20261101T070000
END:STANDARD
END:VTIMEZONE
BEGIN:VEVENT
DTSTART;TZID=America/Chicago:20251210T183000
DTEND;TZID=America/Chicago:20251210T193000
DTSTAMP:20260423T162218
CREATED:20231206T182706Z
LAST-MODIFIED:20231207T210741Z
UID:26704-1765391400-1765395000@womenagainstmilitarymadness.org
SUMMARY:Demand the Edina School Board Stop Censoring Students
DESCRIPTION:Monday\, December 11\, 2023\, 6:30 pm\n5701 Normandale Rd (Edina Community Center)\, Edina\, MN\n\nOn October 26th\, Edina High School suspended 2 students with false claims of antisemitism for using the phrase “from the river to the sea\, Palestine will be free” during a walkout protesting the ongoing Palestinian genocide at the hands of the Israeli apartheid state. “From the river to the sea…” is a call for Palestinian liberation from the Jordan River to the Mediterranean Sea.\nDemand Edina Schools stop repressing students that stand with Palestine!\n\nProtest at the Edina School Board meeting!\n\nInitiated by CAIR-MN and MIRAC\, Sponsored by WAMM\n\n\n	Related
URL:https://womenagainstmilitarymadness.org/events/demand-the-edina-school-board-stop-censoring-students/
LOCATION:Edina Community Center\, 5701 Normandale Rd\, Edina\, MN\, 55424\, United States
CATEGORIES:Featured Events,Sponsored Events,Upcoming Events
ATTACH;FMTTYPE=image/jpeg:https://womenagainstmilitarymadness.org/wp-content/uploads/2023/12/408295816_733850042105736_7951123287892864541_n.jpg
END:VEVENT
END:VCALENDAR