BEGIN:VCALENDAR
VERSION:2.0
PRODID:-//Women Against Military Madness - ECPv6.15.20//NONSGML v1.0//EN
CALSCALE:GREGORIAN
METHOD:PUBLISH
X-WR-CALNAME:Women Against Military Madness
X-ORIGINAL-URL:https://womenagainstmilitarymadness.org
X-WR-CALDESC:Events for Women Against Military Madness
REFRESH-INTERVAL;VALUE=DURATION:PT1H
X-Robots-Tag:noindex
X-PUBLISHED-TTL:PT1H
BEGIN:VTIMEZONE
TZID:America/Chicago
BEGIN:DAYLIGHT
TZOFFSETFROM:-0600
TZOFFSETTO:-0500
TZNAME:CDT
DTSTART:20240310T080000
END:DAYLIGHT
BEGIN:STANDARD
TZOFFSETFROM:-0500
TZOFFSETTO:-0600
TZNAME:CST
DTSTART:20241103T070000
END:STANDARD
BEGIN:DAYLIGHT
TZOFFSETFROM:-0600
TZOFFSETTO:-0500
TZNAME:CDT
DTSTART:20250309T080000
END:DAYLIGHT
BEGIN:STANDARD
TZOFFSETFROM:-0500
TZOFFSETTO:-0600
TZNAME:CST
DTSTART:20251102T070000
END:STANDARD
BEGIN:DAYLIGHT
TZOFFSETFROM:-0600
TZOFFSETTO:-0500
TZNAME:CDT
DTSTART:20260308T080000
END:DAYLIGHT
BEGIN:STANDARD
TZOFFSETFROM:-0500
TZOFFSETTO:-0600
TZNAME:CST
DTSTART:20261101T070000
END:STANDARD
END:VTIMEZONE
BEGIN:VEVENT
DTSTART;TZID=America/Chicago:20250630T193000
DTEND;TZID=America/Chicago:20250630T203000
DTSTAMP:20260423T192457
CREATED:20250628T053419Z
LAST-MODIFIED:20250628T053419Z
UID:30361-1751311800-1751315400@womenagainstmilitarymadness.org
SUMMARY:Die-In to Conclude 40 Fast
DESCRIPTION:Monday\, June 30th\, 7:30 PM\, 1st and Hennepin  \nVeterans for Peace and Allies conclude a 40 day fast on June 30th. Help mark the end of the fast with a Die-In and support the demands: 1) Stop Arming Israel; and 2) Resume United Nations Humanitarian Aid to Gaza. Gather on the sidewalk outside the Federal Reserve Building. Bring a sheet to participate! \nEndorsed by WAMM \n\n\n	Related
URL:https://womenagainstmilitarymadness.org/events/die-in-to-conclude-40-fast/
LOCATION:1st and Hennepin\, 1st St and Hennepin Ave\, Minneapolis
CATEGORIES:Sponsored Events,Upcoming Events
ATTACH;FMTTYPE=image/webp:https://womenagainstmilitarymadness.org/wp-content/uploads/2025/05/WAMM-Favicon.webp
ORGANIZER;CN="Veterans For Peace Chapter 27":MAILTO:vfpchapter27@gmail.com
END:VEVENT
END:VCALENDAR