BEGIN:VCALENDAR
VERSION:2.0
PRODID:-//Women Against Military Madness - ECPv6.15.20//NONSGML v1.0//EN
CALSCALE:GREGORIAN
METHOD:PUBLISH
X-WR-CALNAME:Women Against Military Madness
X-ORIGINAL-URL:https://womenagainstmilitarymadness.org
X-WR-CALDESC:Events for Women Against Military Madness
REFRESH-INTERVAL;VALUE=DURATION:PT1H
X-Robots-Tag:noindex
X-PUBLISHED-TTL:PT1H
BEGIN:VTIMEZONE
TZID:America/Chicago
BEGIN:DAYLIGHT
TZOFFSETFROM:-0600
TZOFFSETTO:-0500
TZNAME:CDT
DTSTART:20240310T080000
END:DAYLIGHT
BEGIN:STANDARD
TZOFFSETFROM:-0500
TZOFFSETTO:-0600
TZNAME:CST
DTSTART:20241103T070000
END:STANDARD
BEGIN:DAYLIGHT
TZOFFSETFROM:-0600
TZOFFSETTO:-0500
TZNAME:CDT
DTSTART:20250309T080000
END:DAYLIGHT
BEGIN:STANDARD
TZOFFSETFROM:-0500
TZOFFSETTO:-0600
TZNAME:CST
DTSTART:20251102T070000
END:STANDARD
BEGIN:DAYLIGHT
TZOFFSETFROM:-0600
TZOFFSETTO:-0500
TZNAME:CDT
DTSTART:20260308T080000
END:DAYLIGHT
BEGIN:STANDARD
TZOFFSETFROM:-0500
TZOFFSETTO:-0600
TZNAME:CST
DTSTART:20261101T070000
END:STANDARD
END:VTIMEZONE
BEGIN:VEVENT
DTSTART;TZID=America/Chicago:20250916T100000
DTEND;TZID=America/Chicago:20250916T110000
DTSTAMP:20260425T120948
CREATED:20220829T183832Z
LAST-MODIFIED:20220829T183832Z
UID:23396-1758016800-1758020400@womenagainstmilitarymadness.org
SUMMARY:Dispatch From Palestine with Mariam Barghouti
DESCRIPTION:Dispatch from Palestine with Mariam Barghouti\nSaturday\, September 17\, 2022 at 10:00 am\nOnline Event – Info to come! \nMariam Barghouti\, writer\, researcher\, and the senior Palestine correspondent for Mondoweiss in Palestine will address the realities faced by Palestinians in light of Israeli policies and practices in the last years. Barghouti will also address foreign policy engagement and the impact this has carried on the Palestinian struggle generally\, and vulnerable Palestinian communities in Palestine specifically.\nPlease direct questions about this event to mepn@mepn.org\nThank you to our forum sponsors\, Jewish Voice for Peace – Twin Cities\, East Side Freedom Library\, Northfielders for Justice in Palestine/Israel\, Women Against Military Madness\n\n\n	Related
URL:https://womenagainstmilitarymadness.org/events/dispatch-from-palestine-with-mariam-barghouti/
LOCATION:Online Event
CATEGORIES:Featured Events,Upcoming Events
ATTACH;FMTTYPE=image/jpeg:https://womenagainstmilitarymadness.org/wp-content/uploads/2022/08/Miriam-Barghouti.jpeg
ORGANIZER;CN="Women Against Military Madness":MAILTO:general@wamm.me
END:VEVENT
END:VCALENDAR