BEGIN:VCALENDAR
VERSION:2.0
PRODID:-//Women Against Military Madness - ECPv6.15.20//NONSGML v1.0//EN
CALSCALE:GREGORIAN
METHOD:PUBLISH
X-WR-CALNAME:Women Against Military Madness
X-ORIGINAL-URL:https://womenagainstmilitarymadness.org
X-WR-CALDESC:Events for Women Against Military Madness
REFRESH-INTERVAL;VALUE=DURATION:PT1H
X-Robots-Tag:noindex
X-PUBLISHED-TTL:PT1H
BEGIN:VTIMEZONE
TZID:America/Chicago
BEGIN:DAYLIGHT
TZOFFSETFROM:-0600
TZOFFSETTO:-0500
TZNAME:CDT
DTSTART:20210314T080000
END:DAYLIGHT
BEGIN:STANDARD
TZOFFSETFROM:-0500
TZOFFSETTO:-0600
TZNAME:CST
DTSTART:20211107T070000
END:STANDARD
BEGIN:DAYLIGHT
TZOFFSETFROM:-0600
TZOFFSETTO:-0500
TZNAME:CDT
DTSTART:20220313T080000
END:DAYLIGHT
BEGIN:STANDARD
TZOFFSETFROM:-0500
TZOFFSETTO:-0600
TZNAME:CST
DTSTART:20221106T070000
END:STANDARD
BEGIN:DAYLIGHT
TZOFFSETFROM:-0600
TZOFFSETTO:-0500
TZNAME:CDT
DTSTART:20230312T080000
END:DAYLIGHT
BEGIN:STANDARD
TZOFFSETFROM:-0500
TZOFFSETTO:-0600
TZNAME:CST
DTSTART:20231105T070000
END:STANDARD
END:VTIMEZONE
BEGIN:VEVENT
DTSTART;TZID=America/Chicago:20220823T170000
DTEND;TZID=America/Chicago:20220823T180000
DTSTAMP:20260423T221646
CREATED:20220719T171712Z
LAST-MODIFIED:20220719T172610Z
UID:23088-1661274000-1661277600@womenagainstmilitarymadness.org
SUMMARY:Divest MN from Israel
DESCRIPTION:Protest Minnesota’s Funding of Israeli weapons company Elbit Systems\nTuesday\, August 23\, 2022 at 5 pm\nMinnesota Governor’s Residence\n1006 Summit Avenue in St. Paul\, MN\n\n\nGOVERNOR WALZ: STOP BUILDING RACIST BORDER WALLS WITH OUR MONEY!!\nThe Minnesota State Board of Investments (SBI) has millions of our dollars invested in Elbit Systems\, an Israeli weapons company that built the apartheid walls in Palestine and is helping build Trump’s racist border wall on the Mexico-US border (now being finished under Biden)! Elbit sells its weapons bragging that they are “field tested” on Palestinians! We don’t want MN tax dollars being spent on occupation!\nGroups have repeatedly protested and demanded that the SBI divest not just from Elbit but from the entire occupation of Palestine. The SBI also invests in Israel Bonds\, direct unrestricted loans to the Government of Apartheid Israel. We’ve collected thousands of signatures from Minnesotans and continue to fight! Join us the day before the next SBI meeting at Walz’s mansion to send a loud message:\nDivest from apartheid!\ndivest from occupation!\ndivest from Israel!\nProtest! Governor’s Residence\nTuesday\, August 23rd @ 5pm\n1006 Summit Ave St Paul\, MN\nFROM PALESTINE TO MEXICO: ALL THE WALLS HAVE GOT TO GO!\n\n\n\n	Related
URL:https://womenagainstmilitarymadness.org/events/divest-mn-from-israel/
LOCATION:Minnesota Governor’s Residence\, 1006 Summit Ave\, St Paul\, Minneapolis\, MN\, United States
CATEGORIES:Featured Events,Upcoming Events
ATTACH;FMTTYPE=image/png:https://womenagainstmilitarymadness.org/wp-content/uploads/2022/07/Screen-Shot-2022-07-19-at-1.24.53-PM.png
ORGANIZER;CN="Women Against Military Madness":MAILTO:general@wamm.me
END:VEVENT
END:VCALENDAR