BEGIN:VCALENDAR
VERSION:2.0
PRODID:-//Women Against Military Madness - ECPv6.15.20//NONSGML v1.0//EN
CALSCALE:GREGORIAN
METHOD:PUBLISH
X-WR-CALNAME:Women Against Military Madness
X-ORIGINAL-URL:https://womenagainstmilitarymadness.org
X-WR-CALDESC:Events for Women Against Military Madness
REFRESH-INTERVAL;VALUE=DURATION:PT1H
X-Robots-Tag:noindex
X-PUBLISHED-TTL:PT1H
BEGIN:VTIMEZONE
TZID:America/Chicago
BEGIN:DAYLIGHT
TZOFFSETFROM:-0600
TZOFFSETTO:-0500
TZNAME:CDT
DTSTART:20240310T080000
END:DAYLIGHT
BEGIN:STANDARD
TZOFFSETFROM:-0500
TZOFFSETTO:-0600
TZNAME:CST
DTSTART:20241103T070000
END:STANDARD
BEGIN:DAYLIGHT
TZOFFSETFROM:-0600
TZOFFSETTO:-0500
TZNAME:CDT
DTSTART:20250309T080000
END:DAYLIGHT
BEGIN:STANDARD
TZOFFSETFROM:-0500
TZOFFSETTO:-0600
TZNAME:CST
DTSTART:20251102T070000
END:STANDARD
BEGIN:DAYLIGHT
TZOFFSETFROM:-0600
TZOFFSETTO:-0500
TZNAME:CDT
DTSTART:20260308T080000
END:DAYLIGHT
BEGIN:STANDARD
TZOFFSETFROM:-0500
TZOFFSETTO:-0600
TZNAME:CST
DTSTART:20261101T070000
END:STANDARD
END:VTIMEZONE
BEGIN:VEVENT
DTSTART;TZID=America/Chicago:20250813T080000
DTEND;TZID=America/Chicago:20250813T170000
DTSTAMP:20260423T212202
CREATED:20250813T163420Z
LAST-MODIFIED:20250813T163420Z
UID:30698-1755072000-1755104400@womenagainstmilitarymadness.org
SUMMARY:Divestment Press Conference + Rally
DESCRIPTION:Tuesday\, August 19\, 2025\, 5:30 PM\, MN Governor’s Residence\, 1006 Summit Ave\, St Paul\, MN \nOrganized by Anti-War Committee\, endorsed by Free Palestine Coalition and MN Labor for Palestine \n\n\n	Related
URL:https://womenagainstmilitarymadness.org/events/divestment-press-conference-rally/
LOCATION:Minnesota Governor’s Residence\, 1006 Summit Ave\, St Paul\, Minneapolis\, MN\, United States
CATEGORIES:Featured Events,Sponsored Events,Upcoming Events
ATTACH;FMTTYPE=image/webp:https://womenagainstmilitarymadness.org/wp-content/uploads/2025/08/walz.webp
ORGANIZER;CN="Anti-War Committee":MAILTO:info@antiwarcommittee.org
END:VEVENT
END:VCALENDAR