BEGIN:VCALENDAR
VERSION:2.0
PRODID:-//Women Against Military Madness - ECPv6.15.20//NONSGML v1.0//EN
CALSCALE:GREGORIAN
METHOD:PUBLISH
X-WR-CALNAME:Women Against Military Madness
X-ORIGINAL-URL:https://womenagainstmilitarymadness.org
X-WR-CALDESC:Events for Women Against Military Madness
REFRESH-INTERVAL;VALUE=DURATION:PT1H
X-Robots-Tag:noindex
X-PUBLISHED-TTL:PT1H
BEGIN:VTIMEZONE
TZID:America/Chicago
BEGIN:DAYLIGHT
TZOFFSETFROM:-0600
TZOFFSETTO:-0500
TZNAME:CDT
DTSTART:20240310T080000
END:DAYLIGHT
BEGIN:STANDARD
TZOFFSETFROM:-0500
TZOFFSETTO:-0600
TZNAME:CST
DTSTART:20241103T070000
END:STANDARD
BEGIN:DAYLIGHT
TZOFFSETFROM:-0600
TZOFFSETTO:-0500
TZNAME:CDT
DTSTART:20250309T080000
END:DAYLIGHT
BEGIN:STANDARD
TZOFFSETFROM:-0500
TZOFFSETTO:-0600
TZNAME:CST
DTSTART:20251102T070000
END:STANDARD
BEGIN:DAYLIGHT
TZOFFSETFROM:-0600
TZOFFSETTO:-0500
TZNAME:CDT
DTSTART:20260308T080000
END:DAYLIGHT
BEGIN:STANDARD
TZOFFSETFROM:-0500
TZOFFSETTO:-0600
TZNAME:CST
DTSTART:20261101T070000
END:STANDARD
END:VTIMEZONE
BEGIN:VEVENT
DTSTART;TZID=America/Chicago:20251208T190000
DTEND;TZID=America/Chicago:20251208T210000
DTSTAMP:20260423T161124
CREATED:20251203T194045Z
LAST-MODIFIED:20251204T174242Z
UID:33133-1765220400-1765227600@womenagainstmilitarymadness.org
SUMMARY:Documentary Screening "11\,103"
DESCRIPTION:Monday\, December 8\, 2025\, 7 PM\, 4200 Cedar Ave S\, Minneapolis \n“11\,103” is an award-winning documentary featuring survivors’ stories of state-sponsored violence during the Martial Law years of the dictator\, Philippine President Ferdinand Marcos Sr. Thousands were jailed\, tortured\, raped and killed while communities were massacred in the cross fire between state forces\, Maoist rebels and Muslim separatists. In 2013 the Philippine government passed a landmark law which officially recognized these atrocities and mandated compensation for the victims\, funded by the illegally acquired wealth of Ferdinand and Imelda Marcos hidden in their Swiss bank accounts. 11\,103 victims were given compensation as a result of the law. \nProducer: Kara Magsanoc\, Directors: Jeanette Ifurung\, Miguel Alcazaren 2022 I 86 minutes I English\, Tagalog I Subtitles: English \nDistributor: Active Vista Inc. \nGary King\, a founding member of the Philippine Study Group of Minnesota (PSGM)\, a member of Amnesty International Minneapolis Group 37 and a member of WAMM Committee Tackling Torture at the Top will facilitate the post screening discussion. \nCo-sponsored by: Tackling Torture at the Top and the Philippine Study Group of Minnesota \nOrganized by WAMM \n\n\n	Related
URL:https://womenagainstmilitarymadness.org/events/documentary-screening-11103/
LOCATION:4200 Cedar Ave S\, Minneapolis MN 55407\, 4200 Cedar Ave S\, Minneapolis\, MN\, 55407\, United States
CATEGORIES:Featured Events,Upcoming Events
ATTACH;FMTTYPE=image/webp:https://womenagainstmilitarymadness.org/wp-content/uploads/2025/12/11103.webp
END:VEVENT
END:VCALENDAR