BEGIN:VCALENDAR
VERSION:2.0
PRODID:-//Women Against Military Madness - ECPv6.15.20//NONSGML v1.0//EN
CALSCALE:GREGORIAN
METHOD:PUBLISH
X-WR-CALNAME:Women Against Military Madness
X-ORIGINAL-URL:https://womenagainstmilitarymadness.org
X-WR-CALDESC:Events for Women Against Military Madness
REFRESH-INTERVAL;VALUE=DURATION:PT1H
X-Robots-Tag:noindex
X-PUBLISHED-TTL:PT1H
BEGIN:VTIMEZONE
TZID:America/Chicago
BEGIN:DAYLIGHT
TZOFFSETFROM:-0600
TZOFFSETTO:-0500
TZNAME:CDT
DTSTART:20240310T080000
END:DAYLIGHT
BEGIN:STANDARD
TZOFFSETFROM:-0500
TZOFFSETTO:-0600
TZNAME:CST
DTSTART:20241103T070000
END:STANDARD
BEGIN:DAYLIGHT
TZOFFSETFROM:-0600
TZOFFSETTO:-0500
TZNAME:CDT
DTSTART:20250309T080000
END:DAYLIGHT
BEGIN:STANDARD
TZOFFSETFROM:-0500
TZOFFSETTO:-0600
TZNAME:CST
DTSTART:20251102T070000
END:STANDARD
BEGIN:DAYLIGHT
TZOFFSETFROM:-0600
TZOFFSETTO:-0500
TZNAME:CDT
DTSTART:20260308T080000
END:DAYLIGHT
BEGIN:STANDARD
TZOFFSETFROM:-0500
TZOFFSETTO:-0600
TZNAME:CST
DTSTART:20261101T070000
END:STANDARD
END:VTIMEZONE
BEGIN:VEVENT
DTSTART;TZID=America/Chicago:20251107T130000
DTEND;TZID=America/Chicago:20251107T143000
DTSTAMP:20260423T192740
CREATED:20241029T205323Z
LAST-MODIFIED:20241029T205323Z
UID:28959-1762520400-1762525800@womenagainstmilitarymadness.org
SUMMARY:DROP THE CHARGES! Court Rally for Robyn
DESCRIPTION:Thursday\, November 7\, 2024\, 1:00 PM\, 401 S 4th Ave\, Mpls \n🇵🇸DROP THE CHARGES AGAINST HALIMY HALL PROTESTER ROBYN!🇵🇸 \nJoin us next Thursday\, November 7th at 1 pm outside the Hennepin County District Courthouse to rally in support of Robyn during his arraignment hearing and demand that his bogus charge be dropped! Robyn Harbison is a recent UMN grad\, MNAAC member\, and the director of WAMM\, and is facing a bogus felony charge for assault against a police officer despite never touching a cop (let alone harming one). From UMN to Palestine\, protesting is not a crime! Drop the charges! \n1 PM Thursday\, November 7th\nOutside the Hennepin County Courthouse\n401 S 4th Ave\, Minneapolis \nOrganized by UMN SDS in collaboration with MN Abortion Action Committee + WAMM \n\n\n	Related
URL:https://womenagainstmilitarymadness.org/events/drop-the-charges-court-rally-for-robyn/
LOCATION:Hennepin County Public Safety Facility\, 401 4th Ave S\, Minneapolis\, MN\, 55415\, United States
CATEGORIES:Featured Events,Sponsored Events,Upcoming Events
ATTACH;FMTTYPE=image/jpeg:https://womenagainstmilitarymadness.org/wp-content/uploads/2024/10/IMG_5550.jpg
ORGANIZER;CN="Students for a Democratic Society at UMN":MAILTO:umnsds@gmail.com
END:VEVENT
END:VCALENDAR