BEGIN:VCALENDAR
VERSION:2.0
PRODID:-//Women Against Military Madness - ECPv6.15.20//NONSGML v1.0//EN
CALSCALE:GREGORIAN
METHOD:PUBLISH
X-WR-CALNAME:Women Against Military Madness
X-ORIGINAL-URL:https://womenagainstmilitarymadness.org
X-WR-CALDESC:Events for Women Against Military Madness
REFRESH-INTERVAL;VALUE=DURATION:PT1H
X-Robots-Tag:noindex
X-PUBLISHED-TTL:PT1H
BEGIN:VTIMEZONE
TZID:America/Chicago
BEGIN:DAYLIGHT
TZOFFSETFROM:-0600
TZOFFSETTO:-0500
TZNAME:CDT
DTSTART:20240310T080000
END:DAYLIGHT
BEGIN:STANDARD
TZOFFSETFROM:-0500
TZOFFSETTO:-0600
TZNAME:CST
DTSTART:20241103T070000
END:STANDARD
BEGIN:DAYLIGHT
TZOFFSETFROM:-0600
TZOFFSETTO:-0500
TZNAME:CDT
DTSTART:20250309T080000
END:DAYLIGHT
BEGIN:STANDARD
TZOFFSETFROM:-0500
TZOFFSETTO:-0600
TZNAME:CST
DTSTART:20251102T070000
END:STANDARD
BEGIN:DAYLIGHT
TZOFFSETFROM:-0600
TZOFFSETTO:-0500
TZNAME:CDT
DTSTART:20260308T080000
END:DAYLIGHT
BEGIN:STANDARD
TZOFFSETFROM:-0500
TZOFFSETTO:-0600
TZNAME:CST
DTSTART:20261101T070000
END:STANDARD
END:VTIMEZONE
BEGIN:VEVENT
DTSTART;TZID=America/Chicago:20250422T130000
DTEND;TZID=America/Chicago:20250422T150000
DTSTAMP:20260423T221544
CREATED:20240417T185957Z
LAST-MODIFIED:20240417T185957Z
UID:27321-1745326800-1745334000@womenagainstmilitarymadness.org
SUMMARY:Earth Day Rally
DESCRIPTION:Earth Day Rally\nMonday\, April 22\, 2024\,  1:00 – 3:00 pm\, Ford Parkway & Cleveland in Highland Park\, St. Paul\nSponsored by Veterans For Peace chapter 27 \nStop the Wars! Save the Earth! \n\n\n	Related
URL:https://womenagainstmilitarymadness.org/events/earth-day-rally/
LOCATION:Cleveland Avenue South and Ford Parkway\, Cleveland Avenue South and Ford Parkway\, St Paul\, 55116\, United States
CATEGORIES:Featured Events,Sponsored Events,Upcoming Events
ATTACH;FMTTYPE=image/jpeg:https://womenagainstmilitarymadness.org/wp-content/uploads/2024/04/6cd4bea5-7ab0-fa31-15e4-272e8ff81867.jpg
ORGANIZER;CN="Veterans For Peace Chapter 27":MAILTO:vfpchapter27@gmail.com
END:VEVENT
END:VCALENDAR