BEGIN:VCALENDAR
VERSION:2.0
PRODID:-//Women Against Military Madness - ECPv6.15.20//NONSGML v1.0//EN
CALSCALE:GREGORIAN
METHOD:PUBLISH
X-WR-CALNAME:Women Against Military Madness
X-ORIGINAL-URL:https://womenagainstmilitarymadness.org
X-WR-CALDESC:Events for Women Against Military Madness
REFRESH-INTERVAL;VALUE=DURATION:PT1H
X-Robots-Tag:noindex
X-PUBLISHED-TTL:PT1H
BEGIN:VTIMEZONE
TZID:America/Chicago
BEGIN:DAYLIGHT
TZOFFSETFROM:-0600
TZOFFSETTO:-0500
TZNAME:CDT
DTSTART:20240310T080000
END:DAYLIGHT
BEGIN:STANDARD
TZOFFSETFROM:-0500
TZOFFSETTO:-0600
TZNAME:CST
DTSTART:20241103T070000
END:STANDARD
BEGIN:DAYLIGHT
TZOFFSETFROM:-0600
TZOFFSETTO:-0500
TZNAME:CDT
DTSTART:20250309T080000
END:DAYLIGHT
BEGIN:STANDARD
TZOFFSETFROM:-0500
TZOFFSETTO:-0600
TZNAME:CST
DTSTART:20251102T070000
END:STANDARD
BEGIN:DAYLIGHT
TZOFFSETFROM:-0600
TZOFFSETTO:-0500
TZNAME:CDT
DTSTART:20260308T080000
END:DAYLIGHT
BEGIN:STANDARD
TZOFFSETFROM:-0500
TZOFFSETTO:-0600
TZNAME:CST
DTSTART:20261101T070000
END:STANDARD
END:VTIMEZONE
BEGIN:VEVENT
DTSTART;TZID=America/Chicago:20250608T140000
DTEND;TZID=America/Chicago:20250608T153000
DTSTAMP:20260425T210253
CREATED:20240605T194656Z
LAST-MODIFIED:20240605T194656Z
UID:27598-1749391200-1749396600@womenagainstmilitarymadness.org
SUMMARY:EMERGENCY PROTEST! NO TO BIDEN’S TRUMP-LIKE BORDER SHUTDOWN! PROTECT ASYLUM!
DESCRIPTION:Saturday\, June 8\, 2024\, 2:00 PM\, Lake & Nicollet\, Minneapolis \nOn Tuesday\, President Biden issued an executive order that will implement much of Trump’s racist immigration agenda by illegally restricting asylum and shutting down the border. \n\nJoin us to protest Biden’s anti-immigrant order and demand legalization for all! Initiated by MN Immigrant Rights Action Committee (MIRAC).\n\n\n	Related
URL:https://womenagainstmilitarymadness.org/events/emergency-protest-no-to-bidens-trump-like-border-shutdown-protect-asylum/
LOCATION:Lake & Nicollet\, Nicollet Ave & E Lake St\, Minneapolis\, MN\, 55408\, United States
CATEGORIES:Featured Events,Sponsored Events,Upcoming Events
ATTACH;FMTTYPE=image/jpeg:https://womenagainstmilitarymadness.org/wp-content/uploads/2024/06/444925110_18437902378033981_6412919958037763375_n.jpg
END:VEVENT
END:VCALENDAR