BEGIN:VCALENDAR
VERSION:2.0
PRODID:-//Women Against Military Madness - ECPv6.15.20//NONSGML v1.0//EN
CALSCALE:GREGORIAN
METHOD:PUBLISH
X-WR-CALNAME:Women Against Military Madness
X-ORIGINAL-URL:https://womenagainstmilitarymadness.org
X-WR-CALDESC:Events for Women Against Military Madness
REFRESH-INTERVAL;VALUE=DURATION:PT1H
X-Robots-Tag:noindex
X-PUBLISHED-TTL:PT1H
BEGIN:VTIMEZONE
TZID:America/Chicago
BEGIN:DAYLIGHT
TZOFFSETFROM:-0600
TZOFFSETTO:-0500
TZNAME:CDT
DTSTART:20240310T080000
END:DAYLIGHT
BEGIN:STANDARD
TZOFFSETFROM:-0500
TZOFFSETTO:-0600
TZNAME:CST
DTSTART:20241103T070000
END:STANDARD
BEGIN:DAYLIGHT
TZOFFSETFROM:-0600
TZOFFSETTO:-0500
TZNAME:CDT
DTSTART:20250309T080000
END:DAYLIGHT
BEGIN:STANDARD
TZOFFSETFROM:-0500
TZOFFSETTO:-0600
TZNAME:CST
DTSTART:20251102T070000
END:STANDARD
BEGIN:DAYLIGHT
TZOFFSETFROM:-0600
TZOFFSETTO:-0500
TZNAME:CDT
DTSTART:20260308T080000
END:DAYLIGHT
BEGIN:STANDARD
TZOFFSETFROM:-0500
TZOFFSETTO:-0600
TZNAME:CST
DTSTART:20261101T070000
END:STANDARD
END:VTIMEZONE
BEGIN:VEVENT
DTSTART;TZID=America/Chicago:20251016T183000
DTEND;TZID=America/Chicago:20251016T200000
DTSTAMP:20260423T205052
CREATED:20221003T201303Z
LAST-MODIFIED:20221006T193755Z
UID:23476-1760639400-1760644800@womenagainstmilitarymadness.org
SUMMARY:Experiencing Palestine in 2022
DESCRIPTION:Experiencing Palestine in 2022\nMonday\, October 17\, 2022 at 4200 Cedar Ave S in Minneapolis \n6:30pm Gathering and Pizza\n7:00-8:00pm Program \nHybrid meeting: in person at 4200 Cedar Ave S.\, Minneapolis or online by Zoom\, Facebook Live. Register in advance via Zoom here. \nFred Rogers of Northfielders for Justice in Palestine/Israel recently returned from three weeks in the Middle East\, including two weeks in Palestine. He shares his observations and insights.\n\nFred has a long association with the region\, having lived in Beirut for three years and having visited the Middle East professionally and personally many times.\nSponsored by WAMM’s Middle East Committee and Northfielders for Justice in Palestine/Israel. \nAdditional Info: 612-827-5364 or general@WAMM.me \n  \n\n\n	Related
URL:https://womenagainstmilitarymadness.org/events/experiencing-palestine-in-2022/
LOCATION:4200 Cedar Ave S\, Minneapolis MN 55407\, 4200 Cedar Ave S\, Minneapolis\, MN\, 55407\, United States
CATEGORIES:Featured Events,Upcoming Events
ATTACH;FMTTYPE=image/png:https://womenagainstmilitarymadness.org/wp-content/uploads/2022/10/Screen-Shot-2022-10-03-at-3.12.13-PM.png
END:VEVENT
END:VCALENDAR