BEGIN:VCALENDAR
VERSION:2.0
PRODID:-//Women Against Military Madness - ECPv6.15.20//NONSGML v1.0//EN
CALSCALE:GREGORIAN
METHOD:PUBLISH
X-WR-CALNAME:Women Against Military Madness
X-ORIGINAL-URL:https://womenagainstmilitarymadness.org
X-WR-CALDESC:Events for Women Against Military Madness
REFRESH-INTERVAL;VALUE=DURATION:PT1H
X-Robots-Tag:noindex
X-PUBLISHED-TTL:PT1H
BEGIN:VTIMEZONE
TZID:America/Chicago
BEGIN:DAYLIGHT
TZOFFSETFROM:-0600
TZOFFSETTO:-0500
TZNAME:CDT
DTSTART:20240310T080000
END:DAYLIGHT
BEGIN:STANDARD
TZOFFSETFROM:-0500
TZOFFSETTO:-0600
TZNAME:CST
DTSTART:20241103T070000
END:STANDARD
BEGIN:DAYLIGHT
TZOFFSETFROM:-0600
TZOFFSETTO:-0500
TZNAME:CDT
DTSTART:20250309T080000
END:DAYLIGHT
BEGIN:STANDARD
TZOFFSETFROM:-0500
TZOFFSETTO:-0600
TZNAME:CST
DTSTART:20251102T070000
END:STANDARD
BEGIN:DAYLIGHT
TZOFFSETFROM:-0600
TZOFFSETTO:-0500
TZNAME:CDT
DTSTART:20260308T080000
END:DAYLIGHT
BEGIN:STANDARD
TZOFFSETFROM:-0500
TZOFFSETTO:-0600
TZNAME:CST
DTSTART:20261101T070000
END:STANDARD
END:VTIMEZONE
BEGIN:VEVENT
DTSTART;TZID=America/Chicago:20251227T103000
DTEND;TZID=America/Chicago:20251227T123000
DTSTAMP:20260424T020502
CREATED:20251218T211142Z
LAST-MODIFIED:20251218T211142Z
UID:10006201-1766831400-1766838600@womenagainstmilitarymadness.org
SUMMARY:FAMM in the Park
DESCRIPTION:FAMM in the Park\, 10:30 am -12:30 pm\, fourth Saturday of every month\, Powderhorn Park (southeast playground – corner of 35th Street and 15th Avenue S) \nStarting this week\, we’re moving to winter hours for FAMM in the Park! \nPlease join us on the fourth SATURDAY of the month at 10:30 AM at the newly renovated (upper) playground at Powderhorn Park in Minneapolis (near the corner of E 35th St and 15th Ave S). \nWear your keffiyeh\, bring a snack\, and meet other kids and families for play and building connections! This is a casual playdate for meeting other parents\, caregivers\, and kids. Our plan is to be there for around two hours as our schedules and kiddos allow. Stop by when convenient for your schedule. \n\n\n	Related
URL:https://womenagainstmilitarymadness.org/events/famm-in-the-park-2/2025-12-27/
LOCATION:Powderhorn Park\, 3400 15th Ave S\, Minneapolis\, MN\, 55407\, United States
CATEGORIES:Recurring Events
ATTACH;FMTTYPE=image/webp:https://womenagainstmilitarymadness.org/wp-content/uploads/2025/12/585343176_122199517166342533_6351783001220013525_n.webp
END:VEVENT
END:VCALENDAR