BEGIN:VCALENDAR
VERSION:2.0
PRODID:-//Women Against Military Madness - ECPv6.15.20//NONSGML v1.0//EN
CALSCALE:GREGORIAN
METHOD:PUBLISH
X-WR-CALNAME:Women Against Military Madness
X-ORIGINAL-URL:https://womenagainstmilitarymadness.org
X-WR-CALDESC:Events for Women Against Military Madness
REFRESH-INTERVAL;VALUE=DURATION:PT1H
X-Robots-Tag:noindex
X-PUBLISHED-TTL:PT1H
BEGIN:VTIMEZONE
TZID:America/Chicago
BEGIN:DAYLIGHT
TZOFFSETFROM:-0600
TZOFFSETTO:-0500
TZNAME:CDT
DTSTART:20240310T080000
END:DAYLIGHT
BEGIN:STANDARD
TZOFFSETFROM:-0500
TZOFFSETTO:-0600
TZNAME:CST
DTSTART:20241103T070000
END:STANDARD
BEGIN:DAYLIGHT
TZOFFSETFROM:-0600
TZOFFSETTO:-0500
TZNAME:CDT
DTSTART:20250309T080000
END:DAYLIGHT
BEGIN:STANDARD
TZOFFSETFROM:-0500
TZOFFSETTO:-0600
TZNAME:CST
DTSTART:20251102T070000
END:STANDARD
BEGIN:DAYLIGHT
TZOFFSETFROM:-0600
TZOFFSETTO:-0500
TZNAME:CDT
DTSTART:20260308T080000
END:DAYLIGHT
BEGIN:STANDARD
TZOFFSETFROM:-0500
TZOFFSETTO:-0600
TZNAME:CST
DTSTART:20261101T070000
END:STANDARD
END:VTIMEZONE
BEGIN:VEVENT
DTSTART;TZID=America/Chicago:20250809T190000
DTEND;TZID=America/Chicago:20250809T210000
DTSTAMP:20260425T165332
CREATED:20240807T164314Z
LAST-MODIFIED:20240807T164314Z
UID:28214-1754766000-1754773200@womenagainstmilitarymadness.org
SUMMARY:Fighting Against War and Militarism Worldwide ft. Cancel RIMPAC + Resist NATO
DESCRIPTION:Friday\, August 9\, 2024\, 7:00 – 9:00 pm CST\, Online (Click here for registration) \n\nThe NATO alliance and the RIMPAC exercises are two of the most devastating tools the US war machine uses to enact much wider war preparations and provocations around the world. \nOn this day\, the anniversary of the horrific and terroristic US nuclear bombing of Nagasaki\, we are reminded of the urgent need to unite and fight to make sure that such mass killing is stopped and all-out nuclear war never starts. \nJoin the Cancel RIMPAC campaign and the Resist NATO coalition on a political educational event exposing the bigger picture of how RIMPAC and NATO fit into the global US war strategy and how our movements are uniting and fighting back at every step! \nRegister for zoom link: tinyurl.com/AUG9RNCR \n\nOrganized by Cancel RIMPAC Campaign + Resist NATO Coalition (Endorsed by the International Women’s Alliance which WAMM is a part of)\n\n\n	Related
URL:https://womenagainstmilitarymadness.org/events/fighting-against-war-and-militarism-worldwide-ft-cancel-rimpac-resist-nato/
LOCATION:Online Event
CATEGORIES:Featured Events,Sponsored Events,Upcoming Events
ATTACH;FMTTYPE=image/jpeg:https://womenagainstmilitarymadness.org/wp-content/uploads/2024/08/rimpac.jpg
END:VEVENT
END:VCALENDAR