BEGIN:VCALENDAR
VERSION:2.0
PRODID:-//Women Against Military Madness - ECPv6.15.20//NONSGML v1.0//EN
CALSCALE:GREGORIAN
METHOD:PUBLISH
X-WR-CALNAME:Women Against Military Madness
X-ORIGINAL-URL:https://womenagainstmilitarymadness.org
X-WR-CALDESC:Events for Women Against Military Madness
REFRESH-INTERVAL;VALUE=DURATION:PT1H
X-Robots-Tag:noindex
X-PUBLISHED-TTL:PT1H
BEGIN:VTIMEZONE
TZID:America/Chicago
BEGIN:DAYLIGHT
TZOFFSETFROM:-0600
TZOFFSETTO:-0500
TZNAME:CDT
DTSTART:20250309T080000
END:DAYLIGHT
BEGIN:STANDARD
TZOFFSETFROM:-0500
TZOFFSETTO:-0600
TZNAME:CST
DTSTART:20251102T070000
END:STANDARD
BEGIN:DAYLIGHT
TZOFFSETFROM:-0600
TZOFFSETTO:-0500
TZNAME:CDT
DTSTART:20260308T080000
END:DAYLIGHT
BEGIN:STANDARD
TZOFFSETFROM:-0500
TZOFFSETTO:-0600
TZNAME:CST
DTSTART:20261101T070000
END:STANDARD
BEGIN:DAYLIGHT
TZOFFSETFROM:-0600
TZOFFSETTO:-0500
TZNAME:CDT
DTSTART:20270314T080000
END:DAYLIGHT
BEGIN:STANDARD
TZOFFSETFROM:-0500
TZOFFSETTO:-0600
TZNAME:CST
DTSTART:20271107T070000
END:STANDARD
END:VTIMEZONE
BEGIN:VEVENT
DTSTART;TZID=America/Chicago:20260112T100000
DTEND;TZID=America/Chicago:20260113T133000
DTSTAMP:20260423T203554
CREATED:20240112T201741Z
LAST-MODIFIED:20240112T201741Z
UID:26869-1768212000-1768311000@womenagainstmilitarymadness.org
SUMMARY:Fly a Kite 4 Gaza
DESCRIPTION:Kite Art Build: Saturday\, January 13\, 10:00 am – 1:00 pm\, Public Functionary\, 1500 Jackson St NE Studio 247\nFly a Kite 4 Gaza: Sunday\, January 14\, 12:30 – 1:30 pm\, MN Capitol Lawn\n\nCelebrate International Kite Day honoring the martyrs of Gaza and calling for a free Palestine!!! Kites will be provided at this event where we will chant and hear music as we demand no more US aid to Israel and an end to the Zionist occupation. This event was largely inspired by the poem If I Must Die by Refaat Alareer.\nJoin us the day before to build kites together at Public Functionary to make sure we fill the sky with hundreds of beautiful kites for Gaza.\n\nInitiated by UMN SDS and SJP UMN> Sponsored by WAMM\n\n\n	Related
URL:https://womenagainstmilitarymadness.org/events/fly-a-kite-4-gaza/
LOCATION:Minnesota State Capitol\, 75 Rev. Dr. Martin Luther King\, Jr. Blvd\, St Paul\, MN\, 55155\, United States
CATEGORIES:Featured Events,Sponsored Events,Upcoming Events
ATTACH;FMTTYPE=image/jpeg:https://womenagainstmilitarymadness.org/wp-content/uploads/2024/01/418574214_754172606748474_6278373933132457523_n-copy.jpg
ORGANIZER;CN="Students for a Democratic Society at UMN":MAILTO:umnsds@gmail.com
END:VEVENT
END:VCALENDAR