BEGIN:VCALENDAR
VERSION:2.0
PRODID:-//Women Against Military Madness - ECPv6.15.20//NONSGML v1.0//EN
CALSCALE:GREGORIAN
METHOD:PUBLISH
X-WR-CALNAME:Women Against Military Madness
X-ORIGINAL-URL:https://womenagainstmilitarymadness.org
X-WR-CALDESC:Events for Women Against Military Madness
REFRESH-INTERVAL;VALUE=DURATION:PT1H
X-Robots-Tag:noindex
X-PUBLISHED-TTL:PT1H
BEGIN:VTIMEZONE
TZID:America/Chicago
BEGIN:DAYLIGHT
TZOFFSETFROM:-0600
TZOFFSETTO:-0500
TZNAME:CDT
DTSTART:20250309T080000
END:DAYLIGHT
BEGIN:STANDARD
TZOFFSETFROM:-0500
TZOFFSETTO:-0600
TZNAME:CST
DTSTART:20251102T070000
END:STANDARD
BEGIN:DAYLIGHT
TZOFFSETFROM:-0600
TZOFFSETTO:-0500
TZNAME:CDT
DTSTART:20260308T080000
END:DAYLIGHT
BEGIN:STANDARD
TZOFFSETFROM:-0500
TZOFFSETTO:-0600
TZNAME:CST
DTSTART:20261101T070000
END:STANDARD
BEGIN:DAYLIGHT
TZOFFSETFROM:-0600
TZOFFSETTO:-0500
TZNAME:CDT
DTSTART:20270314T080000
END:DAYLIGHT
BEGIN:STANDARD
TZOFFSETFROM:-0500
TZOFFSETTO:-0600
TZNAME:CST
DTSTART:20271107T070000
END:STANDARD
END:VTIMEZONE
BEGIN:VEVENT
DTSTART;VALUE=DATE:20260116
DTEND;VALUE=DATE:20260117
DTSTAMP:20260423T192852
CREATED:20260114T001511Z
LAST-MODIFIED:20260114T001511Z
UID:33356-1768521600-1768607999@womenagainstmilitarymadness.org
SUMMARY:FREE PRESIDENT MADURO! HANDS OFF VENEZUELA!
DESCRIPTION:The Anti-War Action Network and the International League of Peoples’ Struggle are calling for a National Day of Action on Friday\, January 16th to continue to build a mass movement leading up to his next court date in March which shows opposition to the illegal kidnapping and illegal trial of President Nicolas Maduro. We say “Free President Maduro” and “No War On Venezuela”! \nJoin us and organize a protest in your city on January 16th demanding U.S. Hands Off Venezuela! We can show the Trump regime and the complicit media that our consent cannot be manufactured for another war for oil. Help us build a broad front against Trump\, his war on Venezuela\, and the illegal arrest of President Maduro. \n\n\n	Related
URL:https://womenagainstmilitarymadness.org/events/free-president-maduro-hands-off-venezuela/
CATEGORIES:Featured Events,Upcoming Events
ATTACH;FMTTYPE=image/jpeg:https://womenagainstmilitarymadness.org/wp-content/uploads/2026/01/FreeMaduro.jpg
END:VEVENT
END:VCALENDAR