BEGIN:VCALENDAR
VERSION:2.0
PRODID:-//Women Against Military Madness - ECPv6.15.20//NONSGML v1.0//EN
CALSCALE:GREGORIAN
METHOD:PUBLISH
X-WR-CALNAME:Women Against Military Madness
X-ORIGINAL-URL:https://womenagainstmilitarymadness.org
X-WR-CALDESC:Events for Women Against Military Madness
REFRESH-INTERVAL;VALUE=DURATION:PT1H
X-Robots-Tag:noindex
X-PUBLISHED-TTL:PT1H
BEGIN:VTIMEZONE
TZID:America/Chicago
BEGIN:DAYLIGHT
TZOFFSETFROM:-0600
TZOFFSETTO:-0500
TZNAME:CDT
DTSTART:20230312T080000
END:DAYLIGHT
BEGIN:STANDARD
TZOFFSETFROM:-0500
TZOFFSETTO:-0600
TZNAME:CST
DTSTART:20231105T070000
END:STANDARD
BEGIN:DAYLIGHT
TZOFFSETFROM:-0600
TZOFFSETTO:-0500
TZNAME:CDT
DTSTART:20240310T080000
END:DAYLIGHT
BEGIN:STANDARD
TZOFFSETFROM:-0500
TZOFFSETTO:-0600
TZNAME:CST
DTSTART:20241103T070000
END:STANDARD
BEGIN:DAYLIGHT
TZOFFSETFROM:-0600
TZOFFSETTO:-0500
TZNAME:CDT
DTSTART:20250309T080000
END:DAYLIGHT
BEGIN:STANDARD
TZOFFSETFROM:-0500
TZOFFSETTO:-0600
TZNAME:CST
DTSTART:20251102T070000
END:STANDARD
END:VTIMEZONE
BEGIN:VEVENT
DTSTART;TZID=America/Chicago:20241101T160000
DTEND;TZID=America/Chicago:20241101T170000
DTSTAMP:20260423T162236
CREATED:20230414T024438Z
LAST-MODIFIED:20240103T163448Z
UID:10002498-1730476800-1730480400@womenagainstmilitarymadness.org
SUMMARY:Friday Weekly Palestine Vigil
DESCRIPTION:Friday Weekly Palestine Vigil\nSummit & Snelling Avenues in St. Paul\nEvery Friday from 4:00pm-5:00pm \nJoin us to stand against the brutal and unjust conditions of occupation!\nPlease wear masks and practice social distancing.\nSponsored by the WAMM Middle East Committee.\nBring signs and flags\, signs will be provided.\n\nFROM THE RIVER TO THE SEA\, PALESTINE WILL BE FREE! \n\n\n\n	Related
URL:https://womenagainstmilitarymadness.org/events/friday-weekly-palestine-vigil/2024-11-01/
LOCATION:Corner of Summit & Snelling in St. Paul\, Corner of Summit Ave and Snelling Ave\, St. Paul\, Minneapolis\, MN\, 55407\, United States
CATEGORIES:Recurring Events
ATTACH;FMTTYPE=image/jpeg:https://womenagainstmilitarymadness.org/wp-content/uploads/2023/04/Palestine-Vigil.jpeg
END:VEVENT
END:VCALENDAR