BEGIN:VCALENDAR
VERSION:2.0
PRODID:-//Women Against Military Madness - ECPv6.15.20//NONSGML v1.0//EN
CALSCALE:GREGORIAN
METHOD:PUBLISH
X-WR-CALNAME:Women Against Military Madness
X-ORIGINAL-URL:https://womenagainstmilitarymadness.org
X-WR-CALDESC:Events for Women Against Military Madness
REFRESH-INTERVAL;VALUE=DURATION:PT1H
X-Robots-Tag:noindex
X-PUBLISHED-TTL:PT1H
BEGIN:VTIMEZONE
TZID:America/Chicago
BEGIN:DAYLIGHT
TZOFFSETFROM:-0600
TZOFFSETTO:-0500
TZNAME:CDT
DTSTART:20210314T080000
END:DAYLIGHT
BEGIN:STANDARD
TZOFFSETFROM:-0500
TZOFFSETTO:-0600
TZNAME:CST
DTSTART:20211107T070000
END:STANDARD
BEGIN:DAYLIGHT
TZOFFSETFROM:-0600
TZOFFSETTO:-0500
TZNAME:CDT
DTSTART:20220313T080000
END:DAYLIGHT
BEGIN:STANDARD
TZOFFSETFROM:-0500
TZOFFSETTO:-0600
TZNAME:CST
DTSTART:20221106T070000
END:STANDARD
BEGIN:DAYLIGHT
TZOFFSETFROM:-0600
TZOFFSETTO:-0500
TZNAME:CDT
DTSTART:20230312T080000
END:DAYLIGHT
BEGIN:STANDARD
TZOFFSETFROM:-0500
TZOFFSETTO:-0600
TZNAME:CST
DTSTART:20231105T070000
END:STANDARD
END:VTIMEZONE
BEGIN:VEVENT
DTSTART;TZID=America/Chicago:20220324T190000
DTEND;TZID=America/Chicago:20220324T203000
DTSTAMP:20260423T225133
CREATED:20220310T215050Z
LAST-MODIFIED:20220310T215711Z
UID:20657-1648148400-1648153800@womenagainstmilitarymadness.org
SUMMARY:From Minneapolis to Palestine: Solidarity Against State Terror
DESCRIPTION:Across the world\, repression is worsening but the movement is growing. Palestinians are resisting Israel’s efforts to push them out of their homes in Sheikh Jarrah. In Minneapolis\, people are rising up against the recent execution of Amir Locke and anti-Black racism. \nJoin the Anti-War Committee\, Students for Justice in Palestine\, Twin Cities Coalition for Justice 4 Jamar\, Women Against Military Madness and Students for a Democratic Society for a panel on the multinational resistance from Minneapolis to Palestine\, during Israeli Apartheid Week. \nSpeakers will address how repression in Palestine and US cities like Minneapolis is connected by the tactics and technology Israel develops and exports to American law enforcement. But the resistance crosses borders too. Palestinians in the diaspora stand with Black victims of police violence. We are likewise seeing a global movement to free Palestine grow and gain legitimacy. \nCome to show your solidarity with Palestine and support community control of the police to stop killer cops! \nCo-sponsored by Students for Justice in Palestine – UMN\, Students for a Democratic Society. \n\n\n	Related
URL:https://womenagainstmilitarymadness.org/events/from-minneapolis-to-palestine-solidarity-against-state-terror/
LOCATION:Smith Hall\, Room 231\, Smith Hall\, University of Minnesota\, Minneapolis\, MN\, 55455\, United States
CATEGORIES:Upcoming Events
ATTACH;FMTTYPE=image/png:https://womenagainstmilitarymadness.org/wp-content/uploads/2022/03/FROM-MINNEAPOLIS-TO-PALESTINE-SOLIDARITY-AGAINST-STATE-TERROR.png
END:VEVENT
END:VCALENDAR