BEGIN:VCALENDAR
VERSION:2.0
PRODID:-//Women Against Military Madness - ECPv6.15.20//NONSGML v1.0//EN
CALSCALE:GREGORIAN
METHOD:PUBLISH
X-WR-CALNAME:Women Against Military Madness
X-ORIGINAL-URL:https://womenagainstmilitarymadness.org
X-WR-CALDESC:Events for Women Against Military Madness
REFRESH-INTERVAL;VALUE=DURATION:PT1H
X-Robots-Tag:noindex
X-PUBLISHED-TTL:PT1H
BEGIN:VTIMEZONE
TZID:America/Chicago
BEGIN:DAYLIGHT
TZOFFSETFROM:-0600
TZOFFSETTO:-0500
TZNAME:CDT
DTSTART:20240310T080000
END:DAYLIGHT
BEGIN:STANDARD
TZOFFSETFROM:-0500
TZOFFSETTO:-0600
TZNAME:CST
DTSTART:20241103T070000
END:STANDARD
BEGIN:DAYLIGHT
TZOFFSETFROM:-0600
TZOFFSETTO:-0500
TZNAME:CDT
DTSTART:20250309T080000
END:DAYLIGHT
BEGIN:STANDARD
TZOFFSETFROM:-0500
TZOFFSETTO:-0600
TZNAME:CST
DTSTART:20251102T070000
END:STANDARD
BEGIN:DAYLIGHT
TZOFFSETFROM:-0600
TZOFFSETTO:-0500
TZNAME:CDT
DTSTART:20260308T080000
END:DAYLIGHT
BEGIN:STANDARD
TZOFFSETFROM:-0500
TZOFFSETTO:-0600
TZNAME:CST
DTSTART:20261101T070000
END:STANDARD
END:VTIMEZONE
BEGIN:VEVENT
DTSTART;TZID=America/Chicago:20250414T130000
DTEND;TZID=America/Chicago:20250414T140000
DTSTAMP:20260423T173837
CREATED:20230403T190559Z
LAST-MODIFIED:20230404T002937Z
UID:24472-1744635600-1744639200@womenagainstmilitarymadness.org
SUMMARY:Funds for Human Needs\, Not War!
DESCRIPTION:Funds for Human Needs\, Not War! \nSaturday\, April 15\, 2023\, 1:00 pm\nMayday Plaza\, 301 Cedar Ave in Minneapolis 55454 \nSay No to Endless U.S. Wars:\nRussia\, China\, Ukraine\, Syria\, Iraq\, Somalia —Everywhere!\nSay No to Nuclear War and World War 3!\nANTI-WAR PROTEST\nSaturday\, April 15\, 2023\n1:00 pm\nMayday Plaza\n3rd Street and Cedar Ave\non the West Bank\, Minneapolis\n(301 Cedar Ave South)\n\nSend an anti-war message on Tax Day!\nMinneapolis event initiated by Minnesota Peace Action Coalition.\nFor more information\, 612-827-5364\n\n\n	Related
URL:https://womenagainstmilitarymadness.org/events/funds-for-human-needs-not-war/
LOCATION:301 Cedar Ave S\, Minneapolis\, MN 55454-1030\, 301 Cedar Ave S\, Minneapolis\, MN\, 55454\, United States
CATEGORIES:Featured Events,Upcoming Events
ATTACH;FMTTYPE=image/jpeg:https://womenagainstmilitarymadness.org/wp-content/uploads/2023/04/Rally-2-scaled-1.jpeg
END:VEVENT
END:VCALENDAR