BEGIN:VCALENDAR
VERSION:2.0
PRODID:-//Women Against Military Madness - ECPv6.15.20//NONSGML v1.0//EN
CALSCALE:GREGORIAN
METHOD:PUBLISH
X-WR-CALNAME:Women Against Military Madness
X-ORIGINAL-URL:https://womenagainstmilitarymadness.org
X-WR-CALDESC:Events for Women Against Military Madness
REFRESH-INTERVAL;VALUE=DURATION:PT1H
X-Robots-Tag:noindex
X-PUBLISHED-TTL:PT1H
BEGIN:VTIMEZONE
TZID:America/Chicago
BEGIN:DAYLIGHT
TZOFFSETFROM:-0600
TZOFFSETTO:-0500
TZNAME:CDT
DTSTART:20240310T080000
END:DAYLIGHT
BEGIN:STANDARD
TZOFFSETFROM:-0500
TZOFFSETTO:-0600
TZNAME:CST
DTSTART:20241103T070000
END:STANDARD
BEGIN:DAYLIGHT
TZOFFSETFROM:-0600
TZOFFSETTO:-0500
TZNAME:CDT
DTSTART:20250309T080000
END:DAYLIGHT
BEGIN:STANDARD
TZOFFSETFROM:-0500
TZOFFSETTO:-0600
TZNAME:CST
DTSTART:20251102T070000
END:STANDARD
BEGIN:DAYLIGHT
TZOFFSETFROM:-0600
TZOFFSETTO:-0500
TZNAME:CDT
DTSTART:20260308T080000
END:DAYLIGHT
BEGIN:STANDARD
TZOFFSETFROM:-0500
TZOFFSETTO:-0600
TZNAME:CST
DTSTART:20261101T070000
END:STANDARD
END:VTIMEZONE
BEGIN:VEVENT
DTSTART;TZID=America/Chicago:20250316T100000
DTEND;TZID=America/Chicago:20250316T113000
DTSTAMP:20260423T221644
CREATED:20240305T201153Z
LAST-MODIFIED:20240305T201153Z
UID:27076-1742119200-1742124600@womenagainstmilitarymadness.org
SUMMARY:Gaza in Context: Past\, Present and Future
DESCRIPTION:Saturday\, March 16\, 2024\, 10:00 AM\, Online\, Click here to register\n\n\n\nNathan will discuss Gaza and its context in the present war with Israel. He will talk about the political parties in Palestine and their role in Palestinian governance. He has a wealth of personal experience from his time living and working in Gaza during the second intifada. Nathan Stock is a non-resident scholar at the Middle East Institute. Prior to joining MEI he spent nine years working for former President Carter’s organization\, The Carter Center. He then moved to Jerusalem to run the Center’s Israel-Palestine Field Office. Stock led Carter Center efforts to facilitate the reunification of the Palestinian political system and designed and managed projects targeting the Fatah-Hamas conflict. During the Al-Aqsa Intifada\, he lived in the Gaza Strip\, working with a Palestinian NGO to design and fundraise for conflict resolution programs targeting the Palestinian community.\n\nPlease email mepn@mepn.org with any questions.\n\n\n\n	Related
URL:https://womenagainstmilitarymadness.org/events/gaza-in-context-past-present-and-future/
LOCATION:Online Event
CATEGORIES:Featured Events,Sponsored Events,Upcoming Events
ATTACH;FMTTYPE=image/png:https://womenagainstmilitarymadness.org/wp-content/uploads/2023/10/bd4f6101-0d06-4da4-935f-c6a64218002b.png
ORGANIZER;CN="Middle East Peace Now":MAILTO:mepn@mepn.org
END:VEVENT
END:VCALENDAR