BEGIN:VCALENDAR
VERSION:2.0
PRODID:-//Women Against Military Madness - ECPv6.15.20//NONSGML v1.0//EN
CALSCALE:GREGORIAN
METHOD:PUBLISH
X-WR-CALNAME:Women Against Military Madness
X-ORIGINAL-URL:https://womenagainstmilitarymadness.org
X-WR-CALDESC:Events for Women Against Military Madness
REFRESH-INTERVAL;VALUE=DURATION:PT1H
X-Robots-Tag:noindex
X-PUBLISHED-TTL:PT1H
BEGIN:VTIMEZONE
TZID:America/Chicago
BEGIN:DAYLIGHT
TZOFFSETFROM:-0600
TZOFFSETTO:-0500
TZNAME:CDT
DTSTART:20240310T080000
END:DAYLIGHT
BEGIN:STANDARD
TZOFFSETFROM:-0500
TZOFFSETTO:-0600
TZNAME:CST
DTSTART:20241103T070000
END:STANDARD
BEGIN:DAYLIGHT
TZOFFSETFROM:-0600
TZOFFSETTO:-0500
TZNAME:CDT
DTSTART:20250309T080000
END:DAYLIGHT
BEGIN:STANDARD
TZOFFSETFROM:-0500
TZOFFSETTO:-0600
TZNAME:CST
DTSTART:20251102T070000
END:STANDARD
BEGIN:DAYLIGHT
TZOFFSETFROM:-0600
TZOFFSETTO:-0500
TZNAME:CDT
DTSTART:20260308T080000
END:DAYLIGHT
BEGIN:STANDARD
TZOFFSETFROM:-0500
TZOFFSETTO:-0600
TZNAME:CST
DTSTART:20261101T070000
END:STANDARD
END:VTIMEZONE
BEGIN:VEVENT
DTSTART;VALUE=DATE:20251120
DTEND;VALUE=DATE:20251121
DTSTAMP:20260423T221009
CREATED:20251110T205620Z
LAST-MODIFIED:20251110T205629Z
UID:33089-1763596800-1763683199@womenagainstmilitarymadness.org
SUMMARY:Give to the Max Day 2025
DESCRIPTION:Thursday\, November 20\, 2025\, All day\, Online at givemn.org \nGive to the Max started in 2009 as a one-time campaign to mark the launch of GiveMN.org\, Minnesota’s digital home for generosity. The results of that day—$14 million raised in just 24 hours—blew everyone’s expectations out of the water\, and a new Minnesota tradition was born. In fact\, Give to the Max was one of the nation’s first online giving days and now serves as a national model for giving days across the country. In the years since\, nearly one million donors have given more than $355 million to 14\,000 nonprofits and schools as part of Minnesota’s giving holiday. \nMark your calendars—Give to the Max Day returns for a 17th year on Thursday\, November 20\, 2025\, with Early Giving beginning on November 1. Visit GiveMN.org during that time to follow along with totals\, see prize winners\, and have your generosity counted as part of this year’s campaign. \nVisit WAMM’s page to donate and learn more about our mission at https://www.givemn.org/organization/Wamm\n\n\n	Related
URL:https://womenagainstmilitarymadness.org/events/give-to-the-max-day-2025/
LOCATION:Online Event
CATEGORIES:Featured Events,Upcoming Events
ATTACH;FMTTYPE=image/webp:https://womenagainstmilitarymadness.org/wp-content/uploads/2025/11/gtmd25_ig.webp
END:VEVENT
END:VCALENDAR