BEGIN:VCALENDAR
VERSION:2.0
PRODID:-//Women Against Military Madness - ECPv6.15.20//NONSGML v1.0//EN
CALSCALE:GREGORIAN
METHOD:PUBLISH
X-WR-CALNAME:Women Against Military Madness
X-ORIGINAL-URL:https://womenagainstmilitarymadness.org
X-WR-CALDESC:Events for Women Against Military Madness
REFRESH-INTERVAL;VALUE=DURATION:PT1H
X-Robots-Tag:noindex
X-PUBLISHED-TTL:PT1H
BEGIN:VTIMEZONE
TZID:America/Chicago
BEGIN:DAYLIGHT
TZOFFSETFROM:-0600
TZOFFSETTO:-0500
TZNAME:CDT
DTSTART:20240310T080000
END:DAYLIGHT
BEGIN:STANDARD
TZOFFSETFROM:-0500
TZOFFSETTO:-0600
TZNAME:CST
DTSTART:20241103T070000
END:STANDARD
BEGIN:DAYLIGHT
TZOFFSETFROM:-0600
TZOFFSETTO:-0500
TZNAME:CDT
DTSTART:20250309T080000
END:DAYLIGHT
BEGIN:STANDARD
TZOFFSETFROM:-0500
TZOFFSETTO:-0600
TZNAME:CST
DTSTART:20251102T070000
END:STANDARD
BEGIN:DAYLIGHT
TZOFFSETFROM:-0600
TZOFFSETTO:-0500
TZNAME:CDT
DTSTART:20260308T080000
END:DAYLIGHT
BEGIN:STANDARD
TZOFFSETFROM:-0500
TZOFFSETTO:-0600
TZNAME:CST
DTSTART:20261101T070000
END:STANDARD
END:VTIMEZONE
BEGIN:VEVENT
DTSTART;TZID=America/Chicago:20251025T190000
DTEND;TZID=America/Chicago:20251025T230000
DTSTAMP:20260425T062737
CREATED:20251024T224913Z
LAST-MODIFIED:20251024T224913Z
UID:32696-1761418800-1761433200@womenagainstmilitarymadness.org
SUMMARY:HALLOWEEN FUNDRAISER AND DANCE PARTY
DESCRIPTION:Saturday\, October 25th\, 7-11 pm\, Lucy Parsons Center\, 4100 S 28th Ave\, Minneapolis \nHalloween party & fundraiser for the amazing folks over at Wrongfully Incarcerated & Over-Sentenced Families Council MN \nCostume contest\, cash bar\, raffle & a spoooooky good time \n\n\n	Related
URL:https://womenagainstmilitarymadness.org/events/halloween-fundraiser-and-dance-party/
LOCATION:Lucy Parsons Center\, 4100 28th Ave S\, Minneapolis\, MN\, 55407\, United States
CATEGORIES:Featured Events,Upcoming Events
ATTACH;FMTTYPE=image/webp:https://womenagainstmilitarymadness.org/wp-content/uploads/2025/10/unnamed2.webp
ORGANIZER;CN="Twin Cities Coalition for Justice":MAILTO:TherealTCC4J@gmail.com
END:VEVENT
END:VCALENDAR