BEGIN:VCALENDAR
VERSION:2.0
PRODID:-//Women Against Military Madness - ECPv6.15.20//NONSGML v1.0//EN
CALSCALE:GREGORIAN
METHOD:PUBLISH
X-WR-CALNAME:Women Against Military Madness
X-ORIGINAL-URL:https://womenagainstmilitarymadness.org
X-WR-CALDESC:Events for Women Against Military Madness
REFRESH-INTERVAL;VALUE=DURATION:PT1H
X-Robots-Tag:noindex
X-PUBLISHED-TTL:PT1H
BEGIN:VTIMEZONE
TZID:America/Chicago
BEGIN:DAYLIGHT
TZOFFSETFROM:-0600
TZOFFSETTO:-0500
TZNAME:CDT
DTSTART:20240310T080000
END:DAYLIGHT
BEGIN:STANDARD
TZOFFSETFROM:-0500
TZOFFSETTO:-0600
TZNAME:CST
DTSTART:20241103T070000
END:STANDARD
BEGIN:DAYLIGHT
TZOFFSETFROM:-0600
TZOFFSETTO:-0500
TZNAME:CDT
DTSTART:20250309T080000
END:DAYLIGHT
BEGIN:STANDARD
TZOFFSETFROM:-0500
TZOFFSETTO:-0600
TZNAME:CST
DTSTART:20251102T070000
END:STANDARD
BEGIN:DAYLIGHT
TZOFFSETFROM:-0600
TZOFFSETTO:-0500
TZNAME:CDT
DTSTART:20260308T080000
END:DAYLIGHT
BEGIN:STANDARD
TZOFFSETFROM:-0500
TZOFFSETTO:-0600
TZNAME:CST
DTSTART:20261101T070000
END:STANDARD
END:VTIMEZONE
BEGIN:VEVENT
DTSTART;TZID=America/Chicago:20250504T193000
DTEND;TZID=America/Chicago:20250504T210000
DTSTAMP:20260425T211323
CREATED:20240426T195124Z
LAST-MODIFIED:20240426T195124Z
UID:27364-1746387000-1746392400@womenagainstmilitarymadness.org
SUMMARY:"Handy Dandy" Performance Fundraiser
DESCRIPTION:Saturday\, May 4\, 2024\, 7:30 pm\, St Albert the Great Church\, 2836 33rd Ave S\, Mpls \nAlternately funny and touching\, this masterful play (Handy Dandy\, by William Gibson) uses the unlikely and slowly developing friendship between a worldly District Court Judge and an aging\, radical nun to point up the terrible threat inherent in the nuclear policies pursued by so-called civilized nations. More at: https://www.dramatists.com/cgi-bin/db/single.asp?key=1096 \nA staged reading of a nuclear comedy\, featuring Elizabeth Streiff and Mark Rosenwinkel\, where the proceeds will go to Social Justice Ministries of St Albert the Great Church! Suggested donation $10 \nFor more information or to book your own performance fundraiser event\, contact Mark Rosenwinkel\, 612-508-0982\, markwinkel@aol.com \n  \n\n\n	Related
URL:https://womenagainstmilitarymadness.org/events/handy-dandy-performance-fundraiser/
LOCATION:St Albert the Great Catholic Church\, 3216 East 29th St\, Minneapolis\, 55406\, United States
CATEGORIES:Featured Events,Sponsored Events,Upcoming Events
ATTACH;FMTTYPE=image/png:https://womenagainstmilitarymadness.org/wp-content/uploads/2024/04/Screenshot-2024-04-26-at-2.50.07 PM.png
END:VEVENT
END:VCALENDAR