BEGIN:VCALENDAR
VERSION:2.0
PRODID:-//Women Against Military Madness - ECPv6.15.20//NONSGML v1.0//EN
CALSCALE:GREGORIAN
METHOD:PUBLISH
X-WR-CALNAME:Women Against Military Madness
X-ORIGINAL-URL:https://womenagainstmilitarymadness.org
X-WR-CALDESC:Events for Women Against Military Madness
REFRESH-INTERVAL;VALUE=DURATION:PT1H
X-Robots-Tag:noindex
X-PUBLISHED-TTL:PT1H
BEGIN:VTIMEZONE
TZID:America/Chicago
BEGIN:DAYLIGHT
TZOFFSETFROM:-0600
TZOFFSETTO:-0500
TZNAME:CDT
DTSTART:20240310T080000
END:DAYLIGHT
BEGIN:STANDARD
TZOFFSETFROM:-0500
TZOFFSETTO:-0600
TZNAME:CST
DTSTART:20241103T070000
END:STANDARD
BEGIN:DAYLIGHT
TZOFFSETFROM:-0600
TZOFFSETTO:-0500
TZNAME:CDT
DTSTART:20250309T080000
END:DAYLIGHT
BEGIN:STANDARD
TZOFFSETFROM:-0500
TZOFFSETTO:-0600
TZNAME:CST
DTSTART:20251102T070000
END:STANDARD
BEGIN:DAYLIGHT
TZOFFSETFROM:-0600
TZOFFSETTO:-0500
TZNAME:CDT
DTSTART:20260308T080000
END:DAYLIGHT
BEGIN:STANDARD
TZOFFSETFROM:-0500
TZOFFSETTO:-0600
TZNAME:CST
DTSTART:20261101T070000
END:STANDARD
END:VTIMEZONE
BEGIN:VEVENT
DTSTART;TZID=America/Chicago:20251017T173000
DTEND;TZID=America/Chicago:20251017T193000
DTSTAMP:20260423T235433
CREATED:20241014T173229Z
LAST-MODIFIED:20241014T173229Z
UID:28938-1760722200-1760729400@womenagainstmilitarymadness.org
SUMMARY:Healthcare Justice in Palestine
DESCRIPTION:Thursday\, October 17\, 2024\, 5:30 – 7:30 pm\, Rapson Hall room 100\, 89 Church St SE\, Minneapolis\, MN 55455 \nSave the date!!! Join us to learn about healthcare Justice in Palestine from Palestinian and Palestine Solidarity healthcare professionals. \n⏰ October 17\, 5:30-7:30 pm\n📍Rapson Hall\, Room 100. UMN. 89 Church St SE\, Minneapolis\, MN 55455 \nAdvocacy is rooted in literacy. It has never been more important to learn about Palestine\, connect in community\, and then speak up in every space we can. Racist erasure thrives on our ignorance when we are cut off from each other and from knowledge. It thrives on replacing principled resistance with apathy and convincing us to despair. Resist this. \nJoin @ejpumn for an evening of connection in community\, liberatory learning\, and a reminder of our certainty of freedom. We all have a role in striving towards liberation. All of us or none of us. 🇵🇸 \nOrganized by Educators for Justice in Palestine – UMN\, SJP UMN and UMN SDS \n\n\n	Related
URL:https://womenagainstmilitarymadness.org/events/healthcare-justice-in-palestine/
LOCATION:Rapson Hall\, 89 Church Street SE\, Minneapolis\, MN\, 55455\, United States
CATEGORIES:Featured Events,Sponsored Events,Upcoming Events
ATTACH;FMTTYPE=image/jpeg:https://womenagainstmilitarymadness.org/wp-content/uploads/2024/10/744289ef-b45c-8f44-59c1-a81022415f27.jpg
END:VEVENT
END:VCALENDAR