BEGIN:VCALENDAR
VERSION:2.0
PRODID:-//Women Against Military Madness - ECPv6.15.20//NONSGML v1.0//EN
CALSCALE:GREGORIAN
METHOD:PUBLISH
X-WR-CALNAME:Women Against Military Madness
X-ORIGINAL-URL:https://womenagainstmilitarymadness.org
X-WR-CALDESC:Events for Women Against Military Madness
REFRESH-INTERVAL;VALUE=DURATION:PT1H
X-Robots-Tag:noindex
X-PUBLISHED-TTL:PT1H
BEGIN:VTIMEZONE
TZID:America/Chicago
BEGIN:DAYLIGHT
TZOFFSETFROM:-0600
TZOFFSETTO:-0500
TZNAME:CDT
DTSTART:20210314T080000
END:DAYLIGHT
BEGIN:STANDARD
TZOFFSETFROM:-0500
TZOFFSETTO:-0600
TZNAME:CST
DTSTART:20211107T070000
END:STANDARD
BEGIN:DAYLIGHT
TZOFFSETFROM:-0600
TZOFFSETTO:-0500
TZNAME:CDT
DTSTART:20220313T080000
END:DAYLIGHT
BEGIN:STANDARD
TZOFFSETFROM:-0500
TZOFFSETTO:-0600
TZNAME:CST
DTSTART:20221106T070000
END:STANDARD
BEGIN:DAYLIGHT
TZOFFSETFROM:-0600
TZOFFSETTO:-0500
TZNAME:CDT
DTSTART:20230312T080000
END:DAYLIGHT
BEGIN:STANDARD
TZOFFSETFROM:-0500
TZOFFSETTO:-0600
TZNAME:CST
DTSTART:20231105T070000
END:STANDARD
END:VTIMEZONE
BEGIN:VEVENT
DTSTART;TZID=America/Chicago:20220629T190000
DTEND;TZID=America/Chicago:20220629T203000
DTSTAMP:20260423T161053
CREATED:20220614T135058Z
LAST-MODIFIED:20220628T151836Z
UID:22452-1656529200-1656534600@womenagainstmilitarymadness.org
SUMMARY:How to Travel to Cuba
DESCRIPTION:Wednesday\, June 29\, 7:00-8:30 pm\nOnline Event – Facebook Live\n\nZoom link: https://us02web.zoom.us/…/tZwvfuqorz8pHtYmuS6AwLGBXpD5X…\n\nThe event will also be live streamed on Facebook.\n\nThe Solidarity Committee on the Americas (SCOTA) is organizing a solidarity delegation to Cuba for sometime in the fall. It will be open to Minnesotans as well as people from other locations.\n\n\nWe know that some of our potential travelers have never been to Cuba and have questions about how it all works\, from the nuts and bolts of passports and currency to how you can learn a lot\, and support the Cuban people while complying with U.S. regulations.\n\n\nSix members of SCOTA traveled to Cuba last February and we are organizing Zoom meetings to share information about our trip and to answer questions about what you can expect. \nSee less\n\n\n\n	Related
URL:https://womenagainstmilitarymadness.org/events/how-to-travel-to-cuba/
LOCATION:Online Event
CATEGORIES:Featured Events,Upcoming Events
ATTACH;FMTTYPE=image/jpeg:https://womenagainstmilitarymadness.org/wp-content/uploads/2022/06/cuba.jpeg
ORGANIZER;CN="Women Against Military Madness":MAILTO:general@wamm.me
END:VEVENT
END:VCALENDAR