BEGIN:VCALENDAR
VERSION:2.0
PRODID:-//Women Against Military Madness - ECPv6.15.20//NONSGML v1.0//EN
CALSCALE:GREGORIAN
METHOD:PUBLISH
X-WR-CALNAME:Women Against Military Madness
X-ORIGINAL-URL:https://womenagainstmilitarymadness.org
X-WR-CALDESC:Events for Women Against Military Madness
REFRESH-INTERVAL;VALUE=DURATION:PT1H
X-Robots-Tag:noindex
X-PUBLISHED-TTL:PT1H
BEGIN:VTIMEZONE
TZID:America/Chicago
BEGIN:DAYLIGHT
TZOFFSETFROM:-0600
TZOFFSETTO:-0500
TZNAME:CDT
DTSTART:20240310T080000
END:DAYLIGHT
BEGIN:STANDARD
TZOFFSETFROM:-0500
TZOFFSETTO:-0600
TZNAME:CST
DTSTART:20241103T070000
END:STANDARD
BEGIN:DAYLIGHT
TZOFFSETFROM:-0600
TZOFFSETTO:-0500
TZNAME:CDT
DTSTART:20250309T080000
END:DAYLIGHT
BEGIN:STANDARD
TZOFFSETFROM:-0500
TZOFFSETTO:-0600
TZNAME:CST
DTSTART:20251102T070000
END:STANDARD
BEGIN:DAYLIGHT
TZOFFSETFROM:-0600
TZOFFSETTO:-0500
TZNAME:CDT
DTSTART:20260308T080000
END:DAYLIGHT
BEGIN:STANDARD
TZOFFSETFROM:-0500
TZOFFSETTO:-0600
TZNAME:CST
DTSTART:20261101T070000
END:STANDARD
END:VTIMEZONE
BEGIN:VEVENT
DTSTART;TZID=America/Chicago:20251010T183000
DTEND;TZID=America/Chicago:20251010T200000
DTSTAMP:20260423T161117
CREATED:20231004T151920Z
LAST-MODIFIED:20231011T153218Z
UID:26266-1760121000-1760126400@womenagainstmilitarymadness.org
SUMMARY:I Surrender\, a Memoir of Chile's Dictatorship
DESCRIPTION:Wednesday\, October 11\,  6:30 pm\, Carondelet Center \n1890 Randolph Avenue\, St. Paul\, MN \nTwo years after a CIA-assisted coup overthrew the democratically-elected president of Chile\, Kathleen Osberger\, a Notre Dame graduate and lay volunteer\, went to Santiago to teach in a Catholic grade school. Upon arrival she was told a secret: the religious she would live with sheltered dissidents targeted by Pinochet’s secret police. Soon events crescendo\, and Osberger is handed a blindfold\, a warrant\, and must go on the run. Join us for this author’s reflection on the inspiring witness to the Chilean people\, the Catholic Church and the modern human rights movement.\n\nBooks can be purchased from Orbis Books or can be purchase with cash at the event.\n\nFFI: CSJ Justice Office —mroers@csjstpaul.org\nFacebook\n\n\n	Related
URL:https://womenagainstmilitarymadness.org/events/i-surrender-a-memoir-of-chiles-dictatorship/
LOCATION:Carondelet Center\, 1890 Randolph Avenue\, St Paul\, MN\, 55105\, United States
CATEGORIES:Featured Events,Upcoming Events
ATTACH;FMTTYPE=image/png:https://womenagainstmilitarymadness.org/wp-content/uploads/2023/10/download-1.png
ORGANIZER;CN="SCOTA":MAILTO:solidaritycommitteeofamericas@gmail.com
END:VEVENT
END:VCALENDAR