BEGIN:VCALENDAR
VERSION:2.0
PRODID:-//Women Against Military Madness - ECPv6.15.20//NONSGML v1.0//EN
CALSCALE:GREGORIAN
METHOD:PUBLISH
X-WR-CALNAME:Women Against Military Madness
X-ORIGINAL-URL:https://womenagainstmilitarymadness.org
X-WR-CALDESC:Events for Women Against Military Madness
REFRESH-INTERVAL;VALUE=DURATION:PT1H
X-Robots-Tag:noindex
X-PUBLISHED-TTL:PT1H
BEGIN:VTIMEZONE
TZID:America/Chicago
BEGIN:DAYLIGHT
TZOFFSETFROM:-0600
TZOFFSETTO:-0500
TZNAME:CDT
DTSTART:20240310T080000
END:DAYLIGHT
BEGIN:STANDARD
TZOFFSETFROM:-0500
TZOFFSETTO:-0600
TZNAME:CST
DTSTART:20241103T070000
END:STANDARD
BEGIN:DAYLIGHT
TZOFFSETFROM:-0600
TZOFFSETTO:-0500
TZNAME:CDT
DTSTART:20250309T080000
END:DAYLIGHT
BEGIN:STANDARD
TZOFFSETFROM:-0500
TZOFFSETTO:-0600
TZNAME:CST
DTSTART:20251102T070000
END:STANDARD
BEGIN:DAYLIGHT
TZOFFSETFROM:-0600
TZOFFSETTO:-0500
TZNAME:CDT
DTSTART:20260308T080000
END:DAYLIGHT
BEGIN:STANDARD
TZOFFSETFROM:-0500
TZOFFSETTO:-0600
TZNAME:CST
DTSTART:20261101T070000
END:STANDARD
END:VTIMEZONE
BEGIN:VEVENT
DTSTART;TZID=America/Chicago:20251208T170000
DTEND;TZID=America/Chicago:20251208T180000
DTSTAMP:20260423T232020
CREATED:20251203T193705Z
LAST-MODIFIED:20251203T193705Z
UID:33130-1765213200-1765216800@womenagainstmilitarymadness.org
SUMMARY:ICE out! Hands off Muslim Immigrants! Rally in Solidarity with our Somali & Afghan Communities!
DESCRIPTION:Monday\, December 8\, 5 PM\, 301 Cedar Ave S\, Minneapolis \nOn Monday\, December 8\, community members and organizations from the MN Free Palestine Coalition will hold a rally to stand in solidarity with our Somali and Afghan communities. Trump has made racist remarks about both communities and has threatened to deport Somali and Afghan immigrants. MPD Chief O’Hara has also made racist remarks about Somali youth. We demand that MN politicians protect our Somali and Afghan communities\, rather than endangering them with racist comments and empty press conferences! We demand an immediate separation ordinance to protect all MN residents from ICE raids! Come out and say no to fascism! No ICE in our cities! No racist attacks on Muslim immigrants! Free Palestine! \nOrganized by the Free Palestine Coalition \n\n\n	Related
URL:https://womenagainstmilitarymadness.org/events/ice-out-hands-off-muslim-immigrants-rally-in-solidarity-with-our-somali-afghan-communities/
LOCATION:301 Cedar Ave S\, Minneapolis\, MN 55454-1030\, 301 Cedar Ave S\, Minneapolis\, MN\, 55454\, United States
CATEGORIES:Featured Events,Upcoming Events
ATTACH;FMTTYPE=image/webp:https://womenagainstmilitarymadness.org/wp-content/uploads/2025/12/HandsOff.webp
END:VEVENT
END:VCALENDAR