BEGIN:VCALENDAR
VERSION:2.0
PRODID:-//Women Against Military Madness - ECPv6.15.20//NONSGML v1.0//EN
CALSCALE:GREGORIAN
METHOD:PUBLISH
X-WR-CALNAME:Women Against Military Madness
X-ORIGINAL-URL:https://womenagainstmilitarymadness.org
X-WR-CALDESC:Events for Women Against Military Madness
REFRESH-INTERVAL;VALUE=DURATION:PT1H
X-Robots-Tag:noindex
X-PUBLISHED-TTL:PT1H
BEGIN:VTIMEZONE
TZID:America/Chicago
BEGIN:DAYLIGHT
TZOFFSETFROM:-0600
TZOFFSETTO:-0500
TZNAME:CDT
DTSTART:20250309T080000
END:DAYLIGHT
BEGIN:STANDARD
TZOFFSETFROM:-0500
TZOFFSETTO:-0600
TZNAME:CST
DTSTART:20251102T070000
END:STANDARD
BEGIN:DAYLIGHT
TZOFFSETFROM:-0600
TZOFFSETTO:-0500
TZNAME:CDT
DTSTART:20260308T080000
END:DAYLIGHT
BEGIN:STANDARD
TZOFFSETFROM:-0500
TZOFFSETTO:-0600
TZNAME:CST
DTSTART:20261101T070000
END:STANDARD
BEGIN:DAYLIGHT
TZOFFSETFROM:-0600
TZOFFSETTO:-0500
TZNAME:CDT
DTSTART:20270314T080000
END:DAYLIGHT
BEGIN:STANDARD
TZOFFSETFROM:-0500
TZOFFSETTO:-0600
TZNAME:CST
DTSTART:20271107T070000
END:STANDARD
END:VTIMEZONE
BEGIN:VEVENT
DTSTART;TZID=America/Chicago:20260123T140000
DTEND;TZID=America/Chicago:20260123T160000
DTSTAMP:20260423T192209
CREATED:20260122T225518Z
LAST-MODIFIED:20260122T225518Z
UID:33403-1769176800-1769184000@womenagainstmilitarymadness.org
SUMMARY:ICE Out of MN Day of Action
DESCRIPTION:Friday\, January 23\, 2 PM\, The Commons Park\, 425 Portland Ave S\, Minneapolis \nWAMM will be joining the general call for no work\, no school\, no shopping and ALL OUT for a day of action to demand ICE OUT OF MN! The people are ready to stop everything to demand and end to ICE terror! We will be joining with other grassroots and nonprofit immigrant rights organizations\, unions\, businesses\, and community members to take to the streets at 2 pm for a large march in downtown Minneapolis! \n\n\n	Related
URL:https://womenagainstmilitarymadness.org/events/ice-out-of-mn-day-of-action/
LOCATION:The Commons\, 425 Portland Ave S\, Minneapolis\, MN\, 55488\, United States
CATEGORIES:Featured Events,Upcoming Events
ATTACH;FMTTYPE=image/webp:https://womenagainstmilitarymadness.org/wp-content/uploads/2026/01/GeneralStrike.webp
END:VEVENT
END:VCALENDAR