BEGIN:VCALENDAR
VERSION:2.0
PRODID:-//Women Against Military Madness - ECPv6.15.20//NONSGML v1.0//EN
CALSCALE:GREGORIAN
METHOD:PUBLISH
X-WR-CALNAME:Women Against Military Madness
X-ORIGINAL-URL:https://womenagainstmilitarymadness.org
X-WR-CALDESC:Events for Women Against Military Madness
REFRESH-INTERVAL;VALUE=DURATION:PT1H
X-Robots-Tag:noindex
X-PUBLISHED-TTL:PT1H
BEGIN:VTIMEZONE
TZID:America/Chicago
BEGIN:DAYLIGHT
TZOFFSETFROM:-0600
TZOFFSETTO:-0500
TZNAME:CDT
DTSTART:20210314T080000
END:DAYLIGHT
BEGIN:STANDARD
TZOFFSETFROM:-0500
TZOFFSETTO:-0600
TZNAME:CST
DTSTART:20211107T070000
END:STANDARD
BEGIN:DAYLIGHT
TZOFFSETFROM:-0600
TZOFFSETTO:-0500
TZNAME:CDT
DTSTART:20220313T080000
END:DAYLIGHT
BEGIN:STANDARD
TZOFFSETFROM:-0500
TZOFFSETTO:-0600
TZNAME:CST
DTSTART:20221106T070000
END:STANDARD
BEGIN:DAYLIGHT
TZOFFSETFROM:-0600
TZOFFSETTO:-0500
TZNAME:CDT
DTSTART:20230312T080000
END:DAYLIGHT
BEGIN:STANDARD
TZOFFSETFROM:-0500
TZOFFSETTO:-0600
TZNAME:CST
DTSTART:20231105T070000
END:STANDARD
END:VTIMEZONE
BEGIN:VEVENT
DTSTART;TZID=America/Chicago:20220407T073000
DTEND;TZID=America/Chicago:20220407T083000
DTSTAMP:20260423T162050
CREATED:20220106T213915Z
LAST-MODIFIED:20220406T123315Z
UID:19669-1649316600-1649320200@womenagainstmilitarymadness.org
SUMMARY:ICE Vigil
DESCRIPTION:Changing to Thursday. \nWe noticed there hasn’t been any vans in a while and we have been told that immigration court is usually on Thursday mornings. So we are changing the weekly vigil to Thursdays. \nPlease wear masks and maintain social distancing. \nVigil Day and Time: Thursday Morning  7:30 – 8:30 am. \nLocation: ICE entrance Bishop Henry Whipple Federal Building\, Meet at the Fort Snelling Light Rail station on Minnehaha Ave. (GPS 6000 Minnehaha Ave.) \nInformation: 612-827-53645 \nKeep families together. Welcome immigrants. Demilitarize the Border. Signs are available or bring your own. See our Facebook page for more information. \nWAMM gathers at the I.C.E. driveway entrance where we stand in solidarity with refugees and immigrants who are facing persecution and detention throughout the United States. Inside is where immigrants’ lives are determined in court. Come to the Fort Snelling light rail station and you’ll be able to see where we are. \nOn the Second Tuesdays of the month\, the vigil is at a nearby location in front of the Bishop Whipple Building. This event is sponsored by the organization ICOM (Interfaith Coalition on Immigration). These two groups are NOT connected except some of the people attend both vigils. \n\n\n	Related
URL:https://womenagainstmilitarymadness.org/events/ice-vigil-2022-04-07/
LOCATION:Bishop Henry Whipple Federal Building\, 1 Federal Drive\, Saint Paul\, Minneapolis\, MN\, 55407\, United States
CATEGORIES:Featured Events,Recurring Events
ATTACH;FMTTYPE=image/jpeg:https://womenagainstmilitarymadness.org/wp-content/uploads/2022/01/97515228_3409973112346062_2564234078601609216_o.jpeg
ORGANIZER;CN="Women Against Military Madness":MAILTO:general@wamm.me
END:VEVENT
END:VCALENDAR