BEGIN:VCALENDAR
VERSION:2.0
PRODID:-//Women Against Military Madness - ECPv6.15.20//NONSGML v1.0//EN
CALSCALE:GREGORIAN
METHOD:PUBLISH
X-WR-CALNAME:Women Against Military Madness
X-ORIGINAL-URL:https://womenagainstmilitarymadness.org
X-WR-CALDESC:Events for Women Against Military Madness
REFRESH-INTERVAL;VALUE=DURATION:PT1H
X-Robots-Tag:noindex
X-PUBLISHED-TTL:PT1H
BEGIN:VTIMEZONE
TZID:America/Chicago
BEGIN:DAYLIGHT
TZOFFSETFROM:-0600
TZOFFSETTO:-0500
TZNAME:CDT
DTSTART:20220313T080000
END:DAYLIGHT
BEGIN:STANDARD
TZOFFSETFROM:-0500
TZOFFSETTO:-0600
TZNAME:CST
DTSTART:20221106T070000
END:STANDARD
BEGIN:DAYLIGHT
TZOFFSETFROM:-0600
TZOFFSETTO:-0500
TZNAME:CDT
DTSTART:20230312T080000
END:DAYLIGHT
BEGIN:STANDARD
TZOFFSETFROM:-0500
TZOFFSETTO:-0600
TZNAME:CST
DTSTART:20231105T070000
END:STANDARD
BEGIN:DAYLIGHT
TZOFFSETFROM:-0600
TZOFFSETTO:-0500
TZNAME:CDT
DTSTART:20240310T080000
END:DAYLIGHT
BEGIN:STANDARD
TZOFFSETFROM:-0500
TZOFFSETTO:-0600
TZNAME:CST
DTSTART:20241103T070000
END:STANDARD
END:VTIMEZONE
BEGIN:VEVENT
DTSTART;TZID=America/Chicago:20230228T073000
DTEND;TZID=America/Chicago:20230228T083000
DTSTAMP:20260423T175715
CREATED:20220106T213915Z
LAST-MODIFIED:20220616T191922Z
UID:10001961-1677569400-1677573000@womenagainstmilitarymadness.org
SUMMARY:ICE Weekly Vigil
DESCRIPTION:The ICE Weekly Vigil occurs every Tuesday morning from 7:30-8:30 am at the Bishop Henry Whipple Federal Building. \nVigil Day and Time: Tuesday Morning  7:30 – 8:30 am. \nLocation: Outside the I.C.E. entrance on Minnehaha Ave next to the Fort Snelling Light Rail Station. \nInformation: 612-827-5364 \nKeep families together. Welcome immigrants. Demilitarize the Border. \nSigns are available or bring your own. Maintain social distancing. See our Facebook page for more information. \nHuman Rights activists hold vigil outside the I.C.E. entrance on Minnehaha Ave next to the Fort Snelling Light Rail Station. The regional headquarters for ICE is located in the Bishop Henry Whipple Federal Building where immigration court is also held. Detainees are transported from around the state and sometimes deported right after the hearing. Signs provided in support of immigration reform: Citizenship for DACA\, Asylum is a Human Right\, Demilitarize the Border\, No Human Being is Illegal\, No More ICE\, etc. \n\n\n	Related
URL:https://womenagainstmilitarymadness.org/events/ice-vigil/2023-02-28/
LOCATION:Bishop Henry Whipple Federal Building\, 1 Federal Drive\, Saint Paul\, Minneapolis\, MN\, 55407\, United States
CATEGORIES:Recurring Events
ATTACH;FMTTYPE=image/jpeg:https://womenagainstmilitarymadness.org/wp-content/uploads/2022/01/ICEVigilImage.jpg
ORGANIZER;CN="Women Against Military Madness":MAILTO:general@wamm.me
END:VEVENT
END:VCALENDAR