BEGIN:VCALENDAR
VERSION:2.0
PRODID:-//Women Against Military Madness - ECPv6.15.20//NONSGML v1.0//EN
CALSCALE:GREGORIAN
METHOD:PUBLISH
X-WR-CALNAME:Women Against Military Madness
X-ORIGINAL-URL:https://womenagainstmilitarymadness.org
X-WR-CALDESC:Events for Women Against Military Madness
REFRESH-INTERVAL;VALUE=DURATION:PT1H
X-Robots-Tag:noindex
X-PUBLISHED-TTL:PT1H
BEGIN:VTIMEZONE
TZID:America/Chicago
BEGIN:DAYLIGHT
TZOFFSETFROM:-0600
TZOFFSETTO:-0500
TZNAME:CDT
DTSTART:20220313T080000
END:DAYLIGHT
BEGIN:STANDARD
TZOFFSETFROM:-0500
TZOFFSETTO:-0600
TZNAME:CST
DTSTART:20221106T070000
END:STANDARD
BEGIN:DAYLIGHT
TZOFFSETFROM:-0600
TZOFFSETTO:-0500
TZNAME:CDT
DTSTART:20230312T080000
END:DAYLIGHT
BEGIN:STANDARD
TZOFFSETFROM:-0500
TZOFFSETTO:-0600
TZNAME:CST
DTSTART:20231105T070000
END:STANDARD
BEGIN:DAYLIGHT
TZOFFSETFROM:-0600
TZOFFSETTO:-0500
TZNAME:CDT
DTSTART:20240310T080000
END:DAYLIGHT
BEGIN:STANDARD
TZOFFSETFROM:-0500
TZOFFSETTO:-0600
TZNAME:CST
DTSTART:20241103T070000
END:STANDARD
END:VTIMEZONE
BEGIN:VEVENT
DTSTART;TZID=America/Chicago:20230110T073000
DTEND;TZID=America/Chicago:20230110T090000
DTSTAMP:20260423T174409
CREATED:20220107T143210Z
LAST-MODIFIED:20220708T164814Z
UID:10002195-1673335800-1673341200@womenagainstmilitarymadness.org
SUMMARY:ICOM Monthly Vigil
DESCRIPTION:The ICOM Monthly Vigil takes place once a month at the Bishop Henry Whipple Federal Building. \n\nMeetings: Second Tuesday of the month from 7:30-9 am\nLocation: Bishop Henry Whipple Federal Building \n\nPlease wear masks and maintain social distancing. \nOn the second Tuesday of the month from 7:30-9am\, the WAMM ICE vigil joins with the Interfaith Community on Immigration (ICOM). \n* Masks are required. BYO signs.\n* Meet us at the South “ICE Only” gates \nSponsored by the Interfaith Coalition on Immigrant Rights (ICOM) \nSee their Facebook page \n\n\n\n\n\n\n\n	Related
URL:https://womenagainstmilitarymadness.org/events/icom-vigil/2023-01-10/
LOCATION:Bishop Henry Whipple Federal Building\, 1 Federal Drive\, Saint Paul\, Minneapolis\, MN\, 55407\, United States
CATEGORIES:Recurring Events
ATTACH;FMTTYPE=image/jpeg:https://womenagainstmilitarymadness.org/wp-content/uploads/2022/01/ICOM-Vigil.jpeg
END:VEVENT
END:VCALENDAR