BEGIN:VCALENDAR
VERSION:2.0
PRODID:-//Women Against Military Madness - ECPv6.15.20//NONSGML v1.0//EN
CALSCALE:GREGORIAN
METHOD:PUBLISH
X-WR-CALNAME:Women Against Military Madness
X-ORIGINAL-URL:https://womenagainstmilitarymadness.org
X-WR-CALDESC:Events for Women Against Military Madness
REFRESH-INTERVAL;VALUE=DURATION:PT1H
X-Robots-Tag:noindex
X-PUBLISHED-TTL:PT1H
BEGIN:VTIMEZONE
TZID:America/Chicago
BEGIN:DAYLIGHT
TZOFFSETFROM:-0600
TZOFFSETTO:-0500
TZNAME:CDT
DTSTART:20250309T080000
END:DAYLIGHT
BEGIN:STANDARD
TZOFFSETFROM:-0500
TZOFFSETTO:-0600
TZNAME:CST
DTSTART:20251102T070000
END:STANDARD
BEGIN:DAYLIGHT
TZOFFSETFROM:-0600
TZOFFSETTO:-0500
TZNAME:CDT
DTSTART:20260308T080000
END:DAYLIGHT
BEGIN:STANDARD
TZOFFSETFROM:-0500
TZOFFSETTO:-0600
TZNAME:CST
DTSTART:20261101T070000
END:STANDARD
BEGIN:DAYLIGHT
TZOFFSETFROM:-0600
TZOFFSETTO:-0500
TZNAME:CDT
DTSTART:20270314T080000
END:DAYLIGHT
BEGIN:STANDARD
TZOFFSETFROM:-0500
TZOFFSETTO:-0600
TZNAME:CST
DTSTART:20271107T070000
END:STANDARD
END:VTIMEZONE
BEGIN:VEVENT
DTSTART;TZID=America/Chicago:20260113T190000
DTEND;TZID=America/Chicago:20260113T200000
DTSTAMP:20260423T192226
CREATED:20241217T202736Z
LAST-MODIFIED:20241217T202736Z
UID:29129-1768330800-1768334400@womenagainstmilitarymadness.org
SUMMARY:"Immigrant Prisons" Film Screening\, Demand Legalization for All!
DESCRIPTION:Monday\, January 13\, 2025\, 7:00 PM\, 4200 Cedar Ave S\, Mpls\, MN\n\nThree short video clips about the disastrous deportation plan of the incoming administration and one short film “Immigrant Prisons” from 2017 will be shown in January.*The ACLU has filed a lawsuit against U.S. Immigrations and Customs Enforcement seeking information on mass deportations. ACLU National Legal Director Cecillia Wang joins José Díaz-Balart to explain.*Majority Report: Trump’s Deportation Plans; Prepping For Next 4 Years w/ Aaron Reichlin Melnick (American Immigration Council).*Richard Wolff: Trump’s deportation plans will destroy the economy.*”Immigrant Prisons” Documentary • BRAVE NEW FILMS (BNF) 14 min 2017 (during Trump’s first term)\n\n\nConnecting the dots…discussionAlways FREE and open to the publicALL ARE WELCOME! Free refreshments!Organized by the WAMM Movie Committee\n\n\n	Related
URL:https://womenagainstmilitarymadness.org/events/immigrant-prisons-film-screening-demand-legalization-for-all/
LOCATION:4200 Cedar Ave S\, Minneapolis MN 55407\, 4200 Cedar Ave S\, Minneapolis\, MN\, 55407\, United States
CATEGORIES:Featured Events,Upcoming Events
ATTACH;FMTTYPE=image/jpeg:https://womenagainstmilitarymadness.org/wp-content/uploads/2024/12/Banner_VertPoster_ImmigrantPrisons_02.jpg
END:VEVENT
END:VCALENDAR